BEGIN:VCALENDAR
VERSION:2.0
PRODID:-//The Coon Club - ECPv6.15.20//NONSGML v1.0//EN
CALSCALE:GREGORIAN
METHOD:PUBLISH
X-WR-CALNAME:The Coon Club
X-ORIGINAL-URL:https://thecoonclub.com
X-WR-CALDESC:Events for The Coon Club
REFRESH-INTERVAL;VALUE=DURATION:PT1H
X-Robots-Tag:noindex
X-PUBLISHED-TTL:PT1H
BEGIN:VTIMEZONE
TZID:America/New_York
BEGIN:DAYLIGHT
TZOFFSETFROM:-0500
TZOFFSETTO:-0400
TZNAME:EDT
DTSTART:20230312T070000
END:DAYLIGHT
BEGIN:STANDARD
TZOFFSETFROM:-0400
TZOFFSETTO:-0500
TZNAME:EST
DTSTART:20231105T060000
END:STANDARD
BEGIN:DAYLIGHT
TZOFFSETFROM:-0500
TZOFFSETTO:-0400
TZNAME:EDT
DTSTART:20240310T070000
END:DAYLIGHT
BEGIN:STANDARD
TZOFFSETFROM:-0400
TZOFFSETTO:-0500
TZNAME:EST
DTSTART:20241103T060000
END:STANDARD
BEGIN:DAYLIGHT
TZOFFSETFROM:-0500
TZOFFSETTO:-0400
TZNAME:EDT
DTSTART:20250309T070000
END:DAYLIGHT
BEGIN:STANDARD
TZOFFSETFROM:-0400
TZOFFSETTO:-0500
TZNAME:EST
DTSTART:20251102T060000
END:STANDARD
END:VTIMEZONE
BEGIN:VEVENT
DTSTART;TZID=America/New_York:20241123T190000
DTEND;TZID=America/New_York:20241124T003000
DTSTAMP:20260420T155726
CREATED:20240816T190808Z
LAST-MODIFIED:20241122T222525Z
UID:735-1732388400-1732408200@thecoonclub.com
SUMMARY:Red Dirt Revolution
DESCRIPTION:High Energy County Music Alert\n**OPEN TO THE PUBLIC** \nNovember 23rd\, “Red Dirt Revolution” plays all of your favorite modern country music hits as well performing their own material at The Coon Club.   Delicious Food\, Large Selection of Cold BEER\, WINE COOLERS & SELTZERS.   Doors open at 7:00 pm\, music 8:30 pm –  12:30 pm.  Always open to the public.  21+ Only. \nTheir Website
URL:https://thecoonclub.com/event/red-dirt-revolution-2/
LOCATION:The Coon Club\, 2855 Coon Club Rd\, Hampstead\, MD\, 21074\, United States
CATEGORIES:Entertainment
ATTACH;FMTTYPE=image/jpeg:https://thecoonclub.com/wp-content/uploads/2024/05/rdr-2023.jpg
END:VEVENT
END:VCALENDAR