BEGIN:VCALENDAR
VERSION:2.0
PRODID:-//The Coon Club - ECPv6.15.20//NONSGML v1.0//EN
CALSCALE:GREGORIAN
METHOD:PUBLISH
X-WR-CALNAME:The Coon Club
X-ORIGINAL-URL:https://thecoonclub.com
X-WR-CALDESC:Events for The Coon Club
REFRESH-INTERVAL;VALUE=DURATION:PT1H
X-Robots-Tag:noindex
X-PUBLISHED-TTL:PT1H
BEGIN:VTIMEZONE
TZID:America/New_York
BEGIN:DAYLIGHT
TZOFFSETFROM:-0500
TZOFFSETTO:-0400
TZNAME:EDT
DTSTART:20250309T070000
END:DAYLIGHT
BEGIN:STANDARD
TZOFFSETFROM:-0400
TZOFFSETTO:-0500
TZNAME:EST
DTSTART:20251102T060000
END:STANDARD
BEGIN:DAYLIGHT
TZOFFSETFROM:-0500
TZOFFSETTO:-0400
TZNAME:EDT
DTSTART:20260308T070000
END:DAYLIGHT
BEGIN:STANDARD
TZOFFSETFROM:-0400
TZOFFSETTO:-0500
TZNAME:EST
DTSTART:20261101T060000
END:STANDARD
BEGIN:DAYLIGHT
TZOFFSETFROM:-0500
TZOFFSETTO:-0400
TZNAME:EDT
DTSTART:20270314T070000
END:DAYLIGHT
BEGIN:STANDARD
TZOFFSETFROM:-0400
TZOFFSETTO:-0500
TZNAME:EST
DTSTART:20271107T060000
END:STANDARD
END:VTIMEZONE
BEGIN:VEVENT
DTSTART;TZID=America/New_York:20260214T190000
DTEND;TZID=America/New_York:20260215T003000
DTSTAMP:20260422T031648
CREATED:20251224T135018Z
LAST-MODIFIED:20251224T135018Z
UID:1568-1771095600-1771115400@thecoonclub.com
SUMMARY:Grand Illusions/Heartless "Styx" & "Heart" Tribute
DESCRIPTION:Valentines Dance\nGrand Illusions/Heartless a “Styx” & “Heart” Tribute Band\n**OPEN TO THE PUBLIC** \nFebruary 14th\, “Grand Illusions/Heartless” a STYX and HEART tribute band plays at The Coon Club.   Delicious Food by Little Donny’s BBQ.   Large Selection of Cold BEER (Special $2 Coors Light)\, WINE COOLERS & SELTZERS.   Doors open at 7:00 pm\, music 8:30 pm – 12:30 pm.  Always open to the public.  21+ Only. \nTheir Website
URL:https://thecoonclub.com/event/grand-illusions-heartless-styx-heart-tribute-2/
LOCATION:The Coon Club\, 2855 Coon Club Rd\, Hampstead\, MD\, 21074\, United States
CATEGORIES:Entertainment
ATTACH;FMTTYPE=image/webp:https://thecoonclub.com/wp-content/uploads/2024/12/Grand_Illusion.webp
END:VEVENT
END:VCALENDAR