BEGIN:VCALENDAR
VERSION:2.0
PRODID:-//The Coon Club - ECPv6.15.20//NONSGML v1.0//EN
CALSCALE:GREGORIAN
METHOD:PUBLISH
X-WR-CALNAME:The Coon Club
X-ORIGINAL-URL:https://thecoonclub.com
X-WR-CALDESC:Events for The Coon Club
REFRESH-INTERVAL;VALUE=DURATION:PT1H
X-Robots-Tag:noindex
X-PUBLISHED-TTL:PT1H
BEGIN:VTIMEZONE
TZID:America/New_York
BEGIN:DAYLIGHT
TZOFFSETFROM:-0500
TZOFFSETTO:-0400
TZNAME:EDT
DTSTART:20230312T070000
END:DAYLIGHT
BEGIN:STANDARD
TZOFFSETFROM:-0400
TZOFFSETTO:-0500
TZNAME:EST
DTSTART:20231105T060000
END:STANDARD
BEGIN:DAYLIGHT
TZOFFSETFROM:-0500
TZOFFSETTO:-0400
TZNAME:EDT
DTSTART:20240310T070000
END:DAYLIGHT
BEGIN:STANDARD
TZOFFSETFROM:-0400
TZOFFSETTO:-0500
TZNAME:EST
DTSTART:20241103T060000
END:STANDARD
BEGIN:DAYLIGHT
TZOFFSETFROM:-0500
TZOFFSETTO:-0400
TZNAME:EDT
DTSTART:20250309T070000
END:DAYLIGHT
BEGIN:STANDARD
TZOFFSETFROM:-0400
TZOFFSETTO:-0500
TZNAME:EST
DTSTART:20251102T060000
END:STANDARD
BEGIN:DAYLIGHT
TZOFFSETFROM:-0500
TZOFFSETTO:-0400
TZNAME:EDT
DTSTART:20260308T070000
END:DAYLIGHT
BEGIN:STANDARD
TZOFFSETFROM:-0400
TZOFFSETTO:-0500
TZNAME:EST
DTSTART:20261101T060000
END:STANDARD
BEGIN:DAYLIGHT
TZOFFSETFROM:-0500
TZOFFSETTO:-0400
TZNAME:EDT
DTSTART:20270314T070000
END:DAYLIGHT
BEGIN:STANDARD
TZOFFSETFROM:-0400
TZOFFSETTO:-0500
TZNAME:EST
DTSTART:20271107T060000
END:STANDARD
END:VTIMEZONE
BEGIN:VEVENT
DTSTART;TZID=America/New_York:20260406T190000
DTEND;TZID=America/New_York:20260406T210000
DTSTAMP:20260419T222933
CREATED:20260206T125056Z
LAST-MODIFIED:20260206T125056Z
UID:1694-1775502000-1775509200@thecoonclub.com
SUMMARY:Monthly Membership Meeting
DESCRIPTION:Monthly Membership Meeting \nStarting at 7:00 PM
URL:https://thecoonclub.com/event/monthly-membership-meeting/
LOCATION:The Coon Club\, 2855 Coon Club Rd\, Hampstead\, MD\, 21074\, United States
CATEGORIES:Club Meeting
ATTACH;FMTTYPE=image/png:https://thecoonclub.com/wp-content/uploads/2024/04/The-Coon-Club-Logo-sm.png
END:VEVENT
BEGIN:VEVENT
DTSTART;TZID=America/New_York:20260302T190000
DTEND;TZID=America/New_York:20260302T210000
DTSTAMP:20260419T222933
CREATED:20260119T202036Z
LAST-MODIFIED:20260206T124941Z
UID:1655-1772478000-1772485200@thecoonclub.com
SUMMARY:Monthly Membership Meeting
DESCRIPTION:Monthly Membership Meeting \nStarting at 7:00 PM
URL:https://thecoonclub.com/event/general-club-meeting-17/
LOCATION:The Coon Club\, 2855 Coon Club Rd\, Hampstead\, MD\, 21074\, United States
CATEGORIES:Club Meeting
ATTACH;FMTTYPE=image/png:https://thecoonclub.com/wp-content/uploads/2024/04/The-Coon-Club-Logo-sm.png
END:VEVENT
BEGIN:VEVENT
DTSTART;TZID=America/New_York:20260202T190000
DTEND;TZID=America/New_York:20260202T210000
DTSTAMP:20260419T222933
CREATED:20251121T203852Z
LAST-MODIFIED:20251121T203852Z
UID:1508-1770058800-1770066000@thecoonclub.com
SUMMARY:General Club Meeting
DESCRIPTION:Monthly Club Meeting \nStarting at 7:00 PM
URL:https://thecoonclub.com/event/general-club-meeting-16/
LOCATION:The Coon Club\, 2855 Coon Club Rd\, Hampstead\, MD\, 21074\, United States
CATEGORIES:Club Meeting
ATTACH;FMTTYPE=image/png:https://thecoonclub.com/wp-content/uploads/2024/04/The-Coon-Club-Logo-sm.png
END:VEVENT
BEGIN:VEVENT
DTSTART;TZID=America/New_York:20260105T190000
DTEND;TZID=America/New_York:20260105T210000
DTSTAMP:20260419T222933
CREATED:20251121T203743Z
LAST-MODIFIED:20251121T203743Z
UID:1506-1767639600-1767646800@thecoonclub.com
SUMMARY:General Club Meeting
DESCRIPTION:Monthly Club Meeting \nStarting at 7:00 PM
URL:https://thecoonclub.com/event/general-club-meeting-15/
LOCATION:The Coon Club\, 2855 Coon Club Rd\, Hampstead\, MD\, 21074\, United States
CATEGORIES:Club Meeting
ATTACH;FMTTYPE=image/png:https://thecoonclub.com/wp-content/uploads/2024/04/The-Coon-Club-Logo-sm.png
END:VEVENT
BEGIN:VEVENT
DTSTART;VALUE=DATE:20251225
DTEND;VALUE=DATE:20251227
DTSTAMP:20260419T222933
CREATED:20251224T154724Z
LAST-MODIFIED:20251224T154859Z
UID:1600-1766628000-1766714399@thecoonclub.com
SUMMARY:Merry Christmas
DESCRIPTION:Merry Christmas\, you filthy animals!!!
URL:https://thecoonclub.com/event/christmas/
LOCATION:The Coon Club\, 2855 Coon Club Rd\, Hampstead\, MD\, 21074\, United States
CATEGORIES:Club Meeting
ATTACH;FMTTYPE=image/png:https://thecoonclub.com/wp-content/uploads/2024/04/The-Coon-Club-Logo-sm.png
END:VEVENT
BEGIN:VEVENT
DTSTART;TZID=America/New_York:20251201T190000
DTEND;TZID=America/New_York:20251201T210000
DTSTAMP:20260419T222933
CREATED:20250805T172844Z
LAST-MODIFIED:20250805T172844Z
UID:1289-1764615600-1764622800@thecoonclub.com
SUMMARY:General Club Meeting
DESCRIPTION:Our Monthly Club Meeting \nStarting at 7:00 PM
URL:https://thecoonclub.com/event/general-club-meeting-14/
LOCATION:The Coon Club\, 2855 Coon Club Rd\, Hampstead\, MD\, 21074\, United States
CATEGORIES:Club Meeting
ATTACH;FMTTYPE=image/png:https://thecoonclub.com/wp-content/uploads/2024/04/The-Coon-Club-Logo-sm.png
END:VEVENT
BEGIN:VEVENT
DTSTART;TZID=America/New_York:20251103T190000
DTEND;TZID=America/New_York:20251103T210000
DTSTAMP:20260419T222933
CREATED:20250805T172821Z
LAST-MODIFIED:20250805T172821Z
UID:1290-1762196400-1762203600@thecoonclub.com
SUMMARY:General Club Meeting
DESCRIPTION:Our Monthly Club Meeting \nStarting at 7:00 PM
URL:https://thecoonclub.com/event/general-club-meeting-13/
LOCATION:The Coon Club\, 2855 Coon Club Rd\, Hampstead\, MD\, 21074\, United States
CATEGORIES:Club Meeting
ATTACH;FMTTYPE=image/png:https://thecoonclub.com/wp-content/uploads/2024/04/The-Coon-Club-Logo-sm.png
END:VEVENT
BEGIN:VEVENT
DTSTART;TZID=America/New_York:20251006T190000
DTEND;TZID=America/New_York:20251006T210000
DTSTAMP:20260419T222933
CREATED:20250805T172723Z
LAST-MODIFIED:20250805T172723Z
UID:1287-1759777200-1759784400@thecoonclub.com
SUMMARY:General Club Meeting
DESCRIPTION:Our Monthly Club Meeting \nStarting at 7:00 PM
URL:https://thecoonclub.com/event/general-club-meeting-12/
LOCATION:The Coon Club\, 2855 Coon Club Rd\, Hampstead\, MD\, 21074\, United States
CATEGORIES:Club Meeting
ATTACH;FMTTYPE=image/png:https://thecoonclub.com/wp-content/uploads/2024/04/The-Coon-Club-Logo-sm.png
END:VEVENT
BEGIN:VEVENT
DTSTART;TZID=America/New_York:20250902T190000
DTEND;TZID=America/New_York:20250902T210000
DTSTAMP:20260419T222933
CREATED:20250805T170836Z
LAST-MODIFIED:20250805T170836Z
UID:1273-1756839600-1756846800@thecoonclub.com
SUMMARY:General Club Meeting
DESCRIPTION:Our Monthly Club Meeting \nStarting at 7:00 PM
URL:https://thecoonclub.com/event/general-club-meeting-11/
LOCATION:The Coon Club\, 2855 Coon Club Rd\, Hampstead\, MD\, 21074\, United States
CATEGORIES:Club Meeting
ATTACH;FMTTYPE=image/png:https://thecoonclub.com/wp-content/uploads/2024/04/The-Coon-Club-Logo-sm.png
END:VEVENT
BEGIN:VEVENT
DTSTART;TZID=America/New_York:20250804T190000
DTEND;TZID=America/New_York:20250804T210000
DTSTAMP:20260419T222933
CREATED:20250426T163410Z
LAST-MODIFIED:20250426T163410Z
UID:1189-1754334000-1754341200@thecoonclub.com
SUMMARY:General Club Meeting
DESCRIPTION:Our Monthly Club Meeting \nStarting at 7:00 PM
URL:https://thecoonclub.com/event/general-club-meeting-10/
LOCATION:The Coon Club\, 2855 Coon Club Rd\, Hampstead\, MD\, 21074\, United States
CATEGORIES:Club Meeting
ATTACH;FMTTYPE=image/png:https://thecoonclub.com/wp-content/uploads/2024/04/The-Coon-Club-Logo-sm.png
END:VEVENT
BEGIN:VEVENT
DTSTART;TZID=America/New_York:20250707T190000
DTEND;TZID=America/New_York:20250707T210000
DTSTAMP:20260419T222933
CREATED:20250426T163345Z
LAST-MODIFIED:20250426T163345Z
UID:1187-1751914800-1751922000@thecoonclub.com
SUMMARY:General Club Meeting
DESCRIPTION:Our Monthly Club Meeting \nStarting at 7:00 PM
URL:https://thecoonclub.com/event/general-club-meeting-9/
LOCATION:The Coon Club\, 2855 Coon Club Rd\, Hampstead\, MD\, 21074\, United States
CATEGORIES:Club Meeting
ATTACH;FMTTYPE=image/png:https://thecoonclub.com/wp-content/uploads/2024/04/The-Coon-Club-Logo-sm.png
END:VEVENT
BEGIN:VEVENT
DTSTART;TZID=America/New_York:20250602T190000
DTEND;TZID=America/New_York:20250602T210000
DTSTAMP:20260419T222933
CREATED:20250426T162227Z
LAST-MODIFIED:20250426T162227Z
UID:1167-1748890800-1748898000@thecoonclub.com
SUMMARY:General Club Meeting
DESCRIPTION:Our Monthly Club Meeting \nStarting at 7:00 PM
URL:https://thecoonclub.com/event/general-club-meeting-8/
LOCATION:The Coon Club\, 2855 Coon Club Rd\, Hampstead\, MD\, 21074\, United States
CATEGORIES:Club Meeting
ATTACH;FMTTYPE=image/png:https://thecoonclub.com/wp-content/uploads/2024/04/The-Coon-Club-Logo-sm.png
END:VEVENT
BEGIN:VEVENT
DTSTART;TZID=America/New_York:20250505T190000
DTEND;TZID=America/New_York:20250505T210000
DTSTAMP:20260419T222933
CREATED:20250410T134243Z
LAST-MODIFIED:20250410T134243Z
UID:1134-1746471600-1746478800@thecoonclub.com
SUMMARY:General Club Meeting
DESCRIPTION:Our Monthly Club Meeting \nStarting at 7:00 PM
URL:https://thecoonclub.com/event/general-club-meeting-7/
LOCATION:The Coon Club\, 2855 Coon Club Rd\, Hampstead\, MD\, 21074\, United States
CATEGORIES:Club Meeting
ATTACH;FMTTYPE=image/png:https://thecoonclub.com/wp-content/uploads/2024/04/The-Coon-Club-Logo-sm.png
END:VEVENT
BEGIN:VEVENT
DTSTART;TZID=America/New_York:20250407T190000
DTEND;TZID=America/New_York:20250407T210000
DTSTAMP:20260419T222933
CREATED:20250303T222157Z
LAST-MODIFIED:20250303T222157Z
UID:1076-1744052400-1744059600@thecoonclub.com
SUMMARY:General Club Meeting
DESCRIPTION:Our Monthly Club Meeting \nStarting at 7:00 PM
URL:https://thecoonclub.com/event/general-club-meeting-6/
LOCATION:The Coon Club\, 2855 Coon Club Rd\, Hampstead\, MD\, 21074\, United States
CATEGORIES:Club Meeting
ATTACH;FMTTYPE=image/png:https://thecoonclub.com/wp-content/uploads/2024/04/The-Coon-Club-Logo-sm.png
END:VEVENT
BEGIN:VEVENT
DTSTART;TZID=America/New_York:20250303T190000
DTEND;TZID=America/New_York:20250303T210000
DTSTAMP:20260419T222933
CREATED:20241226T160850Z
LAST-MODIFIED:20241226T160850Z
UID:958-1741028400-1741035600@thecoonclub.com
SUMMARY:General Club Meeting
DESCRIPTION:Our Monthly Club Meeting \nStarting at 7:00 PM
URL:https://thecoonclub.com/event/general-club-meeting-4/
LOCATION:The Coon Club\, 2855 Coon Club Rd\, Hampstead\, MD\, 21074\, United States
CATEGORIES:Club Meeting
ATTACH;FMTTYPE=image/png:https://thecoonclub.com/wp-content/uploads/2024/04/The-Coon-Club-Logo-sm.png
END:VEVENT
BEGIN:VEVENT
DTSTART;TZID=America/New_York:20250203T190000
DTEND;TZID=America/New_York:20250203T210000
DTSTAMP:20260419T222933
CREATED:20241226T160649Z
LAST-MODIFIED:20241226T160649Z
UID:956-1738609200-1738616400@thecoonclub.com
SUMMARY:General Club Meeting
DESCRIPTION:Our Monthly Club Meeting \nStarting at 7:00 PM
URL:https://thecoonclub.com/event/general-club-meeting-3/
LOCATION:The Coon Club\, 2855 Coon Club Rd\, Hampstead\, MD\, 21074\, United States
CATEGORIES:Club Meeting
ATTACH;FMTTYPE=image/png:https://thecoonclub.com/wp-content/uploads/2024/04/The-Coon-Club-Logo-sm.png
END:VEVENT
BEGIN:VEVENT
DTSTART;TZID=America/New_York:20250114T190000
DTEND;TZID=America/New_York:20250114T210000
DTSTAMP:20260419T222933
CREATED:20250106T194954Z
LAST-MODIFIED:20250106T194954Z
UID:1011-1736881200-1736888400@thecoonclub.com
SUMMARY:General Club Meeting
DESCRIPTION:Our Monthly Club Meeting \nStarting at 7:00 PM
URL:https://thecoonclub.com/event/general-club-meeting-5/
LOCATION:The Coon Club\, 2855 Coon Club Rd\, Hampstead\, MD\, 21074\, United States
CATEGORIES:Club Meeting
ATTACH;FMTTYPE=image/png:https://thecoonclub.com/wp-content/uploads/2024/04/The-Coon-Club-Logo-sm.png
END:VEVENT
BEGIN:VEVENT
DTSTART;TZID=America/New_York:20250106T190000
DTEND;TZID=America/New_York:20250106T210000
DTSTAMP:20260419T222933
CREATED:20241226T160610Z
LAST-MODIFIED:20250106T194919Z
UID:954-1736190000-1736197200@thecoonclub.com
SUMMARY:General Club Meeting *Rescheduled to 1/14*
DESCRIPTION:Our Monthly Club Meeting \nStarting at 7:00 PM
URL:https://thecoonclub.com/event/general-club-meeting-2/
LOCATION:The Coon Club\, 2855 Coon Club Rd\, Hampstead\, MD\, 21074\, United States
CATEGORIES:Club Meeting
ATTACH;FMTTYPE=image/png:https://thecoonclub.com/wp-content/uploads/2024/04/The-Coon-Club-Logo-sm.png
END:VEVENT
BEGIN:VEVENT
DTSTART;TZID=America/New_York:20241202T190000
DTEND;TZID=America/New_York:20241202T210000
DTSTAMP:20260419T222933
CREATED:20241008T210914Z
LAST-MODIFIED:20241008T210914Z
UID:840-1733166000-1733173200@thecoonclub.com
SUMMARY:General Club Meeting
DESCRIPTION:Our Monthly Club Meeting \nStarting at 7:00 PM
URL:https://thecoonclub.com/event/general-club-meeting/
LOCATION:The Coon Club\, 2855 Coon Club Rd\, Hampstead\, MD\, 21074\, United States
CATEGORIES:Club Meeting
ATTACH;FMTTYPE=image/png:https://thecoonclub.com/wp-content/uploads/2024/04/The-Coon-Club-Logo-sm.png
END:VEVENT
BEGIN:VEVENT
DTSTART;TZID=America/New_York:20241104T190000
DTEND;TZID=America/New_York:20241104T210000
DTSTAMP:20260419T222933
CREATED:20240829T150550Z
LAST-MODIFIED:20241008T210824Z
UID:763-1730746800-1730754000@thecoonclub.com
SUMMARY:General Club Meeting
DESCRIPTION:Our Monthly Club Meeting \nStarting at 7:00 PM
URL:https://thecoonclub.com/event/club-meeting-6/
LOCATION:The Coon Club\, 2855 Coon Club Rd\, Hampstead\, MD\, 21074\, United States
CATEGORIES:Club Meeting
ATTACH;FMTTYPE=image/png:https://thecoonclub.com/wp-content/uploads/2024/04/The-Coon-Club-Logo-sm.png
END:VEVENT
BEGIN:VEVENT
DTSTART;TZID=America/New_York:20241007T190000
DTEND;TZID=America/New_York:20241007T210000
DTSTAMP:20260419T222933
CREATED:20240829T150440Z
LAST-MODIFIED:20240829T150440Z
UID:761-1728327600-1728334800@thecoonclub.com
SUMMARY:Club Meeting
DESCRIPTION:Our Monthly Club Meeting \nStarting at 7:00 PM
URL:https://thecoonclub.com/event/club-meeting-5/
LOCATION:The Coon Club\, 2855 Coon Club Rd\, Hampstead\, MD\, 21074\, United States
CATEGORIES:Club Meeting
ATTACH;FMTTYPE=image/png:https://thecoonclub.com/wp-content/uploads/2024/04/The-Coon-Club-Logo-sm.png
END:VEVENT
BEGIN:VEVENT
DTSTART;TZID=America/New_York:20240925T190000
DTEND;TZID=America/New_York:20240925T210000
DTSTAMP:20260419T222933
CREATED:20240912T111737Z
LAST-MODIFIED:20240912T111737Z
UID:802-1727290800-1727298000@thecoonclub.com
SUMMARY:Board of Governors Meeting
DESCRIPTION:Board of Governors Meeting \nStarting at 7:00 PM
URL:https://thecoonclub.com/event/board-of-governors-meeting-2/
LOCATION:The Coon Club\, 2855 Coon Club Rd\, Hampstead\, MD\, 21074\, United States
CATEGORIES:Club Meeting
ATTACH;FMTTYPE=image/jpeg:https://thecoonclub.com/wp-content/uploads/2024/06/cropped-CoonClubLogo.jpg
END:VEVENT
BEGIN:VEVENT
DTSTART;TZID=America/New_York:20240903T190000
DTEND;TZID=America/New_York:20240903T210000
DTSTAMP:20260419T222933
CREATED:20240604T015855Z
LAST-MODIFIED:20240604T015855Z
UID:569-1725390000-1725397200@thecoonclub.com
SUMMARY:Club Meeting
DESCRIPTION:Our Monthly Club Meeting \nStarting at 7:00 PM
URL:https://thecoonclub.com/event/club-meeting-4/
LOCATION:The Coon Club\, 2855 Coon Club Rd\, Hampstead\, MD\, 21074\, United States
CATEGORIES:Club Meeting
ATTACH;FMTTYPE=image/png:https://thecoonclub.com/wp-content/uploads/2024/04/The-Coon-Club-Logo-sm.png
END:VEVENT
BEGIN:VEVENT
DTSTART;TZID=America/New_York:20240805T190000
DTEND;TZID=America/New_York:20240805T210000
DTSTAMP:20260419T222933
CREATED:20240604T015006Z
LAST-MODIFIED:20240604T024823Z
UID:559-1722884400-1722891600@thecoonclub.com
SUMMARY:Club Meeting
DESCRIPTION:Our Monthly Club Meeting \nStarting at 7:00 PM
URL:https://thecoonclub.com/event/club-meeting-3/
LOCATION:The Coon Club\, 2855 Coon Club Rd\, Hampstead\, MD\, 21074\, United States
CATEGORIES:Club Meeting
ATTACH;FMTTYPE=image/png:https://thecoonclub.com/wp-content/uploads/2024/04/The-Coon-Club-Logo-sm.png
END:VEVENT
BEGIN:VEVENT
DTSTART;TZID=America/New_York:20240701T190000
DTEND;TZID=America/New_York:20240701T210000
DTSTAMP:20260419T222933
CREATED:20240603T191304Z
LAST-MODIFIED:20240603T191304Z
UID:523-1719860400-1719867600@thecoonclub.com
SUMMARY:Club Meeting
DESCRIPTION:Our Monthly Club Meeting \nStarting at 7:00 PM
URL:https://thecoonclub.com/event/club-meeting-2/
LOCATION:The Coon Club\, 2855 Coon Club Rd\, Hampstead\, MD\, 21074\, United States
CATEGORIES:Club Meeting
ATTACH;FMTTYPE=image/png:https://thecoonclub.com/wp-content/uploads/2024/04/The-Coon-Club-Logo-sm.png
END:VEVENT
BEGIN:VEVENT
DTSTART;TZID=America/New_York:20240618T190000
DTEND;TZID=America/New_York:20240618T210000
DTSTAMP:20260419T222933
CREATED:20240611T203815Z
LAST-MODIFIED:20240611T203815Z
UID:627-1718737200-1718744400@thecoonclub.com
SUMMARY:Board of Governors Meeting
DESCRIPTION:Board of Governors Meeting \nStarting at 7:00 PM
URL:https://thecoonclub.com/event/board-of-governors-meeting/
LOCATION:The Coon Club\, 2855 Coon Club Rd\, Hampstead\, MD\, 21074\, United States
CATEGORIES:Club Meeting
ATTACH;FMTTYPE=image/jpeg:https://thecoonclub.com/wp-content/uploads/2024/06/cropped-CoonClubLogo.jpg
END:VEVENT
BEGIN:VEVENT
DTSTART;TZID=America/New_York:20240603T190000
DTEND;TZID=America/New_York:20240603T210000
DTSTAMP:20260419T222933
CREATED:20240530T230201Z
LAST-MODIFIED:20240530T230201Z
UID:504-1717441200-1717448400@thecoonclub.com
SUMMARY:Club Meeting
DESCRIPTION:Our Monthly Club Meeting \nStarting at 7:00 PM
URL:https://thecoonclub.com/event/club-meeting/
LOCATION:The Coon Club\, 2855 Coon Club Rd\, Hampstead\, MD\, 21074\, United States
CATEGORIES:Club Meeting
ATTACH;FMTTYPE=image/png:https://thecoonclub.com/wp-content/uploads/2024/04/The-Coon-Club-Logo-sm.png
END:VEVENT
END:VCALENDAR