BEGIN:VCALENDAR
VERSION:2.0
PRODID:-//The Coon Club - ECPv6.15.20//NONSGML v1.0//EN
CALSCALE:GREGORIAN
METHOD:PUBLISH
X-ORIGINAL-URL:https://thecoonclub.com
X-WR-CALDESC:Events for The Coon Club
REFRESH-INTERVAL;VALUE=DURATION:PT1H
X-Robots-Tag:noindex
X-PUBLISHED-TTL:PT1H
BEGIN:VTIMEZONE
TZID:America/New_York
BEGIN:DAYLIGHT
TZOFFSETFROM:-0500
TZOFFSETTO:-0400
TZNAME:EDT
DTSTART:20240310T070000
END:DAYLIGHT
BEGIN:STANDARD
TZOFFSETFROM:-0400
TZOFFSETTO:-0500
TZNAME:EST
DTSTART:20241103T060000
END:STANDARD
BEGIN:DAYLIGHT
TZOFFSETFROM:-0500
TZOFFSETTO:-0400
TZNAME:EDT
DTSTART:20250309T070000
END:DAYLIGHT
BEGIN:STANDARD
TZOFFSETFROM:-0400
TZOFFSETTO:-0500
TZNAME:EST
DTSTART:20251102T060000
END:STANDARD
BEGIN:DAYLIGHT
TZOFFSETFROM:-0500
TZOFFSETTO:-0400
TZNAME:EDT
DTSTART:20260308T070000
END:DAYLIGHT
BEGIN:STANDARD
TZOFFSETFROM:-0400
TZOFFSETTO:-0500
TZNAME:EST
DTSTART:20261101T060000
END:STANDARD
END:VTIMEZONE
BEGIN:VEVENT
DTSTART;TZID=America/New_York:20250201T190000
DTEND;TZID=America/New_York:20250202T003000
DTSTAMP:20260424T113754
CREATED:20241226T154424Z
LAST-MODIFIED:20241226T155442Z
UID:947-1738436400-1738456200@thecoonclub.com
SUMMARY:10th Annual "Shrimp Dance"
DESCRIPTION:10th Annual Shrimp Dance\nFebruary 1\, 2025\, Smokin’ Crow “Southern Rock\, Outlaw Country\, Classic Hard Rock & Boogie Woogie” at The Coon Club.   Delicious Steamed Shrimp\, Shrimp Salad\, Sandwiches and More. Large Selection of Cold BEER\, WINE COOLERS & SELTZERS.   Doors open at 7:00 pm\, music 8:30-12:30 pm. \nAlways open to the public.  21+ Only.
URL:https://thecoonclub.com/event/10th-annual-shrimp-dance/
LOCATION:The Coon Club\, 2855 Coon Club Rd\, Hampstead\, MD\, 21074\, United States
CATEGORIES:Entertainment
END:VEVENT
BEGIN:VEVENT
DTSTART;TZID=America/New_York:20250215T190000
DTEND;TZID=America/New_York:20250216T003000
DTSTAMP:20260424T113754
CREATED:20241227T205649Z
LAST-MODIFIED:20250129T135517Z
UID:983-1739646000-1739665800@thecoonclub.com
SUMMARY:Grand Illusions/Heartless "Styx" & "Heart" Tribute
DESCRIPTION:Special Valentines Lovers Concert\nGrand Illusions/Heartless a “Styx” & “Heart” Tribute Band\n**OPEN TO THE PUBLIC** \nFebruary 15th\, “Grand Illusions/Heartless” a STYX and HEART tribute band plays at The Coon Club.   Delicious Food by Little Donny’s BBQ.   Large Selection of Cold BEER (Special $2 Coors Light)\, WINE COOLERS & SELTZERS.   Doors open at 7:00 pm\, music 8:30 pm –  12:30 pm.  Always open to the public.  21+ Only. \nTheir Website
URL:https://thecoonclub.com/event/grand-illusions-heartless-styx-heart-tribute/
LOCATION:The Coon Club\, 2855 Coon Club Rd\, Hampstead\, MD\, 21074\, United States
CATEGORIES:Entertainment
ATTACH;FMTTYPE=image/webp:https://thecoonclub.com/wp-content/uploads/2024/12/Grand_Illusion.webp
END:VEVENT
BEGIN:VEVENT
DTSTART;TZID=America/New_York:20250222T150000
DTEND;TZID=America/New_York:20250222T200000
DTSTAMP:20260424T113754
CREATED:20241220T204537Z
LAST-MODIFIED:20241220T205206Z
UID:928-1740236400-1740254400@thecoonclub.com
SUMMARY:Bull\, Oyster\, Shrimp Roast
DESCRIPTION:**Bull/Oyster/Shrimp Roast**\nFeburary 22\, 2025\, All you can Eat…Pit Beef & Pit Ham\, Raw & Steamed Oysters\, Oyster Stew\, Steamed Shrimp\, Fried Chicken\, Salads and all the fixins.   Ticket also includes selected beer\, sodas\, coffee.  Cash bar also available. \nOnly $55.  Doors open at 3:00 pm.  Food: 4:00-7:00 pm.  DJ till 8:00pm.  Music\, Raffle\, Games & More.  21+ Only. \nTickets available now!!!   Call Brad @ 410-984-5289\, or Tony @ 443-821-9040
URL:https://thecoonclub.com/event/bull-oyster-shrimp-roast/
LOCATION:The Coon Club\, 2855 Coon Club Rd\, Hampstead\, MD\, 21074\, United States
CATEGORIES:Entertainment
END:VEVENT
END:VCALENDAR