BEGIN:VCALENDAR
VERSION:2.0
PRODID:-//The Coon Club - ECPv6.15.20//NONSGML v1.0//EN
CALSCALE:GREGORIAN
METHOD:PUBLISH
X-WR-CALNAME:The Coon Club
X-ORIGINAL-URL:https://thecoonclub.com
X-WR-CALDESC:Events for The Coon Club
REFRESH-INTERVAL;VALUE=DURATION:PT1H
X-Robots-Tag:noindex
X-PUBLISHED-TTL:PT1H
BEGIN:VTIMEZONE
TZID:America/New_York
BEGIN:DAYLIGHT
TZOFFSETFROM:-0500
TZOFFSETTO:-0400
TZNAME:EDT
DTSTART:20240310T070000
END:DAYLIGHT
BEGIN:STANDARD
TZOFFSETFROM:-0400
TZOFFSETTO:-0500
TZNAME:EST
DTSTART:20241103T060000
END:STANDARD
BEGIN:DAYLIGHT
TZOFFSETFROM:-0500
TZOFFSETTO:-0400
TZNAME:EDT
DTSTART:20250309T070000
END:DAYLIGHT
BEGIN:STANDARD
TZOFFSETFROM:-0400
TZOFFSETTO:-0500
TZNAME:EST
DTSTART:20251102T060000
END:STANDARD
BEGIN:DAYLIGHT
TZOFFSETFROM:-0500
TZOFFSETTO:-0400
TZNAME:EDT
DTSTART:20260308T070000
END:DAYLIGHT
BEGIN:STANDARD
TZOFFSETFROM:-0400
TZOFFSETTO:-0500
TZNAME:EST
DTSTART:20261101T060000
END:STANDARD
END:VTIMEZONE
BEGIN:VEVENT
DTSTART;TZID=America/New_York:20250816T150000
DTEND;TZID=America/New_York:20250816T200000
DTSTAMP:20260423T074411
CREATED:20250426T160354Z
LAST-MODIFIED:20250501T201032Z
UID:1147-1755356400-1755374400@thecoonclub.com
SUMMARY:CRAB FEAST
DESCRIPTION:August 16\, 2025\, Crab Feast.   Includes all you can eat Steamed Crabs and Steamed Shrimp\, Pit Beef\, Fried Chicken\, Fresh Local Corn on the Cob\, Potato Salad\, Cole Slaw and Homemade Crab Soup.   Ticket also includes selected beer (Yingling & Coors Light)\, sodas\, coffee.  Cash bar also available. \nOnly $70.  Doors open at 3:00 pm.  Food: 4:00-7:00 pm.  DJ till 8:00pm.  Music\, Raffle\, Games & More. \nTickets available now!!!   Call for tickets and additional information \nBrad @ 410-984-5289\nTony @ 443-821-9040\nDave @ 443-478-0230\nBernie @ 443-277-0772 \nScreenshot
URL:https://thecoonclub.com/event/bull-oyster-shrimp-roast-2/
LOCATION:The Coon Club\, 2855 Coon Club Rd\, Hampstead\, MD\, 21074\, United States
CATEGORIES:Entertainment
ATTACH;FMTTYPE=image/jpeg:https://thecoonclub.com/wp-content/uploads/2025/04/2025-Crabfeast-Header-2-.jpg
END:VEVENT
END:VCALENDAR