BEGIN:VCALENDAR
VERSION:2.0
PRODID:-//The Coon Club - ECPv6.15.20//NONSGML v1.0//EN
CALSCALE:GREGORIAN
METHOD:PUBLISH
X-WR-CALNAME:The Coon Club
X-ORIGINAL-URL:https://thecoonclub.com
X-WR-CALDESC:Events for The Coon Club
REFRESH-INTERVAL;VALUE=DURATION:PT1H
X-Robots-Tag:noindex
X-PUBLISHED-TTL:PT1H
BEGIN:VTIMEZONE
TZID:America/New_York
BEGIN:DAYLIGHT
TZOFFSETFROM:-0500
TZOFFSETTO:-0400
TZNAME:EDT
DTSTART:20250309T070000
END:DAYLIGHT
BEGIN:STANDARD
TZOFFSETFROM:-0400
TZOFFSETTO:-0500
TZNAME:EST
DTSTART:20251102T060000
END:STANDARD
BEGIN:DAYLIGHT
TZOFFSETFROM:-0500
TZOFFSETTO:-0400
TZNAME:EDT
DTSTART:20260308T070000
END:DAYLIGHT
BEGIN:STANDARD
TZOFFSETFROM:-0400
TZOFFSETTO:-0500
TZNAME:EST
DTSTART:20261101T060000
END:STANDARD
BEGIN:DAYLIGHT
TZOFFSETFROM:-0500
TZOFFSETTO:-0400
TZNAME:EDT
DTSTART:20270314T070000
END:DAYLIGHT
BEGIN:STANDARD
TZOFFSETFROM:-0400
TZOFFSETTO:-0500
TZNAME:EST
DTSTART:20271107T060000
END:STANDARD
END:VTIMEZONE
BEGIN:VEVENT
DTSTART;TZID=America/New_York:20260307T190000
DTEND;TZID=America/New_York:20260308T003000
DTSTAMP:20260421T195615
CREATED:20251224T140655Z
LAST-MODIFIED:20260303T213849Z
UID:1570-1772910000-1772929800@thecoonclub.com
SUMMARY:"Fade to Black" Metallica Tribute Band
DESCRIPTION:**OPEN TO THE PUBLIC** \nMarch 7th\, Fade to Black a Metallica Tribute Band rocks The Coon Club.  They don’t just play Metallica—they live it.  Fade to Black brings the raw energy\, crushing riffs\, and thunderous sound of Metallica to the stage with an intensity that punches through like a freight train.  From the blistering solos of “Master of Puppets” to the haunting echoes of “Fade to Black\,” they deliver the full-throttle experience fans crave—no gimmicks\, just metal.   Delicious Food\, Large Selection of Cold BEER\, WINE COOLERS & SELTZERS.   Doors open at 7:00 pm\, music 8:30-12:30 pm.  Always open to the public.  21+ Only. \nTheir Website \n \n 
URL:https://thecoonclub.com/event/fade-to-black-metallica-tribute-band/
LOCATION:The Coon Club\, 2855 Coon Club Rd\, Hampstead\, MD\, 21074\, United States
CATEGORIES:Entertainment
ATTACH;FMTTYPE=image/png:https://thecoonclub.com/wp-content/uploads/2025/12/FTBlogo-1.png
END:VEVENT
BEGIN:VEVENT
DTSTART;TZID=America/New_York:20260321T190000
DTEND;TZID=America/New_York:20260322T003000
DTSTAMP:20260421T195615
CREATED:20251224T141506Z
LAST-MODIFIED:20251224T141506Z
UID:1574-1774119600-1774139400@thecoonclub.com
SUMMARY:Steel "Rocks"
DESCRIPTION:**OPEN TO THE PUBLIC** \nMarch 21st\, Steel rocks The Coon Club.  Steel blends a creative mix of Hard Rock\, Heavy Metal\, Classic Rock\, and Modern Rock into their song list.  Steel is a band of seasoned veterans featuring former members of; Ashley Krump\, Karetaker\, Savage Bliss\, and Scary Mary.  The members of Steel have been the opening act for such national recording artist as; Yngwie Malmsteen\, Great White\, Blue Oyster Cult\, Jim Dandy\, Kix\, Lizzy Borden\, Slaughter\, and White Lion. Steel opens for numerous tribute bands including one of the biggest and best\, Back in Black.  Delicious Food\, Large Selection of Cold BEER\, WINE COOLERS & SELTZERS.   Doors open at 7:00 pm\, music 8:30-12:30 pm.  Always open to the public.  21+ Only. \nTheir Website \n \n 
URL:https://thecoonclub.com/event/steel-rocks-2/
LOCATION:The Coon Club\, 2855 Coon Club Rd\, Hampstead\, MD\, 21074\, United States
CATEGORIES:Entertainment
ATTACH;FMTTYPE=image/jpeg:https://thecoonclub.com/wp-content/uploads/2024/12/Steel_Band.jpg
END:VEVENT
BEGIN:VEVENT
DTSTART;TZID=America/New_York:20260328T190000
DTEND;TZID=America/New_York:20260329T003000
DTSTAMP:20260421T195615
CREATED:20251224T143356Z
LAST-MODIFIED:20251224T143928Z
UID:1578-1774724400-1774744200@thecoonclub.com
SUMMARY:"FireKite" Hi Energy Party Rock Band
DESCRIPTION:**OPEN TO THE PUBLIC** \nMarch 28th\, FireKite\, a high-energy party rock band\, delivers your favorite\, modern\, upbeat songs to the Coon Club. They will have the dance floor jumping\, singing\, moving\, and fun for everyone!!  They know you expect good music and they deliver\, with passionate vocals\, driving rhythms\, and on-stage chemistry that draws you in. Performing live is what they do and seeing you smile\, sing and dance is what they love.  So come out and meet Pamela (vocals)\, Rich (bass)\, Mark (guitar)\, Karras (drums)\, and Nate (keys) and see what the fun is all about!  Delicious Food\, Large Selection of Cold BEER\, WINE COOLERS & SELTZERS.   Doors open at 7:00 pm\, music 8:30-12:30 pm.  Always open to the public.  21+ Only. \nTheir Website \n \n 
URL:https://thecoonclub.com/event/firekite-hi-energy-party-rock-band/
LOCATION:The Coon Club\, 2855 Coon Club Rd\, Hampstead\, MD\, 21074\, United States
CATEGORIES:Entertainment
ATTACH;FMTTYPE=image/png:https://thecoonclub.com/wp-content/uploads/2025/12/fire-kite.png
END:VEVENT
END:VCALENDAR