BEGIN:VCALENDAR
VERSION:2.0
PRODID:-//The Coon Club - ECPv6.15.20//NONSGML v1.0//EN
CALSCALE:GREGORIAN
METHOD:PUBLISH
X-WR-CALNAME:The Coon Club
X-ORIGINAL-URL:https://thecoonclub.com
X-WR-CALDESC:Events for The Coon Club
REFRESH-INTERVAL;VALUE=DURATION:PT1H
X-Robots-Tag:noindex
X-PUBLISHED-TTL:PT1H
BEGIN:VTIMEZONE
TZID:America/New_York
BEGIN:DAYLIGHT
TZOFFSETFROM:-0500
TZOFFSETTO:-0400
TZNAME:EDT
DTSTART:20240310T070000
END:DAYLIGHT
BEGIN:STANDARD
TZOFFSETFROM:-0400
TZOFFSETTO:-0500
TZNAME:EST
DTSTART:20241103T060000
END:STANDARD
BEGIN:DAYLIGHT
TZOFFSETFROM:-0500
TZOFFSETTO:-0400
TZNAME:EDT
DTSTART:20250309T070000
END:DAYLIGHT
BEGIN:STANDARD
TZOFFSETFROM:-0400
TZOFFSETTO:-0500
TZNAME:EST
DTSTART:20251102T060000
END:STANDARD
BEGIN:DAYLIGHT
TZOFFSETFROM:-0500
TZOFFSETTO:-0400
TZNAME:EDT
DTSTART:20260308T070000
END:DAYLIGHT
BEGIN:STANDARD
TZOFFSETFROM:-0400
TZOFFSETTO:-0500
TZNAME:EST
DTSTART:20261101T060000
END:STANDARD
END:VTIMEZONE
BEGIN:VEVENT
DTSTART;TZID=America/New_York:20250201T190000
DTEND;TZID=America/New_York:20250202T003000
DTSTAMP:20260424T222752
CREATED:20241226T154424Z
LAST-MODIFIED:20241226T155442Z
UID:947-1738436400-1738456200@thecoonclub.com
SUMMARY:10th Annual "Shrimp Dance"
DESCRIPTION:10th Annual Shrimp Dance\nFebruary 1\, 2025\, Smokin’ Crow “Southern Rock\, Outlaw Country\, Classic Hard Rock & Boogie Woogie” at The Coon Club.   Delicious Steamed Shrimp\, Shrimp Salad\, Sandwiches and More. Large Selection of Cold BEER\, WINE COOLERS & SELTZERS.   Doors open at 7:00 pm\, music 8:30-12:30 pm. \nAlways open to the public.  21+ Only.
URL:https://thecoonclub.com/event/10th-annual-shrimp-dance/
LOCATION:The Coon Club\, 2855 Coon Club Rd\, Hampstead\, MD\, 21074\, United States
CATEGORIES:Entertainment
END:VEVENT
END:VCALENDAR