BEGIN:VCALENDAR
VERSION:2.0
PRODID:-//The Coon Club - ECPv6.15.20//NONSGML v1.0//EN
CALSCALE:GREGORIAN
METHOD:PUBLISH
X-ORIGINAL-URL:https://thecoonclub.com
X-WR-CALDESC:Events for The Coon Club
REFRESH-INTERVAL;VALUE=DURATION:PT1H
X-Robots-Tag:noindex
X-PUBLISHED-TTL:PT1H
BEGIN:VTIMEZONE
TZID:America/New_York
BEGIN:DAYLIGHT
TZOFFSETFROM:-0500
TZOFFSETTO:-0400
TZNAME:EDT
DTSTART:20240310T070000
END:DAYLIGHT
BEGIN:STANDARD
TZOFFSETFROM:-0400
TZOFFSETTO:-0500
TZNAME:EST
DTSTART:20241103T060000
END:STANDARD
BEGIN:DAYLIGHT
TZOFFSETFROM:-0500
TZOFFSETTO:-0400
TZNAME:EDT
DTSTART:20250309T070000
END:DAYLIGHT
BEGIN:STANDARD
TZOFFSETFROM:-0400
TZOFFSETTO:-0500
TZNAME:EST
DTSTART:20251102T060000
END:STANDARD
BEGIN:DAYLIGHT
TZOFFSETFROM:-0500
TZOFFSETTO:-0400
TZNAME:EDT
DTSTART:20260308T070000
END:DAYLIGHT
BEGIN:STANDARD
TZOFFSETFROM:-0400
TZOFFSETTO:-0500
TZNAME:EST
DTSTART:20261101T060000
END:STANDARD
END:VTIMEZONE
BEGIN:VEVENT
DTSTART;TZID=America/New_York:20251108T190000
DTEND;TZID=America/New_York:20251109T003000
DTSTAMP:20260422T183051
CREATED:20250805T172042Z
LAST-MODIFIED:20250805T185416Z
UID:1281-1762628400-1762648200@thecoonclub.com
SUMMARY:Surreal "Classic Rock"
DESCRIPTION:THE MID-ATLANTIC’S PREMIER CLASSIC ROCK\n**OPEN TO THE PUBLIC** \nNovember 8th\, Surreal “Classic Rock” at The Coon Club.   Surreal flawlessly performs the music of Boston\, Journey\, Styx\, Foreigner\, Scorpions\, Van Halen\, Judas Priest\, Bad Co.\, Krokus\, Bon Jovi\, Def Leppard\, Queensryche\, Ozzy\, Led Zeppelin\, Kiss\, Aerosmith\, April Wine\, Rainbow\, Whitesnake\, Queen\, Warrant\, Motley Crue\, Black Crowes\, Cinderella\, Skid Row\, Foghat\, Rush\, Doobie Brother\, Dream Theater\, Eagles and much more.   Delicious Food\, Large Selection of Cold BEER\, WINE COOLERS & SELTZERS.   Doors open at 7:00 pm\, music 8:30-12:30 pm.  Always open to the public.  21+ Only. \nTheir Website \n 
URL:https://thecoonclub.com/event/surreal-classic-rock-2/
LOCATION:The Coon Club\, 2855 Coon Club Rd\, Hampstead\, MD\, 21074\, United States
CATEGORIES:Entertainment
ATTACH;FMTTYPE=image/jpeg:https://thecoonclub.com/wp-content/uploads/2024/08/Surreal.jpg
END:VEVENT
END:VCALENDAR