BEGIN:VCALENDAR
VERSION:2.0
PRODID:-//The Coon Club - ECPv6.15.20//NONSGML v1.0//EN
CALSCALE:GREGORIAN
METHOD:PUBLISH
X-WR-CALNAME:The Coon Club
X-ORIGINAL-URL:https://thecoonclub.com
X-WR-CALDESC:Events for The Coon Club
REFRESH-INTERVAL;VALUE=DURATION:PT1H
X-Robots-Tag:noindex
X-PUBLISHED-TTL:PT1H
BEGIN:VTIMEZONE
TZID:America/New_York
BEGIN:DAYLIGHT
TZOFFSETFROM:-0500
TZOFFSETTO:-0400
TZNAME:EDT
DTSTART:20240310T070000
END:DAYLIGHT
BEGIN:STANDARD
TZOFFSETFROM:-0400
TZOFFSETTO:-0500
TZNAME:EST
DTSTART:20241103T060000
END:STANDARD
BEGIN:DAYLIGHT
TZOFFSETFROM:-0500
TZOFFSETTO:-0400
TZNAME:EDT
DTSTART:20250309T070000
END:DAYLIGHT
BEGIN:STANDARD
TZOFFSETFROM:-0400
TZOFFSETTO:-0500
TZNAME:EST
DTSTART:20251102T060000
END:STANDARD
BEGIN:DAYLIGHT
TZOFFSETFROM:-0500
TZOFFSETTO:-0400
TZNAME:EDT
DTSTART:20260308T070000
END:DAYLIGHT
BEGIN:STANDARD
TZOFFSETFROM:-0400
TZOFFSETTO:-0500
TZNAME:EST
DTSTART:20261101T060000
END:STANDARD
BEGIN:DAYLIGHT
TZOFFSETFROM:-0500
TZOFFSETTO:-0400
TZNAME:EDT
DTSTART:20270314T070000
END:DAYLIGHT
BEGIN:STANDARD
TZOFFSETFROM:-0400
TZOFFSETTO:-0500
TZNAME:EST
DTSTART:20271107T060000
END:STANDARD
END:VTIMEZONE
BEGIN:VEVENT
DTSTART;TZID=America/New_York:20260119T190000
DTEND;TZID=America/New_York:20260119T210000
DTSTAMP:20260422T031906
CREATED:20251121T203517Z
LAST-MODIFIED:20251121T203517Z
UID:1502-1768849200-1768856400@thecoonclub.com
SUMMARY:Line Dancing
DESCRIPTION:Line Dancing at The Coon Club\n 
URL:https://thecoonclub.com/event/line-dancing-61/
LOCATION:The Coon Club\, 2855 Coon Club Rd\, Hampstead\, MD\, 21074\, United States
CATEGORIES:Line Dancing
ATTACH;FMTTYPE=image/jpeg:https://thecoonclub.com/wp-content/uploads/2024/05/LineDance-2.jpg
END:VEVENT
BEGIN:VEVENT
DTSTART;TZID=America/New_York:20260112T190000
DTEND;TZID=America/New_York:20260112T210000
DTSTAMP:20260422T031906
CREATED:20251121T203415Z
LAST-MODIFIED:20251201T140301Z
UID:1498-1768244400-1768251600@thecoonclub.com
SUMMARY:Line Dancing
DESCRIPTION:Line Dancing at The Coon Club\n 
URL:https://thecoonclub.com/event/line-dancing-59/
LOCATION:The Coon Club\, 2855 Coon Club Rd\, Hampstead\, MD\, 21074\, United States
CATEGORIES:Line Dancing
ATTACH;FMTTYPE=image/jpeg:https://thecoonclub.com/wp-content/uploads/2024/05/LineDance-2.jpg
END:VEVENT
BEGIN:VEVENT
DTSTART;TZID=America/New_York:20251222T190000
DTEND;TZID=America/New_York:20251222T210000
DTSTAMP:20260422T031906
CREATED:20251121T203337Z
LAST-MODIFIED:20251121T203337Z
UID:1496-1766430000-1766437200@thecoonclub.com
SUMMARY:Line Dancing
DESCRIPTION:Line Dancing at The Coon Club\n 
URL:https://thecoonclub.com/event/line-dancing-58/
LOCATION:The Coon Club\, 2855 Coon Club Rd\, Hampstead\, MD\, 21074\, United States
CATEGORIES:Line Dancing
ATTACH;FMTTYPE=image/jpeg:https://thecoonclub.com/wp-content/uploads/2024/05/LineDance-2.jpg
END:VEVENT
BEGIN:VEVENT
DTSTART;TZID=America/New_York:20251208T190000
DTEND;TZID=America/New_York:20251208T210000
DTSTAMP:20260422T031906
CREATED:20251121T203231Z
LAST-MODIFIED:20251121T203231Z
UID:1493-1765220400-1765227600@thecoonclub.com
SUMMARY:Line Dancing
DESCRIPTION:Line Dancing at The Coon Club\n 
URL:https://thecoonclub.com/event/line-dancing-56/
LOCATION:The Coon Club\, 2855 Coon Club Rd\, Hampstead\, MD\, 21074\, United States
CATEGORIES:Line Dancing
ATTACH;FMTTYPE=image/jpeg:https://thecoonclub.com/wp-content/uploads/2024/05/LineDance-2.jpg
END:VEVENT
BEGIN:VEVENT
DTSTART;TZID=America/New_York:20251124T190000
DTEND;TZID=America/New_York:20251124T210000
DTSTAMP:20260422T031906
CREATED:20251016T115729Z
LAST-MODIFIED:20251016T115729Z
UID:1429-1764010800-1764018000@thecoonclub.com
SUMMARY:Line Dancing
DESCRIPTION:Line Dancing at The Coon Club\n 
URL:https://thecoonclub.com/event/line-dancing-55/
LOCATION:The Coon Club\, 2855 Coon Club Rd\, Hampstead\, MD\, 21074\, United States
CATEGORIES:Line Dancing
ATTACH;FMTTYPE=image/jpeg:https://thecoonclub.com/wp-content/uploads/2024/05/LineDance-2.jpg
END:VEVENT
BEGIN:VEVENT
DTSTART;TZID=America/New_York:20251117T190000
DTEND;TZID=America/New_York:20251117T210000
DTSTAMP:20260422T031906
CREATED:20251016T115642Z
LAST-MODIFIED:20251016T115642Z
UID:1425-1763406000-1763413200@thecoonclub.com
SUMMARY:Line Dancing
DESCRIPTION:Line Dancing at The Coon Club\n 
URL:https://thecoonclub.com/event/line-dancing-54/
LOCATION:The Coon Club\, 2855 Coon Club Rd\, Hampstead\, MD\, 21074\, United States
CATEGORIES:Line Dancing
ATTACH;FMTTYPE=image/jpeg:https://thecoonclub.com/wp-content/uploads/2024/05/LineDance-2.jpg
END:VEVENT
BEGIN:VEVENT
DTSTART;TZID=America/New_York:20251110T190000
DTEND;TZID=America/New_York:20251110T210000
DTSTAMP:20260422T031906
CREATED:20251016T115505Z
LAST-MODIFIED:20251016T115505Z
UID:1424-1762801200-1762808400@thecoonclub.com
SUMMARY:Line Dancing
DESCRIPTION:Line Dancing at The Coon Club\n 
URL:https://thecoonclub.com/event/line-dancing-53/
LOCATION:The Coon Club\, 2855 Coon Club Rd\, Hampstead\, MD\, 21074\, United States
CATEGORIES:Line Dancing
ATTACH;FMTTYPE=image/jpeg:https://thecoonclub.com/wp-content/uploads/2024/05/LineDance-2.jpg
END:VEVENT
BEGIN:VEVENT
DTSTART;TZID=America/New_York:20251105T190000
DTEND;TZID=America/New_York:20251105T213000
DTSTAMP:20260422T031906
CREATED:20251029T125658Z
LAST-MODIFIED:20251029T125737Z
UID:1433-1762369200-1762378200@thecoonclub.com
SUMMARY:Line Dancing Mini Workshop
DESCRIPTION:Line Dancing Mini Workshop at The Coon Club
URL:https://thecoonclub.com/event/line-dancing-mini-workshop-2/
LOCATION:The Coon Club\, 2855 Coon Club Rd\, Hampstead\, MD\, 21074\, United States
CATEGORIES:Line Dancing
ATTACH;FMTTYPE=image/jpeg:https://thecoonclub.com/wp-content/uploads/2024/05/LineDance-2.jpg
END:VEVENT
BEGIN:VEVENT
DTSTART;TZID=America/New_York:20251027T190000
DTEND;TZID=America/New_York:20251027T210000
DTSTAMP:20260422T031906
CREATED:20250930T120728Z
LAST-MODIFIED:20250930T120728Z
UID:1411-1761591600-1761598800@thecoonclub.com
SUMMARY:Line Dancing
DESCRIPTION:Line Dancing at The Coon Club\n 
URL:https://thecoonclub.com/event/line-dancing-52/
LOCATION:The Coon Club\, 2855 Coon Club Rd\, Hampstead\, MD\, 21074\, United States
CATEGORIES:Line Dancing
ATTACH;FMTTYPE=image/jpeg:https://thecoonclub.com/wp-content/uploads/2024/05/LineDance-2.jpg
END:VEVENT
BEGIN:VEVENT
DTSTART;TZID=America/New_York:20251020T190000
DTEND;TZID=America/New_York:20251020T210000
DTSTAMP:20260422T031906
CREATED:20250930T120702Z
LAST-MODIFIED:20250930T120702Z
UID:1412-1760986800-1760994000@thecoonclub.com
SUMMARY:Line Dancing
DESCRIPTION:Line Dancing at The Coon Club\n 
URL:https://thecoonclub.com/event/line-dancing-51/
LOCATION:The Coon Club\, 2855 Coon Club Rd\, Hampstead\, MD\, 21074\, United States
CATEGORIES:Line Dancing
ATTACH;FMTTYPE=image/jpeg:https://thecoonclub.com/wp-content/uploads/2024/05/LineDance-2.jpg
END:VEVENT
BEGIN:VEVENT
DTSTART;TZID=America/New_York:20251013T190000
DTEND;TZID=America/New_York:20251013T210000
DTSTAMP:20260422T031906
CREATED:20250930T120057Z
LAST-MODIFIED:20250930T120443Z
UID:1406-1760382000-1760389200@thecoonclub.com
SUMMARY:Line Dancing
DESCRIPTION:Line Dancing at The Coon Club\n 
URL:https://thecoonclub.com/event/line-dancing-50/
LOCATION:The Coon Club\, 2855 Coon Club Rd\, Hampstead\, MD\, 21074\, United States
CATEGORIES:Line Dancing
ATTACH;FMTTYPE=image/jpeg:https://thecoonclub.com/wp-content/uploads/2024/05/LineDance-2.jpg
END:VEVENT
BEGIN:VEVENT
DTSTART;TZID=America/New_York:20251008T190000
DTEND;TZID=America/New_York:20251008T213000
DTSTAMP:20260422T031906
CREATED:20250930T120313Z
LAST-MODIFIED:20250930T120313Z
UID:1409-1759950000-1759959000@thecoonclub.com
SUMMARY:Line Dancing Mini Workshop
DESCRIPTION:Line Dancing Mini Workshop at The Coon Club\n \n 
URL:https://thecoonclub.com/event/line-dancing-mini-workshop/
LOCATION:The Coon Club\, 2855 Coon Club Rd\, Hampstead\, MD\, 21074\, United States
CATEGORIES:Line Dancing
ATTACH;FMTTYPE=image/jpeg:https://thecoonclub.com/wp-content/uploads/2024/05/LineDance-2.jpg
END:VEVENT
BEGIN:VEVENT
DTSTART;TZID=America/New_York:20250929T190000
DTEND;TZID=America/New_York:20250929T210000
DTSTAMP:20260422T031906
CREATED:20250806T171819Z
LAST-MODIFIED:20250902T133935Z
UID:1369-1759172400-1759179600@thecoonclub.com
SUMMARY:Line Dancing
DESCRIPTION:Line Dancing at The Coon Club\n \n 
URL:https://thecoonclub.com/event/line-dancing-49/
LOCATION:The Coon Club\, 2855 Coon Club Rd\, Hampstead\, MD\, 21074\, United States
CATEGORIES:Line Dancing
ATTACH;FMTTYPE=image/jpeg:https://thecoonclub.com/wp-content/uploads/2024/05/LineDance-2.jpg
END:VEVENT
BEGIN:VEVENT
DTSTART;TZID=America/New_York:20250922T190000
DTEND;TZID=America/New_York:20250922T210000
DTSTAMP:20260422T031906
CREATED:20250806T171747Z
LAST-MODIFIED:20250902T133847Z
UID:1370-1758567600-1758574800@thecoonclub.com
SUMMARY:Line Dancing
DESCRIPTION:Line Dancing at The Coon Club\n \n 
URL:https://thecoonclub.com/event/line-dancing-48/
LOCATION:The Coon Club\, 2855 Coon Club Rd\, Hampstead\, MD\, 21074\, United States
CATEGORIES:Line Dancing
ATTACH;FMTTYPE=image/jpeg:https://thecoonclub.com/wp-content/uploads/2024/05/LineDance-2.jpg
END:VEVENT
BEGIN:VEVENT
DTSTART;TZID=America/New_York:20250915T190000
DTEND;TZID=America/New_York:20250915T210000
DTSTAMP:20260422T031906
CREATED:20250806T171724Z
LAST-MODIFIED:20250902T133822Z
UID:1371-1757962800-1757970000@thecoonclub.com
SUMMARY:Line Dancing
DESCRIPTION:Line Dancing at The Coon Club\n \n 
URL:https://thecoonclub.com/event/line-dancing-46/
LOCATION:The Coon Club\, 2855 Coon Club Rd\, Hampstead\, MD\, 21074\, United States
CATEGORIES:Line Dancing
ATTACH;FMTTYPE=image/jpeg:https://thecoonclub.com/wp-content/uploads/2024/05/LineDance-2.jpg
END:VEVENT
BEGIN:VEVENT
DTSTART;TZID=America/New_York:20250908T190000
DTEND;TZID=America/New_York:20250908T210000
DTSTAMP:20260422T031906
CREATED:20250806T171657Z
LAST-MODIFIED:20250902T133758Z
UID:1372-1757358000-1757365200@thecoonclub.com
SUMMARY:Line Dancing
DESCRIPTION:Line Dancing at The Coon Club\n \n 
URL:https://thecoonclub.com/event/line-dancing-44/
LOCATION:The Coon Club\, 2855 Coon Club Rd\, Hampstead\, MD\, 21074\, United States
CATEGORIES:Line Dancing
ATTACH;FMTTYPE=image/jpeg:https://thecoonclub.com/wp-content/uploads/2024/05/LineDance-2.jpg
END:VEVENT
BEGIN:VEVENT
DTSTART;TZID=America/New_York:20250903T190000
DTEND;TZID=America/New_York:20250903T213000
DTSTAMP:20260422T031906
CREATED:20250806T171638Z
LAST-MODIFIED:20250902T133602Z
UID:1373-1756926000-1756935000@thecoonclub.com
SUMMARY:Line Dancing Mini Workshop
DESCRIPTION:Line Dancing Mini Workshop at The Coon Club\n \n 
URL:https://thecoonclub.com/event/line-dancing-42/
LOCATION:The Coon Club\, 2855 Coon Club Rd\, Hampstead\, MD\, 21074\, United States
CATEGORIES:Line Dancing
ATTACH;FMTTYPE=image/jpeg:https://thecoonclub.com/wp-content/uploads/2024/05/LineDance-2.jpg
END:VEVENT
BEGIN:VEVENT
DTSTART;TZID=America/New_York:20250825T190000
DTEND;TZID=America/New_York:20250825T210000
DTSTAMP:20260422T031906
CREATED:20250617T213626Z
LAST-MODIFIED:20250617T213732Z
UID:1232-1756148400-1756155600@thecoonclub.com
SUMMARY:Line Dancing
DESCRIPTION:Line Dancing at The Coon Club\n \n 
URL:https://thecoonclub.com/event/line-dancing-41/
LOCATION:The Coon Club\, 2855 Coon Club Rd\, Hampstead\, MD\, 21074\, United States
CATEGORIES:Line Dancing
ATTACH;FMTTYPE=image/jpeg:https://thecoonclub.com/wp-content/uploads/2024/05/LineDance-2.jpg
END:VEVENT
BEGIN:VEVENT
DTSTART;TZID=America/New_York:20250818T190000
DTEND;TZID=America/New_York:20250818T210000
DTSTAMP:20260422T031906
CREATED:20250617T213550Z
LAST-MODIFIED:20250805T165047Z
UID:1233-1755543600-1755550800@thecoonclub.com
SUMMARY:Line Dancing
DESCRIPTION:Line Dancing at The Coon Club\n \n 
URL:https://thecoonclub.com/event/line-dancing-38/
LOCATION:The Coon Club\, 2855 Coon Club Rd\, Hampstead\, MD\, 21074\, United States
CATEGORIES:Line Dancing
ATTACH;FMTTYPE=image/jpeg:https://thecoonclub.com/wp-content/uploads/2024/05/LineDance-2.jpg
END:VEVENT
BEGIN:VEVENT
DTSTART;TZID=America/New_York:20250728T190000
DTEND;TZID=America/New_York:20250728T210000
DTSTAMP:20260422T031906
CREATED:20250426T163608Z
LAST-MODIFIED:20250426T163608Z
UID:1197-1753729200-1753736400@thecoonclub.com
SUMMARY:Line Dancing
DESCRIPTION:Line Dancing at The Coon Club\n \n 
URL:https://thecoonclub.com/event/line-dancing-47/
LOCATION:The Coon Club\, 2855 Coon Club Rd\, Hampstead\, MD\, 21074\, United States
CATEGORIES:Line Dancing
ATTACH;FMTTYPE=image/jpeg:https://thecoonclub.com/wp-content/uploads/2024/05/LineDance-2.jpg
END:VEVENT
BEGIN:VEVENT
DTSTART;TZID=America/New_York:20250714T190000
DTEND;TZID=America/New_York:20250714T210000
DTSTAMP:20260422T031906
CREATED:20250426T163526Z
LAST-MODIFIED:20250426T163526Z
UID:1193-1752519600-1752526800@thecoonclub.com
SUMMARY:Line Dancing
DESCRIPTION:Line Dancing at The Coon Club\n \n 
URL:https://thecoonclub.com/event/line-dancing-45/
LOCATION:The Coon Club\, 2855 Coon Club Rd\, Hampstead\, MD\, 21074\, United States
CATEGORIES:Line Dancing
ATTACH;FMTTYPE=image/jpeg:https://thecoonclub.com/wp-content/uploads/2024/05/LineDance-2.jpg
END:VEVENT
BEGIN:VEVENT
DTSTART;TZID=America/New_York:20250630T190000
DTEND;TZID=America/New_York:20250630T210000
DTSTAMP:20260422T031906
CREATED:20250426T162633Z
LAST-MODIFIED:20250426T162633Z
UID:1175-1751310000-1751317200@thecoonclub.com
SUMMARY:Line Dancing
DESCRIPTION:Line Dancing at The Coon Club\n \n 
URL:https://thecoonclub.com/event/line-dancing-43/
LOCATION:The Coon Club\, 2855 Coon Club Rd\, Hampstead\, MD\, 21074\, United States
CATEGORIES:Line Dancing
ATTACH;FMTTYPE=image/jpeg:https://thecoonclub.com/wp-content/uploads/2024/05/LineDance-2.jpg
END:VEVENT
BEGIN:VEVENT
DTSTART;TZID=America/New_York:20250609T190000
DTEND;TZID=America/New_York:20250609T210000
DTSTAMP:20260422T031906
CREATED:20250426T162505Z
LAST-MODIFIED:20250426T162505Z
UID:1169-1749495600-1749502800@thecoonclub.com
SUMMARY:Line Dancing
DESCRIPTION:Line Dancing at The Coon Club\n \n 
URL:https://thecoonclub.com/event/line-dancing-40/
LOCATION:The Coon Club\, 2855 Coon Club Rd\, Hampstead\, MD\, 21074\, United States
CATEGORIES:Line Dancing
ATTACH;FMTTYPE=image/jpeg:https://thecoonclub.com/wp-content/uploads/2024/05/LineDance-2.jpg
END:VEVENT
BEGIN:VEVENT
DTSTART;TZID=America/New_York:20250604T190000
DTEND;TZID=America/New_York:20250604T210000
DTSTAMP:20260422T031906
CREATED:20250426T162048Z
LAST-MODIFIED:20250426T162048Z
UID:1165-1749063600-1749070800@thecoonclub.com
SUMMARY:Line Dancing
DESCRIPTION:Line Dancing at The Coon Club\n \n 
URL:https://thecoonclub.com/event/line-dancing-39/
LOCATION:The Coon Club\, 2855 Coon Club Rd\, Hampstead\, MD\, 21074\, United States
CATEGORIES:Line Dancing
ATTACH;FMTTYPE=image/jpeg:https://thecoonclub.com/wp-content/uploads/2024/05/LineDance-2.jpg
END:VEVENT
BEGIN:VEVENT
DTSTART;TZID=America/New_York:20250519T190000
DTEND;TZID=America/New_York:20250519T210000
DTSTAMP:20260422T031906
CREATED:20250410T134401Z
LAST-MODIFIED:20250410T134401Z
UID:1137-1747681200-1747688400@thecoonclub.com
SUMMARY:Line Dancing
DESCRIPTION:Line Dancing at The Coon Club\n \n 
URL:https://thecoonclub.com/event/line-dancing-37/
LOCATION:The Coon Club\, 2855 Coon Club Rd\, Hampstead\, MD\, 21074\, United States
CATEGORIES:Line Dancing
ATTACH;FMTTYPE=image/jpeg:https://thecoonclub.com/wp-content/uploads/2024/05/LineDance-2.jpg
END:VEVENT
BEGIN:VEVENT
DTSTART;TZID=America/New_York:20250512T190000
DTEND;TZID=America/New_York:20250512T210000
DTSTAMP:20260422T031906
CREATED:20250410T133800Z
LAST-MODIFIED:20250410T133800Z
UID:1130-1747076400-1747083600@thecoonclub.com
SUMMARY:Line Dancing
DESCRIPTION:Line Dancing at The Coon Club\n \n 
URL:https://thecoonclub.com/event/line-dancing-36/
LOCATION:The Coon Club\, 2855 Coon Club Rd\, Hampstead\, MD\, 21074\, United States
CATEGORIES:Line Dancing
ATTACH;FMTTYPE=image/jpeg:https://thecoonclub.com/wp-content/uploads/2024/05/LineDance-2.jpg
END:VEVENT
BEGIN:VEVENT
DTSTART;TZID=America/New_York:20250507T190000
DTEND;TZID=America/New_York:20250507T210000
DTSTAMP:20260422T031906
CREATED:20250410T133737Z
LAST-MODIFIED:20250410T133737Z
UID:1131-1746644400-1746651600@thecoonclub.com
SUMMARY:Line Dancing
DESCRIPTION:Line Dancing at The Coon Club\n \n 
URL:https://thecoonclub.com/event/line-dancing-27/
LOCATION:The Coon Club\, 2855 Coon Club Rd\, Hampstead\, MD\, 21074\, United States
CATEGORIES:Line Dancing
ATTACH;FMTTYPE=image/jpeg:https://thecoonclub.com/wp-content/uploads/2024/05/LineDance-2.jpg
END:VEVENT
BEGIN:VEVENT
DTSTART;TZID=America/New_York:20250428T190000
DTEND;TZID=America/New_York:20250428T210000
DTSTAMP:20260422T031906
CREATED:20250303T222400Z
LAST-MODIFIED:20250303T222400Z
UID:1082-1745866800-1745874000@thecoonclub.com
SUMMARY:Line Dancing
DESCRIPTION:Line Dancing at The Coon Club\n \n 
URL:https://thecoonclub.com/event/line-dancing-35/
LOCATION:The Coon Club\, 2855 Coon Club Rd\, Hampstead\, MD\, 21074\, United States
CATEGORIES:Line Dancing
ATTACH;FMTTYPE=image/jpeg:https://thecoonclub.com/wp-content/uploads/2024/05/LineDance-2.jpg
END:VEVENT
BEGIN:VEVENT
DTSTART;TZID=America/New_York:20250421T190000
DTEND;TZID=America/New_York:20250421T210000
DTSTAMP:20260422T031906
CREATED:20250303T222332Z
LAST-MODIFIED:20250303T222332Z
UID:1080-1745262000-1745269200@thecoonclub.com
SUMMARY:Line Dancing
DESCRIPTION:Line Dancing at The Coon Club\n \n 
URL:https://thecoonclub.com/event/line-dancing-34/
LOCATION:The Coon Club\, 2855 Coon Club Rd\, Hampstead\, MD\, 21074\, United States
CATEGORIES:Line Dancing
ATTACH;FMTTYPE=image/jpeg:https://thecoonclub.com/wp-content/uploads/2024/05/LineDance-2.jpg
END:VEVENT
BEGIN:VEVENT
DTSTART;TZID=America/New_York:20250414T190000
DTEND;TZID=America/New_York:20250414T210000
DTSTAMP:20260422T031906
CREATED:20250303T222303Z
LAST-MODIFIED:20250303T222303Z
UID:1078-1744657200-1744664400@thecoonclub.com
SUMMARY:Line Dancing
DESCRIPTION:Line Dancing at The Coon Club\n \n 
URL:https://thecoonclub.com/event/line-dancing-33/
LOCATION:The Coon Club\, 2855 Coon Club Rd\, Hampstead\, MD\, 21074\, United States
CATEGORIES:Line Dancing
ATTACH;FMTTYPE=image/jpeg:https://thecoonclub.com/wp-content/uploads/2024/05/LineDance-2.jpg
END:VEVENT
END:VCALENDAR