BEGIN:VCALENDAR
VERSION:2.0
PRODID:-//The Coon Club - ECPv6.15.20//NONSGML v1.0//EN
CALSCALE:GREGORIAN
METHOD:PUBLISH
X-WR-CALNAME:The Coon Club
X-ORIGINAL-URL:https://thecoonclub.com
X-WR-CALDESC:Events for The Coon Club
REFRESH-INTERVAL;VALUE=DURATION:PT1H
X-Robots-Tag:noindex
X-PUBLISHED-TTL:PT1H
BEGIN:VTIMEZONE
TZID:America/New_York
BEGIN:DAYLIGHT
TZOFFSETFROM:-0500
TZOFFSETTO:-0400
TZNAME:EDT
DTSTART:20230312T070000
END:DAYLIGHT
BEGIN:STANDARD
TZOFFSETFROM:-0400
TZOFFSETTO:-0500
TZNAME:EST
DTSTART:20231105T060000
END:STANDARD
BEGIN:DAYLIGHT
TZOFFSETFROM:-0500
TZOFFSETTO:-0400
TZNAME:EDT
DTSTART:20240310T070000
END:DAYLIGHT
BEGIN:STANDARD
TZOFFSETFROM:-0400
TZOFFSETTO:-0500
TZNAME:EST
DTSTART:20241103T060000
END:STANDARD
BEGIN:DAYLIGHT
TZOFFSETFROM:-0500
TZOFFSETTO:-0400
TZNAME:EDT
DTSTART:20250309T070000
END:DAYLIGHT
BEGIN:STANDARD
TZOFFSETFROM:-0400
TZOFFSETTO:-0500
TZNAME:EST
DTSTART:20251102T060000
END:STANDARD
BEGIN:DAYLIGHT
TZOFFSETFROM:-0500
TZOFFSETTO:-0400
TZNAME:EDT
DTSTART:20260308T070000
END:DAYLIGHT
BEGIN:STANDARD
TZOFFSETFROM:-0400
TZOFFSETTO:-0500
TZNAME:EST
DTSTART:20261101T060000
END:STANDARD
END:VTIMEZONE
BEGIN:VEVENT
DTSTART;TZID=America/New_York:20250217T190000
DTEND;TZID=America/New_York:20250217T210000
DTSTAMP:20260422T032059
CREATED:20241226T182722Z
LAST-MODIFIED:20241226T182722Z
UID:969-1739818800-1739826000@thecoonclub.com
SUMMARY:Line Dancing
DESCRIPTION:Line Dancing at The Coon Club\n \n 
URL:https://thecoonclub.com/event/line-dancing-25/
LOCATION:The Coon Club\, 2855 Coon Club Rd\, Hampstead\, MD\, 21074\, United States
CATEGORIES:Line Dancing
ATTACH;FMTTYPE=image/jpeg:https://thecoonclub.com/wp-content/uploads/2024/05/LineDance-2.jpg
END:VEVENT
BEGIN:VEVENT
DTSTART;TZID=America/New_York:20250210T190000
DTEND;TZID=America/New_York:20250210T210000
DTSTAMP:20260422T032059
CREATED:20241226T182705Z
LAST-MODIFIED:20241226T182705Z
UID:968-1739214000-1739221200@thecoonclub.com
SUMMARY:Line Dancing
DESCRIPTION:Line Dancing at The Coon Club\n \n 
URL:https://thecoonclub.com/event/line-dancing-24/
LOCATION:The Coon Club\, 2855 Coon Club Rd\, Hampstead\, MD\, 21074\, United States
CATEGORIES:Line Dancing
ATTACH;FMTTYPE=image/jpeg:https://thecoonclub.com/wp-content/uploads/2024/05/LineDance-2.jpg
END:VEVENT
BEGIN:VEVENT
DTSTART;TZID=America/New_York:20250127T190000
DTEND;TZID=America/New_York:20250127T210000
DTSTAMP:20260422T032059
CREATED:20241226T182542Z
LAST-MODIFIED:20241226T182542Z
UID:964-1738004400-1738011600@thecoonclub.com
SUMMARY:Line Dancing
DESCRIPTION:Line Dancing at The Coon Club\n \n 
URL:https://thecoonclub.com/event/line-dancing-23/
LOCATION:The Coon Club\, 2855 Coon Club Rd\, Hampstead\, MD\, 21074\, United States
CATEGORIES:Line Dancing
ATTACH;FMTTYPE=image/jpeg:https://thecoonclub.com/wp-content/uploads/2024/05/LineDance-2.jpg
END:VEVENT
BEGIN:VEVENT
DTSTART;TZID=America/New_York:20250120T190000
DTEND;TZID=America/New_York:20250120T210000
DTSTAMP:20260422T032059
CREATED:20241226T182525Z
LAST-MODIFIED:20241226T182525Z
UID:965-1737399600-1737406800@thecoonclub.com
SUMMARY:Line Dancing
DESCRIPTION:Line Dancing at The Coon Club\n \n 
URL:https://thecoonclub.com/event/line-dancing-22/
LOCATION:The Coon Club\, 2855 Coon Club Rd\, Hampstead\, MD\, 21074\, United States
CATEGORIES:Line Dancing
ATTACH;FMTTYPE=image/jpeg:https://thecoonclub.com/wp-content/uploads/2024/05/LineDance-2.jpg
END:VEVENT
BEGIN:VEVENT
DTSTART;TZID=America/New_York:20250113T190000
DTEND;TZID=America/New_York:20250113T210000
DTSTAMP:20260422T032059
CREATED:20241226T182429Z
LAST-MODIFIED:20241226T182429Z
UID:962-1736794800-1736802000@thecoonclub.com
SUMMARY:Line Dancing
DESCRIPTION:Line Dancing at The Coon Club\n \n 
URL:https://thecoonclub.com/event/line-dancing-21/
LOCATION:The Coon Club\, 2855 Coon Club Rd\, Hampstead\, MD\, 21074\, United States
CATEGORIES:Line Dancing
ATTACH;FMTTYPE=image/jpeg:https://thecoonclub.com/wp-content/uploads/2024/05/LineDance-2.jpg
END:VEVENT
BEGIN:VEVENT
DTSTART;TZID=America/New_York:20241216T190000
DTEND;TZID=America/New_York:20241216T210000
DTSTAMP:20260422T032059
CREATED:20241105T161211Z
LAST-MODIFIED:20241105T161211Z
UID:869-1734375600-1734382800@thecoonclub.com
SUMMARY:Line Dancing
DESCRIPTION:Line Dancing at The Coon Club\n \n 
URL:https://thecoonclub.com/event/line-dancing-20/
LOCATION:The Coon Club\, 2855 Coon Club Rd\, Hampstead\, MD\, 21074\, United States
CATEGORIES:Line Dancing
ATTACH;FMTTYPE=image/jpeg:https://thecoonclub.com/wp-content/uploads/2024/05/LineDance-2.jpg
END:VEVENT
BEGIN:VEVENT
DTSTART;TZID=America/New_York:20241125T190000
DTEND;TZID=America/New_York:20241125T210000
DTSTAMP:20260422T032059
CREATED:20241008T205816Z
LAST-MODIFIED:20241008T205816Z
UID:825-1732561200-1732568400@thecoonclub.com
SUMMARY:Line Dancing
DESCRIPTION:Line Dancing at The Coon Club\n \n 
URL:https://thecoonclub.com/event/line-dancing-19/
LOCATION:The Coon Club\, 2855 Coon Club Rd\, Hampstead\, MD\, 21074\, United States
CATEGORIES:Line Dancing
ATTACH;FMTTYPE=image/jpeg:https://thecoonclub.com/wp-content/uploads/2024/05/LineDance-2.jpg
END:VEVENT
BEGIN:VEVENT
DTSTART;TZID=America/New_York:20241118T190000
DTEND;TZID=America/New_York:20241118T210000
DTSTAMP:20260422T032059
CREATED:20241008T205754Z
LAST-MODIFIED:20241008T205754Z
UID:826-1731956400-1731963600@thecoonclub.com
SUMMARY:Line Dancing
DESCRIPTION:Line Dancing at The Coon Club\n \n 
URL:https://thecoonclub.com/event/line-dancing-18/
LOCATION:The Coon Club\, 2855 Coon Club Rd\, Hampstead\, MD\, 21074\, United States
CATEGORIES:Line Dancing
ATTACH;FMTTYPE=image/jpeg:https://thecoonclub.com/wp-content/uploads/2024/05/LineDance-2.jpg
END:VEVENT
BEGIN:VEVENT
DTSTART;TZID=America/New_York:20241111T190000
DTEND;TZID=America/New_York:20241111T210000
DTSTAMP:20260422T032059
CREATED:20241008T205711Z
LAST-MODIFIED:20241008T205711Z
UID:823-1731351600-1731358800@thecoonclub.com
SUMMARY:Line Dancing
DESCRIPTION:Line Dancing at The Coon Club\n \n 
URL:https://thecoonclub.com/event/line-dancing-17/
LOCATION:The Coon Club\, 2855 Coon Club Rd\, Hampstead\, MD\, 21074\, United States
CATEGORIES:Line Dancing
ATTACH;FMTTYPE=image/jpeg:https://thecoonclub.com/wp-content/uploads/2024/05/LineDance-2.jpg
END:VEVENT
BEGIN:VEVENT
DTSTART;TZID=America/New_York:20241028T190000
DTEND;TZID=America/New_York:20241028T210000
DTSTAMP:20260422T032059
CREATED:20241008T205211Z
LAST-MODIFIED:20241008T205211Z
UID:819-1730142000-1730149200@thecoonclub.com
SUMMARY:Line Dancing
DESCRIPTION:Line Dancing at The Coon Club\n \n 
URL:https://thecoonclub.com/event/line-dancing-16/
LOCATION:The Coon Club\, 2855 Coon Club Rd\, Hampstead\, MD\, 21074\, United States
CATEGORIES:Line Dancing
ATTACH;FMTTYPE=image/jpeg:https://thecoonclub.com/wp-content/uploads/2024/05/LineDance-2.jpg
END:VEVENT
BEGIN:VEVENT
DTSTART;TZID=America/New_York:20241021T190000
DTEND;TZID=America/New_York:20241021T210000
DTSTAMP:20260422T032059
CREATED:20241008T205145Z
LAST-MODIFIED:20241008T205145Z
UID:817-1729537200-1729544400@thecoonclub.com
SUMMARY:Line Dancing
DESCRIPTION:Line Dancing at The Coon Club\n \n 
URL:https://thecoonclub.com/event/line-dancing-15/
LOCATION:The Coon Club\, 2855 Coon Club Rd\, Hampstead\, MD\, 21074\, United States
CATEGORIES:Line Dancing
ATTACH;FMTTYPE=image/jpeg:https://thecoonclub.com/wp-content/uploads/2024/05/LineDance-2.jpg
END:VEVENT
BEGIN:VEVENT
DTSTART;TZID=America/New_York:20241014T190000
DTEND;TZID=America/New_York:20241014T210000
DTSTAMP:20260422T032059
CREATED:20241008T205104Z
LAST-MODIFIED:20241008T205104Z
UID:815-1728932400-1728939600@thecoonclub.com
SUMMARY:Line Dancing
DESCRIPTION:Line Dancing at The Coon Club\n \n 
URL:https://thecoonclub.com/event/line-dancing-14/
LOCATION:The Coon Club\, 2855 Coon Club Rd\, Hampstead\, MD\, 21074\, United States
CATEGORIES:Line Dancing
ATTACH;FMTTYPE=image/jpeg:https://thecoonclub.com/wp-content/uploads/2024/05/LineDance-2.jpg
END:VEVENT
BEGIN:VEVENT
DTSTART;TZID=America/New_York:20240930T190000
DTEND;TZID=America/New_York:20240930T210000
DTSTAMP:20260422T032059
CREATED:20240604T030347Z
LAST-MODIFIED:20240829T145738Z
UID:599-1727722800-1727730000@thecoonclub.com
SUMMARY:Line Dancing
DESCRIPTION:Line Dancing at The Coon Club\n \n 
URL:https://thecoonclub.com/event/line-dancing-13/
LOCATION:The Coon Club\, 2855 Coon Club Rd\, Hampstead\, MD\, 21074\, United States
CATEGORIES:Line Dancing
ATTACH;FMTTYPE=image/jpeg:https://thecoonclub.com/wp-content/uploads/2024/05/LineDance-2.jpg
END:VEVENT
BEGIN:VEVENT
DTSTART;TZID=America/New_York:20240923T190000
DTEND;TZID=America/New_York:20240923T210000
DTSTAMP:20260422T032059
CREATED:20240604T030253Z
LAST-MODIFIED:20240829T150034Z
UID:597-1727118000-1727125200@thecoonclub.com
SUMMARY:Line Dancing
DESCRIPTION:Line Dancing at The Coon Club\n \n 
URL:https://thecoonclub.com/event/line-dancing-12/
LOCATION:The Coon Club\, 2855 Coon Club Rd\, Hampstead\, MD\, 21074\, United States
CATEGORIES:Line Dancing
ATTACH;FMTTYPE=image/jpeg:https://thecoonclub.com/wp-content/uploads/2024/05/LineDance-2.jpg
END:VEVENT
BEGIN:VEVENT
DTSTART;TZID=America/New_York:20240916T190000
DTEND;TZID=America/New_York:20240916T210000
DTSTAMP:20260422T032059
CREATED:20240604T030136Z
LAST-MODIFIED:20240829T150055Z
UID:594-1726513200-1726520400@thecoonclub.com
SUMMARY:Line Dancing
DESCRIPTION:Line Dancing at The Coon Club\n \n 
URL:https://thecoonclub.com/event/line-dancing-11/
LOCATION:The Coon Club\, 2855 Coon Club Rd\, Hampstead\, MD\, 21074\, United States
CATEGORIES:Line Dancing
ATTACH;FMTTYPE=image/jpeg:https://thecoonclub.com/wp-content/uploads/2024/05/LineDance-2.jpg
END:VEVENT
BEGIN:VEVENT
DTSTART;TZID=America/New_York:20240909T190000
DTEND;TZID=America/New_York:20240909T210000
DTSTAMP:20260422T032059
CREATED:20240604T030107Z
LAST-MODIFIED:20240829T150114Z
UID:593-1725908400-1725915600@thecoonclub.com
SUMMARY:Line Dancing
DESCRIPTION:Line Dancing at The Coon Club\n \n 
URL:https://thecoonclub.com/event/line-dancing-10/
LOCATION:The Coon Club\, 2855 Coon Club Rd\, Hampstead\, MD\, 21074\, United States
CATEGORIES:Line Dancing
ATTACH;FMTTYPE=image/jpeg:https://thecoonclub.com/wp-content/uploads/2024/05/LineDance-2.jpg
END:VEVENT
BEGIN:VEVENT
DTSTART;TZID=America/New_York:20240826T190000
DTEND;TZID=America/New_York:20240826T210000
DTSTAMP:20260422T032059
CREATED:20240604T025952Z
LAST-MODIFIED:20240604T025952Z
UID:589-1724698800-1724706000@thecoonclub.com
SUMMARY:Line Dancing
DESCRIPTION:Line Dancing at The Coon Club\n \n 
URL:https://thecoonclub.com/event/line-dancing-9/
LOCATION:The Coon Club\, 2855 Coon Club Rd\, Hampstead\, MD\, 21074\, United States
CATEGORIES:Line Dancing
ATTACH;FMTTYPE=image/jpeg:https://thecoonclub.com/wp-content/uploads/2024/05/LineDance-2.jpg
END:VEVENT
BEGIN:VEVENT
DTSTART;TZID=America/New_York:20240812T190000
DTEND;TZID=America/New_York:20240812T210000
DTSTAMP:20260422T032059
CREATED:20240604T025926Z
LAST-MODIFIED:20240604T025926Z
UID:590-1723489200-1723496400@thecoonclub.com
SUMMARY:Line Dancing
DESCRIPTION:Line Dancing at The Coon Club\n \n 
URL:https://thecoonclub.com/event/line-dancing-8/
LOCATION:The Coon Club\, 2855 Coon Club Rd\, Hampstead\, MD\, 21074\, United States
CATEGORIES:Line Dancing
ATTACH;FMTTYPE=image/jpeg:https://thecoonclub.com/wp-content/uploads/2024/05/LineDance-2.jpg
END:VEVENT
BEGIN:VEVENT
DTSTART;TZID=America/New_York:20240722T190000
DTEND;TZID=America/New_York:20240722T210000
DTSTAMP:20260422T032059
CREATED:20240604T015414Z
LAST-MODIFIED:20240604T015414Z
UID:563-1721674800-1721682000@thecoonclub.com
SUMMARY:Line Dancing
DESCRIPTION:Line Dancing at The Coon Club\n \n 
URL:https://thecoonclub.com/event/line-dancing-7/
LOCATION:The Coon Club\, 2855 Coon Club Rd\, Hampstead\, MD\, 21074\, United States
CATEGORIES:Line Dancing
ATTACH;FMTTYPE=image/jpeg:https://thecoonclub.com/wp-content/uploads/2024/05/LineDance-2.jpg
END:VEVENT
BEGIN:VEVENT
DTSTART;TZID=America/New_York:20240715T190000
DTEND;TZID=America/New_York:20240715T210000
DTSTAMP:20260422T032059
CREATED:20240604T015325Z
LAST-MODIFIED:20240604T015325Z
UID:564-1721070000-1721077200@thecoonclub.com
SUMMARY:Line Dancing
DESCRIPTION:Line Dancing at The Coon Club\n \n 
URL:https://thecoonclub.com/event/line-dancing-5/
LOCATION:The Coon Club\, 2855 Coon Club Rd\, Hampstead\, MD\, 21074\, United States
CATEGORIES:Line Dancing
ATTACH;FMTTYPE=image/jpeg:https://thecoonclub.com/wp-content/uploads/2024/05/LineDance-2.jpg
END:VEVENT
BEGIN:VEVENT
DTSTART;TZID=America/New_York:20240624T190000
DTEND;TZID=America/New_York:20240624T210000
DTSTAMP:20260422T032059
CREATED:20240514T172433Z
LAST-MODIFIED:20240514T172433Z
UID:350-1719255600-1719262800@thecoonclub.com
SUMMARY:Line Dancing
DESCRIPTION:Line Dancing at The Coon Club\n \n 
URL:https://thecoonclub.com/event/line-dancing-6/
LOCATION:The Coon Club\, 2855 Coon Club Rd\, Hampstead\, MD\, 21074\, United States
CATEGORIES:Line Dancing
ATTACH;FMTTYPE=image/jpeg:https://thecoonclub.com/wp-content/uploads/2024/05/LineDance-2.jpg
END:VEVENT
BEGIN:VEVENT
DTSTART;TZID=America/New_York:20240610T190000
DTEND;TZID=America/New_York:20240610T210000
DTSTAMP:20260422T032059
CREATED:20240514T172316Z
LAST-MODIFIED:20240514T172316Z
UID:346-1718046000-1718053200@thecoonclub.com
SUMMARY:Line Dancing
DESCRIPTION:Line Dancing at The Coon Club\n \n 
URL:https://thecoonclub.com/event/line-dancing-4/
LOCATION:The Coon Club\, 2855 Coon Club Rd\, Hampstead\, MD\, 21074\, United States
CATEGORIES:Line Dancing
ATTACH;FMTTYPE=image/jpeg:https://thecoonclub.com/wp-content/uploads/2024/05/LineDance-2.jpg
END:VEVENT
BEGIN:VEVENT
DTSTART;TZID=America/New_York:20240527T190000
DTEND;TZID=America/New_York:20240527T210000
DTSTAMP:20260422T032059
CREATED:20240508T165507Z
LAST-MODIFIED:20240508T165507Z
UID:312-1716836400-1716843600@thecoonclub.com
SUMMARY:Line Dancing
DESCRIPTION:Line Dancing at The Coon Club\n \n 
URL:https://thecoonclub.com/event/line-dancing-3/
LOCATION:The Coon Club\, 2855 Coon Club Rd\, Hampstead\, MD\, 21074\, United States
CATEGORIES:Line Dancing
ATTACH;FMTTYPE=image/jpeg:https://thecoonclub.com/wp-content/uploads/2024/05/LineDance-2.jpg
END:VEVENT
BEGIN:VEVENT
DTSTART;TZID=America/New_York:20240520T190000
DTEND;TZID=America/New_York:20240520T210000
DTSTAMP:20260422T032059
CREATED:20240508T165437Z
LAST-MODIFIED:20240508T165437Z
UID:310-1716231600-1716238800@thecoonclub.com
SUMMARY:Line Dancing
DESCRIPTION:Line Dancing at The Coon Club\n \n 
URL:https://thecoonclub.com/event/line-dancing-2/
LOCATION:The Coon Club\, 2855 Coon Club Rd\, Hampstead\, MD\, 21074\, United States
CATEGORIES:Line Dancing
ATTACH;FMTTYPE=image/jpeg:https://thecoonclub.com/wp-content/uploads/2024/05/LineDance-2.jpg
END:VEVENT
BEGIN:VEVENT
DTSTART;TZID=America/New_York:20240513T190000
DTEND;TZID=America/New_York:20240513T210000
DTSTAMP:20260422T032059
CREATED:20240508T165412Z
LAST-MODIFIED:20240508T165412Z
UID:305-1715626800-1715634000@thecoonclub.com
SUMMARY:Line Dancing
DESCRIPTION:Line Dancing at The Coon Club\n \n 
URL:https://thecoonclub.com/event/line-dancing/
LOCATION:The Coon Club\, 2855 Coon Club Rd\, Hampstead\, MD\, 21074\, United States
CATEGORIES:Line Dancing
ATTACH;FMTTYPE=image/jpeg:https://thecoonclub.com/wp-content/uploads/2024/05/LineDance-2.jpg
END:VEVENT
END:VCALENDAR