BEGIN:VCALENDAR
VERSION:2.0
PRODID:-//The Coon Club - ECPv6.15.20//NONSGML v1.0//EN
CALSCALE:GREGORIAN
METHOD:PUBLISH
X-ORIGINAL-URL:https://thecoonclub.com
X-WR-CALDESC:Events for The Coon Club
REFRESH-INTERVAL;VALUE=DURATION:PT1H
X-Robots-Tag:noindex
X-PUBLISHED-TTL:PT1H
BEGIN:VTIMEZONE
TZID:America/New_York
BEGIN:DAYLIGHT
TZOFFSETFROM:-0500
TZOFFSETTO:-0400
TZNAME:EDT
DTSTART:20230312T070000
END:DAYLIGHT
BEGIN:STANDARD
TZOFFSETFROM:-0400
TZOFFSETTO:-0500
TZNAME:EST
DTSTART:20231105T060000
END:STANDARD
BEGIN:DAYLIGHT
TZOFFSETFROM:-0500
TZOFFSETTO:-0400
TZNAME:EDT
DTSTART:20240310T070000
END:DAYLIGHT
BEGIN:STANDARD
TZOFFSETFROM:-0400
TZOFFSETTO:-0500
TZNAME:EST
DTSTART:20241103T060000
END:STANDARD
BEGIN:DAYLIGHT
TZOFFSETFROM:-0500
TZOFFSETTO:-0400
TZNAME:EDT
DTSTART:20250309T070000
END:DAYLIGHT
BEGIN:STANDARD
TZOFFSETFROM:-0400
TZOFFSETTO:-0500
TZNAME:EST
DTSTART:20251102T060000
END:STANDARD
BEGIN:DAYLIGHT
TZOFFSETFROM:-0500
TZOFFSETTO:-0400
TZNAME:EDT
DTSTART:20260308T070000
END:DAYLIGHT
BEGIN:STANDARD
TZOFFSETFROM:-0400
TZOFFSETTO:-0500
TZNAME:EST
DTSTART:20261101T060000
END:STANDARD
END:VTIMEZONE
BEGIN:VEVENT
DTSTART;TZID=America/New_York:20251019T090000
DTEND;TZID=America/New_York:20251019T170000
DTSTAMP:20260422T181944
CREATED:20250805T182220Z
LAST-MODIFIED:20250805T182220Z
UID:1335-1760864400-1760893200@thecoonclub.com
SUMMARY:HQL\, Wear & Carry Permit 2-Day Class (Day 2)
DESCRIPTION:Maryland HQL\, Wear & Carry Permit 2-Day Class (Day 2)\nby Reload Firearms\, LLC.\nTo Reserve a seat\, Click link above or Contact Amy Pushkin at 443-914-3322
URL:https://thecoonclub.com/event/hql-wear-carry-permit-2-day-class-day-2-2/
LOCATION:The Coon Club\, 2855 Coon Club Rd\, Hampstead\, MD\, 21074\, United States
CATEGORIES:HQL Wear & Carry,Safety Courses
END:VEVENT
BEGIN:VEVENT
DTSTART;TZID=America/New_York:20251018T090000
DTEND;TZID=America/New_York:20251018T170000
DTSTAMP:20260422T181944
CREATED:20250805T182023Z
LAST-MODIFIED:20250805T182023Z
UID:1328-1760778000-1760806800@thecoonclub.com
SUMMARY:HQL\, Wear & Carry Permit 2-Day Class (Day 1)
DESCRIPTION:Maryland HQL\, Wear & Carry Permit 2-Day Class (Day 1)\nby Reload Firearms\, LLC.\nTo Reserve a seat\, Click link above or Contact Amy Pushkin at 443-914-3322
URL:https://thecoonclub.com/event/hql-wear-carry-permit-2-day-class-day-1/
LOCATION:The Coon Club\, 2855 Coon Club Rd\, Hampstead\, MD\, 21074\, United States
CATEGORIES:HQL Wear & Carry,Safety Courses
END:VEVENT
BEGIN:VEVENT
DTSTART;TZID=America/New_York:20250928T090000
DTEND;TZID=America/New_York:20250928T170000
DTSTAMP:20260422T181944
CREATED:20250805T181731Z
LAST-MODIFIED:20250805T181731Z
UID:1325-1759050000-1759078800@thecoonclub.com
SUMMARY:HQL\, Wear & Carry Permit 2-Day Class (Day 2)
DESCRIPTION:Maryland HQL\, Wear & Carry Permit 2-Day Class (Day 2)\nby Reload Firearms\, LLC.\nTo Reserve a seat\, Click link above or Contact Amy Pushkin at 443-914-3322
URL:https://thecoonclub.com/event/hql-wear-carry-permit-2-day-class-day-2/
LOCATION:The Coon Club\, 2855 Coon Club Rd\, Hampstead\, MD\, 21074\, United States
CATEGORIES:HQL Wear & Carry,Safety Courses
END:VEVENT
BEGIN:VEVENT
DTSTART;TZID=America/New_York:20250927T090000
DTEND;TZID=America/New_York:20250927T170000
DTSTAMP:20260422T181944
CREATED:20250805T180759Z
LAST-MODIFIED:20250805T181636Z
UID:1319-1758963600-1758992400@thecoonclub.com
SUMMARY:HQL\, Wear & Carry Permit 2-Day Class (Day 1)
DESCRIPTION:Maryland HQL\, Wear & Carry Permit 2-Day Class (Day 1)\nby Reload Firearms\, LLC.\nTo Reserve a seat\, Click link above or Contact Amy Pushkin at 443-914-3322
URL:https://thecoonclub.com/event/hql-wear-carry-permit-2-day-class-3/
LOCATION:The Coon Club\, 2855 Coon Club Rd\, Hampstead\, MD\, 21074\, United States
CATEGORIES:HQL Wear & Carry,Safety Courses
END:VEVENT
BEGIN:VEVENT
DTSTART;TZID=America/New_York:20250727T090000
DTEND;TZID=America/New_York:20250727T170000
DTSTAMP:20260422T181944
CREATED:20250319T152149Z
LAST-MODIFIED:20250319T152149Z
UID:1117-1753606800-1753635600@thecoonclub.com
SUMMARY:HQL\, Wear & Carry Permit 2-Day Class
DESCRIPTION:Maryland HQL\, Wear & Carry Permit 2-Day Class\nby Reload Firearms\, LLC.\nTo Reserve a seat\, Click link above or Contact Amy Pushkin at 443-914-3322
URL:https://thecoonclub.com/event/hql-wear-carry-permit-2-day-class-6/
LOCATION:The Coon Club\, 2855 Coon Club Rd\, Hampstead\, MD\, 21074\, United States
CATEGORIES:HQL Wear & Carry,Safety Courses
END:VEVENT
BEGIN:VEVENT
DTSTART;TZID=America/New_York:20250726T090000
DTEND;TZID=America/New_York:20250726T170000
DTSTAMP:20260422T181944
CREATED:20250319T152113Z
LAST-MODIFIED:20250319T152113Z
UID:1114-1753520400-1753549200@thecoonclub.com
SUMMARY:HQL\, Wear & Carry Permit 2-Day Class
DESCRIPTION:Maryland HQL\, Wear & Carry Permit 2-Day Class\nby Reload Firearms\, LLC.\nTo Reserve a seat\, Click link above or Contact Amy Pushkin at 443-914-3322
URL:https://thecoonclub.com/event/hql-wear-carry-permit-2-day-class-5/
LOCATION:The Coon Club\, 2855 Coon Club Rd\, Hampstead\, MD\, 21074\, United States
CATEGORIES:HQL Wear & Carry,Safety Courses
END:VEVENT
BEGIN:VEVENT
DTSTART;TZID=America/New_York:20250518T090000
DTEND;TZID=America/New_York:20250518T170000
DTSTAMP:20260422T181944
CREATED:20250319T151921Z
LAST-MODIFIED:20250319T151921Z
UID:1108-1747558800-1747587600@thecoonclub.com
SUMMARY:HQL\, Wear & Carry Permit 2-Day Class
DESCRIPTION:Maryland HQL\, Wear & Carry Permit 2-Day Class\nby Reload Firearms\, LLC.\nTo Reserve a seat\, Click link above or Contact Amy Pushkin at 443-914-3322
URL:https://thecoonclub.com/event/hql-wear-carry-permit-2-day-class-2/
LOCATION:The Coon Club\, 2855 Coon Club Rd\, Hampstead\, MD\, 21074\, United States
CATEGORIES:HQL Wear & Carry,Safety Courses
END:VEVENT
BEGIN:VEVENT
DTSTART;TZID=America/New_York:20250517T090000
DTEND;TZID=America/New_York:20250517T170000
DTSTAMP:20260422T181944
CREATED:20250319T151856Z
LAST-MODIFIED:20250319T151856Z
UID:1107-1747472400-1747501200@thecoonclub.com
SUMMARY:HQL\, Wear & Carry Permit 2-Day Class
DESCRIPTION:Maryland HQL\, Wear & Carry Permit 2-Day Class\nby Reload Firearms\, LLC.\nTo Reserve a seat\, Click link above or Contact Amy Pushkin at 443-914-3322
URL:https://thecoonclub.com/event/hql-wear-carry-permit-2-day-class/
LOCATION:The Coon Club\, 2855 Coon Club Rd\, Hampstead\, MD\, 21074\, United States
CATEGORIES:HQL Wear & Carry,Safety Courses
END:VEVENT
BEGIN:VEVENT
DTSTART;TZID=America/New_York:20250427T090000
DTEND;TZID=America/New_York:20250427T170000
DTSTAMP:20260422T181944
CREATED:20250319T151328Z
LAST-MODIFIED:20250319T151633Z
UID:1102-1745744400-1745773200@thecoonclub.com
SUMMARY:HQL\, Wear & Carry Permit 2-Day Class
DESCRIPTION:Maryland HQL\, Wear & Carry Permit 2-Day Class\nby Reload Firearms\, LLC.\nTo Reserve a seat\, Click link above or Contact Amy Pushkin at 443-914-3322
URL:https://thecoonclub.com/event/hql-wear-carry-permit-class-5/
LOCATION:The Coon Club\, 2855 Coon Club Rd\, Hampstead\, MD\, 21074\, United States
CATEGORIES:HQL Wear & Carry,Safety Courses
END:VEVENT
BEGIN:VEVENT
DTSTART;TZID=America/New_York:20250426T090000
DTEND;TZID=America/New_York:20250426T170000
DTSTAMP:20260422T181944
CREATED:20250319T150752Z
LAST-MODIFIED:20250319T151715Z
UID:1098-1745658000-1745686800@thecoonclub.com
SUMMARY:HQL\, Wear & Carry Permit 2-Day Class
DESCRIPTION:Maryland HQL\, Wear & Carry Permit 2-Day Class\nby Reload Firearms\, LLC.\nTo Reserve a seat\, Click link above or Contact Amy Pushkin at 443-914-3322
URL:https://thecoonclub.com/event/hql-wear-carry-permit-class-2/
LOCATION:The Coon Club\, 2855 Coon Club Rd\, Hampstead\, MD\, 21074\, United States
CATEGORIES:HQL Wear & Carry,Safety Courses
END:VEVENT
BEGIN:VEVENT
DTSTART;TZID=America/New_York:20241124T090000
DTEND;TZID=America/New_York:20241124T170000
DTSTAMP:20260422T181944
CREATED:20240604T024225Z
LAST-MODIFIED:20240604T031802Z
UID:581-1732438800-1732467600@thecoonclub.com
SUMMARY:HQL\, Wear & Carry Permit Class
DESCRIPTION:Maryland HQL\, Wear & Carry Permit Class\nby Reload Firearms\, LLC.\nTo Reserve a seat\, Click link above or Contact Amy Pushkin at 443-914-3322
URL:https://thecoonclub.com/event/hql-wear-carry-permit-class-10/
LOCATION:The Coon Club\, 2855 Coon Club Rd\, Hampstead\, MD\, 21074\, United States
CATEGORIES:HQL Wear & Carry,Safety Courses
END:VEVENT
BEGIN:VEVENT
DTSTART;TZID=America/New_York:20241123T090000
DTEND;TZID=America/New_York:20241123T170000
DTSTAMP:20260422T181944
CREATED:20240603T213655Z
LAST-MODIFIED:20240604T031819Z
UID:543-1732352400-1732381200@thecoonclub.com
SUMMARY:HQL\, Wear & Carry Permit Class
DESCRIPTION:Maryland HQL\, Wear & Carry Permit Class\nby Reload Firearms\, LLC.\nTo Reserve a seat\, Click link above or Contact Amy Pushkin at 443-914-3322
URL:https://thecoonclub.com/event/hql-wear-carry-permit-class-4/
LOCATION:The Coon Club\, 2855 Coon Club Rd\, Hampstead\, MD\, 21074\, United States
CATEGORIES:HQL Wear & Carry,Safety Courses
END:VEVENT
BEGIN:VEVENT
DTSTART;TZID=America/New_York:20241123T090000
DTEND;TZID=America/New_York:20241123T120000
DTSTAMP:20260422T181944
CREATED:20241105T160832Z
LAST-MODIFIED:20241105T160832Z
UID:865-1732352400-1732363200@thecoonclub.com
SUMMARY:BSA Certification
DESCRIPTION:
URL:https://thecoonclub.com/event/bsa-certification/
LOCATION:MD
CATEGORIES:Safety Courses
END:VEVENT
BEGIN:VEVENT
DTSTART;TZID=America/New_York:20241027T090000
DTEND;TZID=America/New_York:20241027T170000
DTSTAMP:20260422T181944
CREATED:20240603T213521Z
LAST-MODIFIED:20240819T192333Z
UID:541-1730019600-1730048400@thecoonclub.com
SUMMARY:HQL\, Wear & Carry Permit Class
DESCRIPTION:Maryland HQL\, Wear & Carry Permit Class\nby Reload Firearms\, LLC.\nTo Reserve a seat\, Click link above or Contact Amy Pushkin at 443-914-3322
URL:https://thecoonclub.com/event/hql-wear-carry-permit-class-3/
LOCATION:The Coon Club\, 2855 Coon Club Rd\, Hampstead\, MD\, 21074\, United States
CATEGORIES:HQL Wear & Carry,Safety Courses
END:VEVENT
BEGIN:VEVENT
DTSTART;TZID=America/New_York:20241026T090000
DTEND;TZID=America/New_York:20241026T170000
DTSTAMP:20260422T181944
CREATED:20240604T024009Z
LAST-MODIFIED:20240819T192528Z
UID:579-1729933200-1729962000@thecoonclub.com
SUMMARY:HQL\, Wear & Carry Permit Class
DESCRIPTION:Maryland HQL\, Wear & Carry Permit Class\nby Reload Firearms\, LLC.\nTo Reserve a seat\, Click link above or Contact Amy Pushkin at 443-914-3322 \n \n 
URL:https://thecoonclub.com/event/hql-wear-carry-permit-class-9/
LOCATION:The Coon Club\, 2855 Coon Club Rd\, Hampstead\, MD\, 21074\, United States
CATEGORIES:HQL Wear & Carry,Safety Courses
END:VEVENT
BEGIN:VEVENT
DTSTART;TZID=America/New_York:20240827T100000
DTEND;TZID=America/New_York:20240827T140000
DTSTAMP:20260422T181944
CREATED:20240806T201656Z
LAST-MODIFIED:20240806T201656Z
UID:706-1724752800-1724767200@thecoonclub.com
SUMMARY:Hunters Safety Internet Field Day
DESCRIPTION:Hunters Safety Internet Field Day\nOrganized by Augie Gray\nPre-Register at http://www.register-ed.com or\nContact Augie (410) 961-2594\n 
URL:https://thecoonclub.com/event/hunters-safety-internet-field-day/
LOCATION:The Coon Club\, 2855 Coon Club Rd\, Hampstead\, MD\, 21074\, United States
CATEGORIES:Hunters Safety,Safety Courses
ATTACH;FMTTYPE=image/jpeg:https://thecoonclub.com/wp-content/uploads/2024/07/hunter_safety.jpg
END:VEVENT
BEGIN:VEVENT
DTSTART;TZID=America/New_York:20240825T090000
DTEND;TZID=America/New_York:20240825T170000
DTSTAMP:20260422T181944
CREATED:20240604T022956Z
LAST-MODIFIED:20240604T032035Z
UID:575-1724576400-1724605200@thecoonclub.com
SUMMARY:HQL\, Wear & Carry Permit Class
DESCRIPTION:Maryland HQL\, Wear & Carry Permit Class\nby Reload Firearms\, LLC.\nTo Reserve a seat\, Click link above or Contact Amy Pushkin at 443-914-3322
URL:https://thecoonclub.com/event/hql-wear-carry-permit-class-7/
LOCATION:The Coon Club\, 2855 Coon Club Rd\, Hampstead\, MD\, 21074\, United States
CATEGORIES:HQL Wear & Carry,Safety Courses
END:VEVENT
BEGIN:VEVENT
DTSTART;TZID=America/New_York:20240824T090000
DTEND;TZID=America/New_York:20240824T170000
DTSTAMP:20260422T181944
CREATED:20240603T193530Z
LAST-MODIFIED:20240604T032053Z
UID:527-1724490000-1724518800@thecoonclub.com
SUMMARY:HQL\, Wear & Carry Permit Class
DESCRIPTION:Maryland HQL\, Wear & Carry Permit Class\nby Reload Firearms\, LLC.\nTo Reserve a seat\, Click link above or Contact Amy Pushkin at 443-914-3322
URL:https://thecoonclub.com/event/handgun-training/
LOCATION:The Coon Club\, 2855 Coon Club Rd\, Hampstead\, MD\, 21074\, United States
CATEGORIES:HQL Wear & Carry,Safety Courses
END:VEVENT
BEGIN:VEVENT
DTSTART;TZID=America/New_York:20240722T100000
DTEND;TZID=America/New_York:20240722T140000
DTSTAMP:20260422T181944
CREATED:20240702T122753Z
LAST-MODIFIED:20240712T193422Z
UID:684-1721642400-1721656800@thecoonclub.com
SUMMARY:Hunters Safety Internet Field Day
DESCRIPTION:Hunters Safety Internet Field Day\nOrganized by Augie Gray\nPre-Register at http://www.register-ed.com or\nContact Augie (410) 961-2594\n 
URL:https://thecoonclub.com/event/hunters-safety-course/
LOCATION:The Coon Club\, 2855 Coon Club Rd\, Hampstead\, MD\, 21074\, United States
CATEGORIES:Hunters Safety,Safety Courses
ATTACH;FMTTYPE=image/jpeg:https://thecoonclub.com/wp-content/uploads/2024/07/hunter_safety.jpg
END:VEVENT
BEGIN:VEVENT
DTSTART;TZID=America/New_York:20240630T090000
DTEND;TZID=America/New_York:20240630T170000
DTSTAMP:20260422T181944
CREATED:20240604T022419Z
LAST-MODIFIED:20240604T031714Z
UID:572-1719738000-1719766800@thecoonclub.com
SUMMARY:HQL\, Wear & Carry Permit Class
DESCRIPTION:Maryland HQL\, Wear & Carry Permit Class\nby Reload Firearms\, LLC.\nTo Reserve a seat\, Click link above or Contact Amy Pushkin at 443-914-3322
URL:https://thecoonclub.com/event/hql-wear-carry-permit-class-6/
LOCATION:The Coon Club\, 2855 Coon Club Rd\, Hampstead\, MD\, 21074\, United States
CATEGORIES:HQL Wear & Carry,Safety Courses
END:VEVENT
BEGIN:VEVENT
DTSTART;TZID=America/New_York:20240629T090000
DTEND;TZID=America/New_York:20240629T170000
DTSTAMP:20260422T181944
CREATED:20240603T211658Z
LAST-MODIFIED:20240604T031623Z
UID:537-1719651600-1719680400@thecoonclub.com
SUMMARY:HQL\, Wear & Carry Permit Class
DESCRIPTION:Maryland HQL\, Wear & Carry Permit Class\nby Reload Firearms\, LLC.\nTo Reserve a seat\, Click link above or Contact Amy Pushkin at 443-914-3322
URL:https://thecoonclub.com/event/hql-wear-carry-permit-class/
LOCATION:The Coon Club\, 2855 Coon Club Rd\, Hampstead\, MD\, 21074\, United States
CATEGORIES:HQL Wear & Carry,Safety Courses
END:VEVENT
END:VCALENDAR