BEGIN:VCALENDAR
VERSION:2.0
PRODID:-//The Coon Club - ECPv6.15.20//NONSGML v1.0//EN
CALSCALE:GREGORIAN
METHOD:PUBLISH
X-WR-CALNAME:The Coon Club
X-ORIGINAL-URL:https://thecoonclub.com
X-WR-CALDESC:Events for The Coon Club
REFRESH-INTERVAL;VALUE=DURATION:PT1H
X-Robots-Tag:noindex
X-PUBLISHED-TTL:PT1H
BEGIN:VTIMEZONE
TZID:America/New_York
BEGIN:DAYLIGHT
TZOFFSETFROM:-0500
TZOFFSETTO:-0400
TZNAME:EDT
DTSTART:20250309T070000
END:DAYLIGHT
BEGIN:STANDARD
TZOFFSETFROM:-0400
TZOFFSETTO:-0500
TZNAME:EST
DTSTART:20251102T060000
END:STANDARD
BEGIN:DAYLIGHT
TZOFFSETFROM:-0500
TZOFFSETTO:-0400
TZNAME:EDT
DTSTART:20260308T070000
END:DAYLIGHT
BEGIN:STANDARD
TZOFFSETFROM:-0400
TZOFFSETTO:-0500
TZNAME:EST
DTSTART:20261101T060000
END:STANDARD
BEGIN:DAYLIGHT
TZOFFSETFROM:-0500
TZOFFSETTO:-0400
TZNAME:EDT
DTSTART:20270314T070000
END:DAYLIGHT
BEGIN:STANDARD
TZOFFSETFROM:-0400
TZOFFSETTO:-0500
TZNAME:EST
DTSTART:20271107T060000
END:STANDARD
END:VTIMEZONE
BEGIN:VEVENT
DTSTART;TZID=America/New_York:20260501T160000
DTEND;TZID=America/New_York:20260501T210000
DTSTAMP:20260422T034331
CREATED:20260302T205204Z
LAST-MODIFIED:20260302T205204Z
UID:1768-1777651200-1777669200@thecoonclub.com
SUMMARY:Open Trap Shooting
DESCRIPTION:Open Trap Shooting\nEvery Friday Night – Year Round \nOpen to the Public \n4:00 PM – 9:00 PM Weather Permitting \n$6.00 for 25 Clay Birds \nBring your own Shells and Shotgun
URL:https://thecoonclub.com/event/open-trap-shooting-103/
LOCATION:The Coon Club\, 2855 Coon Club Rd\, Hampstead\, MD\, 21074\, United States
CATEGORIES:Shooting Events,Trap Shooting
ATTACH;FMTTYPE=image/jpeg:https://thecoonclub.com/wp-content/uploads/2024/04/Trap-Shooting.jpg
END:VEVENT
BEGIN:VEVENT
DTSTART;TZID=America/New_York:20260508T160000
DTEND;TZID=America/New_York:20260508T210000
DTSTAMP:20260422T034331
CREATED:20260302T205226Z
LAST-MODIFIED:20260302T205226Z
UID:1770-1778256000-1778274000@thecoonclub.com
SUMMARY:Open Trap Shooting
DESCRIPTION:Open Trap Shooting\nEvery Friday Night – Year Round \nOpen to the Public \n4:00 PM – 9:00 PM Weather Permitting \n$6.00 for 25 Clay Birds \nBring your own Shells and Shotgun
URL:https://thecoonclub.com/event/open-trap-shooting-104/
LOCATION:The Coon Club\, 2855 Coon Club Rd\, Hampstead\, MD\, 21074\, United States
CATEGORIES:Shooting Events,Trap Shooting
ATTACH;FMTTYPE=image/jpeg:https://thecoonclub.com/wp-content/uploads/2024/04/Trap-Shooting.jpg
END:VEVENT
BEGIN:VEVENT
DTSTART;TZID=America/New_York:20260515T160000
DTEND;TZID=America/New_York:20260515T210000
DTSTAMP:20260422T034331
CREATED:20260302T205248Z
LAST-MODIFIED:20260302T205248Z
UID:1772-1778860800-1778878800@thecoonclub.com
SUMMARY:Open Trap Shooting
DESCRIPTION:Open Trap Shooting\nEvery Friday Night – Year Round \nOpen to the Public \n4:00 PM – 9:00 PM Weather Permitting \n$6.00 for 25 Clay Birds \nBring your own Shells and Shotgun
URL:https://thecoonclub.com/event/open-trap-shooting-105/
LOCATION:The Coon Club\, 2855 Coon Club Rd\, Hampstead\, MD\, 21074\, United States
CATEGORIES:Shooting Events,Trap Shooting
ATTACH;FMTTYPE=image/jpeg:https://thecoonclub.com/wp-content/uploads/2024/04/Trap-Shooting.jpg
END:VEVENT
BEGIN:VEVENT
DTSTART;TZID=America/New_York:20260522T160000
DTEND;TZID=America/New_York:20260522T210000
DTSTAMP:20260422T034331
CREATED:20260302T205317Z
LAST-MODIFIED:20260302T205317Z
UID:1774-1779465600-1779483600@thecoonclub.com
SUMMARY:Open Trap Shooting
DESCRIPTION:Open Trap Shooting\nEvery Friday Night – Year Round \nOpen to the Public \n4:00 PM – 9:00 PM Weather Permitting \n$6.00 for 25 Clay Birds \nBring your own Shells and Shotgun
URL:https://thecoonclub.com/event/open-trap-shooting-106/
LOCATION:The Coon Club\, 2855 Coon Club Rd\, Hampstead\, MD\, 21074\, United States
CATEGORIES:Shooting Events,Trap Shooting
ATTACH;FMTTYPE=image/jpeg:https://thecoonclub.com/wp-content/uploads/2024/04/Trap-Shooting.jpg
END:VEVENT
BEGIN:VEVENT
DTSTART;TZID=America/New_York:20260529T160000
DTEND;TZID=America/New_York:20260529T210000
DTSTAMP:20260422T034331
CREATED:20260302T205423Z
LAST-MODIFIED:20260302T205423Z
UID:1776-1780070400-1780088400@thecoonclub.com
SUMMARY:Open Trap Shooting
DESCRIPTION:Open Trap Shooting\nEvery Friday Night – Year Round \nOpen to the Public \n4:00 PM – 9:00 PM Weather Permitting \n$6.00 for 25 Clay Birds \nBring your own Shells and Shotgun
URL:https://thecoonclub.com/event/open-trap-shooting-107/
LOCATION:The Coon Club\, 2855 Coon Club Rd\, Hampstead\, MD\, 21074\, United States
CATEGORIES:Shooting Events,Trap Shooting
ATTACH;FMTTYPE=image/jpeg:https://thecoonclub.com/wp-content/uploads/2024/04/Trap-Shooting.jpg
END:VEVENT
END:VCALENDAR