BEGIN:VCALENDAR
VERSION:2.0
PRODID:-//The Coon Club - ECPv6.15.20//NONSGML v1.0//EN
CALSCALE:GREGORIAN
METHOD:PUBLISH
X-ORIGINAL-URL:https://thecoonclub.com
X-WR-CALDESC:Events for The Coon Club
REFRESH-INTERVAL;VALUE=DURATION:PT1H
X-Robots-Tag:noindex
X-PUBLISHED-TTL:PT1H
BEGIN:VTIMEZONE
TZID:America/New_York
BEGIN:DAYLIGHT
TZOFFSETFROM:-0500
TZOFFSETTO:-0400
TZNAME:EDT
DTSTART:20240310T070000
END:DAYLIGHT
BEGIN:STANDARD
TZOFFSETFROM:-0400
TZOFFSETTO:-0500
TZNAME:EST
DTSTART:20241103T060000
END:STANDARD
BEGIN:DAYLIGHT
TZOFFSETFROM:-0500
TZOFFSETTO:-0400
TZNAME:EDT
DTSTART:20250309T070000
END:DAYLIGHT
BEGIN:STANDARD
TZOFFSETFROM:-0400
TZOFFSETTO:-0500
TZNAME:EST
DTSTART:20251102T060000
END:STANDARD
BEGIN:DAYLIGHT
TZOFFSETFROM:-0500
TZOFFSETTO:-0400
TZNAME:EDT
DTSTART:20260308T070000
END:DAYLIGHT
BEGIN:STANDARD
TZOFFSETFROM:-0400
TZOFFSETTO:-0500
TZNAME:EST
DTSTART:20261101T060000
END:STANDARD
BEGIN:DAYLIGHT
TZOFFSETFROM:-0500
TZOFFSETTO:-0400
TZNAME:EDT
DTSTART:20270314T070000
END:DAYLIGHT
BEGIN:STANDARD
TZOFFSETFROM:-0400
TZOFFSETTO:-0500
TZNAME:EST
DTSTART:20271107T060000
END:STANDARD
END:VTIMEZONE
BEGIN:VEVENT
DTSTART;TZID=America/New_York:20260213T160000
DTEND;TZID=America/New_York:20260213T210000
DTSTAMP:20260422T071954
CREATED:20251222T133016Z
LAST-MODIFIED:20251222T133016Z
UID:1548-1770998400-1771016400@thecoonclub.com
SUMMARY:Open Trap Shooting
DESCRIPTION:Open Trap Shooting\nEvery Friday Night – Year Round \nOpen to the Public \n4:00 PM – 9:00 PM Weather Permitting \n$6.00 for 25 Clay Birds \nBring your own Shells and Shotgun
URL:https://thecoonclub.com/event/open-trap-shooting-92/
LOCATION:The Coon Club\, 2855 Coon Club Rd\, Hampstead\, MD\, 21074\, United States
CATEGORIES:Shooting Events,Trap Shooting
ATTACH;FMTTYPE=image/jpeg:https://thecoonclub.com/wp-content/uploads/2024/04/Trap-Shooting.jpg
END:VEVENT
BEGIN:VEVENT
DTSTART;TZID=America/New_York:20260206T160000
DTEND;TZID=America/New_York:20260206T210000
DTSTAMP:20260422T071954
CREATED:20251222T132946Z
LAST-MODIFIED:20251222T132946Z
UID:1546-1770393600-1770411600@thecoonclub.com
SUMMARY:Open Trap Shooting
DESCRIPTION:Open Trap Shooting\nEvery Friday Night – Year Round \nOpen to the Public \n4:00 PM – 9:00 PM Weather Permitting \n$6.00 for 25 Clay Birds \nBring your own Shells and Shotgun
URL:https://thecoonclub.com/event/open-trap-shooting-91/
LOCATION:The Coon Club\, 2855 Coon Club Rd\, Hampstead\, MD\, 21074\, United States
CATEGORIES:Shooting Events,Trap Shooting
ATTACH;FMTTYPE=image/jpeg:https://thecoonclub.com/wp-content/uploads/2024/04/Trap-Shooting.jpg
END:VEVENT
BEGIN:VEVENT
DTSTART;TZID=America/New_York:20260130T160000
DTEND;TZID=America/New_York:20260130T210000
DTSTAMP:20260422T071954
CREATED:20251121T205024Z
LAST-MODIFIED:20251121T205024Z
UID:1518-1769788800-1769806800@thecoonclub.com
SUMMARY:Open Trap Shooting
DESCRIPTION:Open Trap Shooting\nEvery Friday Night – Year Round \nOpen to the Public \n4:00 PM – 9:00 PM Weather Permitting \n$6.00 for 25 Clay Birds \nBring your own Shells and Shotgun
URL:https://thecoonclub.com/event/open-trap-shooting-90/
LOCATION:The Coon Club\, 2855 Coon Club Rd\, Hampstead\, MD\, 21074\, United States
CATEGORIES:Shooting Events,Trap Shooting
ATTACH;FMTTYPE=image/jpeg:https://thecoonclub.com/wp-content/uploads/2024/04/Trap-Shooting.jpg
END:VEVENT
BEGIN:VEVENT
DTSTART;TZID=America/New_York:20260123T160000
DTEND;TZID=America/New_York:20260123T210000
DTSTAMP:20260422T071954
CREATED:20251121T204956Z
LAST-MODIFIED:20251121T204956Z
UID:1516-1769184000-1769202000@thecoonclub.com
SUMMARY:Open Trap Shooting
DESCRIPTION:Open Trap Shooting\nEvery Friday Night – Year Round \nOpen to the Public \n4:00 PM – 9:00 PM Weather Permitting \n$6.00 for 25 Clay Birds \nBring your own Shells and Shotgun
URL:https://thecoonclub.com/event/open-trap-shooting-89/
LOCATION:The Coon Club\, 2855 Coon Club Rd\, Hampstead\, MD\, 21074\, United States
CATEGORIES:Shooting Events,Trap Shooting
ATTACH;FMTTYPE=image/jpeg:https://thecoonclub.com/wp-content/uploads/2024/04/Trap-Shooting.jpg
END:VEVENT
BEGIN:VEVENT
DTSTART;TZID=America/New_York:20260116T160000
DTEND;TZID=America/New_York:20260116T210000
DTSTAMP:20260422T071954
CREATED:20251121T204827Z
LAST-MODIFIED:20251121T204827Z
UID:1514-1768579200-1768597200@thecoonclub.com
SUMMARY:Open Trap Shooting
DESCRIPTION:Open Trap Shooting\nEvery Friday Night – Year Round \nOpen to the Public \n4:00 PM – 9:00 PM Weather Permitting \n$6.00 for 25 Clay Birds \nBring your own Shells and Shotgun
URL:https://thecoonclub.com/event/open-trap-shooting-88/
LOCATION:The Coon Club\, 2855 Coon Club Rd\, Hampstead\, MD\, 21074\, United States
CATEGORIES:Shooting Events,Trap Shooting
ATTACH;FMTTYPE=image/jpeg:https://thecoonclub.com/wp-content/uploads/2024/04/Trap-Shooting.jpg
END:VEVENT
BEGIN:VEVENT
DTSTART;TZID=America/New_York:20260109T160000
DTEND;TZID=America/New_York:20260109T210000
DTSTAMP:20260422T071954
CREATED:20251121T204033Z
LAST-MODIFIED:20251121T204718Z
UID:1512-1767974400-1767992400@thecoonclub.com
SUMMARY:Open Trap Shooting
DESCRIPTION:Open Trap Shooting\nEvery Friday Night – Year Round \nOpen to the Public \n4:00 PM – 9:00 PM Weather Permitting \n$6.00 for 25 Clay Birds \nBring your own Shells and Shotgun
URL:https://thecoonclub.com/event/open-trap-shooting-87/
LOCATION:The Coon Club\, 2855 Coon Club Rd\, Hampstead\, MD\, 21074\, United States
CATEGORIES:Shooting Events,Trap Shooting
ATTACH;FMTTYPE=image/jpeg:https://thecoonclub.com/wp-content/uploads/2024/04/Trap-Shooting.jpg
END:VEVENT
BEGIN:VEVENT
DTSTART;TZID=America/New_York:20260108T170000
DTEND;TZID=America/New_York:20260108T200000
DTSTAMP:20260422T071954
CREATED:20251124T150212Z
LAST-MODIFIED:20251124T150212Z
UID:1520-1767891600-1767902400@thecoonclub.com
SUMMARY:Trap In The Dark
DESCRIPTION:Trap in the Dark\nA unique night trap shoot with glow in the dark targets \nOpen to the Public \n5:00 PM – 8:00 PM Weather Permitting \n$7.00 \nBring your own Shells and Shotgun \nhttps://thecoonclub.com/wp-content/uploads/2025/11/IMG_5751.MOV.mp4
URL:https://thecoonclub.com/event/trap-in-the-dark-3/
LOCATION:The Coon Club\, 2855 Coon Club Rd\, Hampstead\, MD\, 21074\, United States
CATEGORIES:Shooting Events,Trap Shooting
ATTACH;FMTTYPE=image/jpeg:https://thecoonclub.com/wp-content/uploads/2025/11/Glow-in-the-Dark.jpg
END:VEVENT
BEGIN:VEVENT
DTSTART;TZID=America/New_York:20260102T160000
DTEND;TZID=America/New_York:20260102T210000
DTSTAMP:20260422T071954
CREATED:20251121T204009Z
LAST-MODIFIED:20251121T204009Z
UID:1510-1767369600-1767387600@thecoonclub.com
SUMMARY:Open Trap Shooting
DESCRIPTION:Open Trap Shooting\nEvery Friday Night – Year Round \nOpen to the Public \n4:00 PM – 9:00 PM Weather Permitting \n$6.00 for 25 Clay Birds \nBring your own Shells and Shotgun
URL:https://thecoonclub.com/event/open-trap-shooting-86/
LOCATION:The Coon Club\, 2855 Coon Club Rd\, Hampstead\, MD\, 21074\, United States
CATEGORIES:Shooting Events,Trap Shooting
ATTACH;FMTTYPE=image/jpeg:https://thecoonclub.com/wp-content/uploads/2024/04/Trap-Shooting.jpg
END:VEVENT
BEGIN:VEVENT
DTSTART;TZID=America/New_York:20251226T160000
DTEND;TZID=America/New_York:20251226T210000
DTSTAMP:20260422T071954
CREATED:20250805T175941Z
LAST-MODIFIED:20250805T183142Z
UID:1315-1766764800-1766782800@thecoonclub.com
SUMMARY:Open Trap Shooting
DESCRIPTION:Open Trap Shooting\nEvery Friday Night – Year Round \nOpen to the Public \n4:00 PM – 9:00 PM Weather Permitting \n$6.00 for 25 Clay Birds \nBring your own Shells and Shotgun
URL:https://thecoonclub.com/event/open-trap-shooting-85/
LOCATION:The Coon Club\, 2855 Coon Club Rd\, Hampstead\, MD\, 21074\, United States
CATEGORIES:Shooting Events,Trap Shooting
ATTACH;FMTTYPE=image/jpeg:https://thecoonclub.com/wp-content/uploads/2024/04/Trap-Shooting.jpg
END:VEVENT
BEGIN:VEVENT
DTSTART;TZID=America/New_York:20251219T160000
DTEND;TZID=America/New_York:20251219T210000
DTSTAMP:20260422T071954
CREATED:20250805T175922Z
LAST-MODIFIED:20250805T183159Z
UID:1316-1766160000-1766178000@thecoonclub.com
SUMMARY:Open Trap Shooting
DESCRIPTION:Open Trap Shooting\nEvery Friday Night – Year Round \nOpen to the Public \n4:00 PM – 9:00 PM Weather Permitting \n$6.00 for 25 Clay Birds \nBring your own Shells and Shotgun
URL:https://thecoonclub.com/event/open-trap-shooting-84/
LOCATION:The Coon Club\, 2855 Coon Club Rd\, Hampstead\, MD\, 21074\, United States
CATEGORIES:Shooting Events,Trap Shooting
ATTACH;FMTTYPE=image/jpeg:https://thecoonclub.com/wp-content/uploads/2024/04/Trap-Shooting.jpg
END:VEVENT
BEGIN:VEVENT
DTSTART;TZID=America/New_York:20251212T160000
DTEND;TZID=America/New_York:20251212T210000
DTSTAMP:20260422T071954
CREATED:20250805T175753Z
LAST-MODIFIED:20250805T183233Z
UID:1307-1765555200-1765573200@thecoonclub.com
SUMMARY:Open Trap Shooting
DESCRIPTION:Open Trap Shooting\nEvery Friday Night – Year Round \nOpen to the Public \n4:00 PM – 9:00 PM Weather Permitting \n$6.00 for 25 Clay Birds \nBring your own Shells and Shotgun
URL:https://thecoonclub.com/event/open-trap-shooting-83/
LOCATION:The Coon Club\, 2855 Coon Club Rd\, Hampstead\, MD\, 21074\, United States
CATEGORIES:Shooting Events,Trap Shooting
ATTACH;FMTTYPE=image/jpeg:https://thecoonclub.com/wp-content/uploads/2024/04/Trap-Shooting.jpg
END:VEVENT
BEGIN:VEVENT
DTSTART;TZID=America/New_York:20251211T170000
DTEND;TZID=America/New_York:20251211T200000
DTSTAMP:20260422T071954
CREATED:20251121T195609Z
LAST-MODIFIED:20251124T150115Z
UID:1480-1765472400-1765483200@thecoonclub.com
SUMMARY:Trap In The Dark
DESCRIPTION:Trap in the Dark\nA unique night trap shoot with glow in the dark targets \nOpen to the Public \n5:00 PM – 8:00 PM Weather Permitting \n$7.00 \nBring your own Shells and Shotgun \nhttps://thecoonclub.com/wp-content/uploads/2025/11/IMG_5751.MOV.mp4
URL:https://thecoonclub.com/event/trap-in-the-dark-2/
LOCATION:The Coon Club\, 2855 Coon Club Rd\, Hampstead\, MD\, 21074\, United States
CATEGORIES:Shooting Events,Trap Shooting
ATTACH;FMTTYPE=image/jpeg:https://thecoonclub.com/wp-content/uploads/2025/11/Glow-in-the-Dark.jpg
END:VEVENT
BEGIN:VEVENT
DTSTART;TZID=America/New_York:20251205T160000
DTEND;TZID=America/New_York:20251205T210000
DTSTAMP:20260422T071954
CREATED:20250805T175735Z
LAST-MODIFIED:20250805T183309Z
UID:1308-1764950400-1764968400@thecoonclub.com
SUMMARY:Open Trap Shooting
DESCRIPTION:Open Trap Shooting\nEvery Friday Night – Year Round \nOpen to the Public \n4:00 PM – 9:00 PM Weather Permitting \n$6.00 for 25 Clay Birds \nBring your own Shells and Shotgun
URL:https://thecoonclub.com/event/open-trap-shooting-82/
LOCATION:The Coon Club\, 2855 Coon Club Rd\, Hampstead\, MD\, 21074\, United States
CATEGORIES:Shooting Events,Trap Shooting
ATTACH;FMTTYPE=image/jpeg:https://thecoonclub.com/wp-content/uploads/2024/04/Trap-Shooting.jpg
END:VEVENT
BEGIN:VEVENT
DTSTART;TZID=America/New_York:20251128T160000
DTEND;TZID=America/New_York:20251128T210000
DTSTAMP:20260422T071954
CREATED:20250805T175704Z
LAST-MODIFIED:20250805T183659Z
UID:1309-1764345600-1764363600@thecoonclub.com
SUMMARY:Open Trap Shooting
DESCRIPTION:Open Trap Shooting\nEvery Friday Night – Year Round \nOpen to the Public \n4:00 PM – 9:00 PM Weather Permitting \n$6.00 for 25 Clay Birds \nBring your own Shells and Shotgun
URL:https://thecoonclub.com/event/open-trap-shooting-81/
LOCATION:The Coon Club\, 2855 Coon Club Rd\, Hampstead\, MD\, 21074\, United States
CATEGORIES:Shooting Events,Trap Shooting
ATTACH;FMTTYPE=image/jpeg:https://thecoonclub.com/wp-content/uploads/2024/04/Trap-Shooting.jpg
END:VEVENT
BEGIN:VEVENT
DTSTART;TZID=America/New_York:20251121T160000
DTEND;TZID=America/New_York:20251121T210000
DTSTAMP:20260422T071954
CREATED:20250805T175643Z
LAST-MODIFIED:20250805T183549Z
UID:1310-1763740800-1763758800@thecoonclub.com
SUMMARY:Open Trap Shooting
DESCRIPTION:Open Trap Shooting\nEvery Friday Night – Year Round \nOpen to the Public \n4:00 PM – 9:00 PM Weather Permitting \n$6.00 for 25 Clay Birds \nBring your own Shells and Shotgun
URL:https://thecoonclub.com/event/open-trap-shooting-80/
LOCATION:The Coon Club\, 2855 Coon Club Rd\, Hampstead\, MD\, 21074\, United States
CATEGORIES:Shooting Events,Trap Shooting
ATTACH;FMTTYPE=image/jpeg:https://thecoonclub.com/wp-content/uploads/2024/04/Trap-Shooting.jpg
END:VEVENT
BEGIN:VEVENT
DTSTART;TZID=America/New_York:20251120T170000
DTEND;TZID=America/New_York:20251120T200000
DTSTAMP:20260422T071954
CREATED:20251104T143138Z
LAST-MODIFIED:20251104T145435Z
UID:1437-1763658000-1763668800@thecoonclub.com
SUMMARY:Trap In The Dark
DESCRIPTION:Trap in the Dark\nA unique night trap shoot with glow in the dark targets \nOpen to the Public \n5:00 PM – 8:00 PM Weather Permitting \n$7.00 \nBring your own Shells and Shotgun \nhttps://thecoonclub.com/wp-content/uploads/2025/11/IMG_5751.MOV.mp4
URL:https://thecoonclub.com/event/trap-in-the-dark/
LOCATION:The Coon Club\, 2855 Coon Club Rd\, Hampstead\, MD\, 21074\, United States
CATEGORIES:Shooting Events,Trap Shooting
ATTACH;FMTTYPE=image/jpeg:https://thecoonclub.com/wp-content/uploads/2025/11/Glow-in-the-Dark.jpg
END:VEVENT
BEGIN:VEVENT
DTSTART;TZID=America/New_York:20251114T160000
DTEND;TZID=America/New_York:20251114T210000
DTSTAMP:20260422T071955
CREATED:20250805T175553Z
LAST-MODIFIED:20250805T183512Z
UID:1305-1763136000-1763154000@thecoonclub.com
SUMMARY:Open Trap Shooting
DESCRIPTION:Open Trap Shooting\nEvery Friday Night – Year Round \nOpen to the Public \n4:00 PM – 9:00 PM Weather Permitting \n$6.00 for 25 Clay Birds \nBring your own Shells and Shotgun
URL:https://thecoonclub.com/event/open-trap-shooting-79/
LOCATION:The Coon Club\, 2855 Coon Club Rd\, Hampstead\, MD\, 21074\, United States
CATEGORIES:Shooting Events,Trap Shooting
ATTACH;FMTTYPE=image/jpeg:https://thecoonclub.com/wp-content/uploads/2024/04/Trap-Shooting.jpg
END:VEVENT
BEGIN:VEVENT
DTSTART;TZID=America/New_York:20251107T160000
DTEND;TZID=America/New_York:20251107T210000
DTSTAMP:20260422T071955
CREATED:20250805T175538Z
LAST-MODIFIED:20250805T183419Z
UID:1303-1762531200-1762549200@thecoonclub.com
SUMMARY:Open Trap Shooting
DESCRIPTION:Open Trap Shooting\nEvery Friday Night – Year Round \nOpen to the Public \n4:00 PM – 9:00 PM Weather Permitting \n$6.00 for 25 Clay Birds \nBring your own Shells and Shotgun
URL:https://thecoonclub.com/event/open-trap-shooting-78/
LOCATION:The Coon Club\, 2855 Coon Club Rd\, Hampstead\, MD\, 21074\, United States
CATEGORIES:Shooting Events,Trap Shooting
ATTACH;FMTTYPE=image/jpeg:https://thecoonclub.com/wp-content/uploads/2024/04/Trap-Shooting.jpg
END:VEVENT
BEGIN:VEVENT
DTSTART;TZID=America/New_York:20251031T160000
DTEND;TZID=America/New_York:20251031T210000
DTSTAMP:20260422T071955
CREATED:20250805T170658Z
LAST-MODIFIED:20250805T183819Z
UID:1271-1761926400-1761944400@thecoonclub.com
SUMMARY:Open Trap Shooting
DESCRIPTION:Open Trap Shooting\nEvery Friday Night – Year Round \nOpen to the Public \n4:00 PM – 9:00 PM Weather Permitting \n$6.00 for 25 Clay Birds \nBring your own Shells and Shotgun
URL:https://thecoonclub.com/event/open-trap-shooting-77/
LOCATION:The Coon Club\, 2855 Coon Club Rd\, Hampstead\, MD\, 21074\, United States
CATEGORIES:Shooting Events,Trap Shooting
ATTACH;FMTTYPE=image/jpeg:https://thecoonclub.com/wp-content/uploads/2024/04/Trap-Shooting.jpg
END:VEVENT
BEGIN:VEVENT
DTSTART;TZID=America/New_York:20251024T160000
DTEND;TZID=America/New_York:20251024T210000
DTSTAMP:20260422T071955
CREATED:20250805T170626Z
LAST-MODIFIED:20250805T183851Z
UID:1269-1761321600-1761339600@thecoonclub.com
SUMMARY:Open Trap Shooting
DESCRIPTION:Open Trap Shooting\nEvery Friday Night – Year Round \nOpen to the Public \n4:00 PM – 9:00 PM Weather Permitting \n$6.00 for 25 Clay Birds \nBring your own Shells and Shotgun
URL:https://thecoonclub.com/event/open-trap-shooting-76/
LOCATION:The Coon Club\, 2855 Coon Club Rd\, Hampstead\, MD\, 21074\, United States
CATEGORIES:Shooting Events,Trap Shooting
ATTACH;FMTTYPE=image/jpeg:https://thecoonclub.com/wp-content/uploads/2024/04/Trap-Shooting.jpg
END:VEVENT
BEGIN:VEVENT
DTSTART;TZID=America/New_York:20251017T160000
DTEND;TZID=America/New_York:20251017T210000
DTSTAMP:20260422T071955
CREATED:20250805T170524Z
LAST-MODIFIED:20250805T183936Z
UID:1267-1760716800-1760734800@thecoonclub.com
SUMMARY:Open Trap Shooting
DESCRIPTION:Open Trap Shooting\nEvery Friday Night – Year Round \nOpen to the Public \n4:00 PM – 9:00 PM Weather Permitting \n$6.00 for 25 Clay Birds \nBring your own Shells and Shotgun
URL:https://thecoonclub.com/event/open-trap-shooting-75/
LOCATION:The Coon Club\, 2855 Coon Club Rd\, Hampstead\, MD\, 21074\, United States
CATEGORIES:Shooting Events,Trap Shooting
ATTACH;FMTTYPE=image/jpeg:https://thecoonclub.com/wp-content/uploads/2024/04/Trap-Shooting.jpg
END:VEVENT
BEGIN:VEVENT
DTSTART;TZID=America/New_York:20251010T160000
DTEND;TZID=America/New_York:20251010T210000
DTSTAMP:20260422T071955
CREATED:20250805T170500Z
LAST-MODIFIED:20250805T184021Z
UID:1265-1760112000-1760130000@thecoonclub.com
SUMMARY:Open Trap Shooting
DESCRIPTION:Open Trap Shooting\nEvery Friday Night – Year Round \nOpen to the Public \n4:00 PM – 9:00 PM Weather Permitting \n$6.00 for 25 Clay Birds \nBring your own Shells and Shotgun
URL:https://thecoonclub.com/event/open-trap-shooting-74/
LOCATION:The Coon Club\, 2855 Coon Club Rd\, Hampstead\, MD\, 21074\, United States
CATEGORIES:Shooting Events,Trap Shooting
ATTACH;FMTTYPE=image/jpeg:https://thecoonclub.com/wp-content/uploads/2024/04/Trap-Shooting.jpg
END:VEVENT
BEGIN:VEVENT
DTSTART;TZID=America/New_York:20251005T080000
DTEND;TZID=America/New_York:20251005T140000
DTSTAMP:20260422T071955
CREATED:20250805T171437Z
LAST-MODIFIED:20250805T171437Z
UID:1275-1759651200-1759672800@thecoonclub.com
SUMMARY:Heart of Maryland Trapshooting
DESCRIPTION:Prices:\nTargets: $24.00 for Adults – $12.00 for Juniors\nLewis: $7.00\nHigh Gun: $2.00\nJackpot: $2.00 \nAll shoots begin at 9:00 a.m.\nSign up begins at 8:00 a.m. Entries close at 2:00 p.m. \nHeart of Maryland Website
URL:https://thecoonclub.com/event/heart-of-maryland-trapshooting-7/
LOCATION:The Coon Club\, 2855 Coon Club Rd\, Hampstead\, MD\, 21074\, United States
CATEGORIES:Shooting Events,Trap Shooting
ATTACH;FMTTYPE=image/png:https://thecoonclub.com/wp-content/uploads/2024/08/HOM_Logo_Small.png
END:VEVENT
BEGIN:VEVENT
DTSTART;TZID=America/New_York:20251003T160000
DTEND;TZID=America/New_York:20251003T210000
DTSTAMP:20260422T071955
CREATED:20250805T170447Z
LAST-MODIFIED:20250805T184135Z
UID:1263-1759507200-1759525200@thecoonclub.com
SUMMARY:Open Trap Shooting
DESCRIPTION:Open Trap Shooting\nEvery Friday Night – Year Round \nOpen to the Public \n4:00 PM – 9:00 PM Weather Permitting \n$6.00 for 25 Clay Birds \nBring your own Shells and Shotgun
URL:https://thecoonclub.com/event/open-trap-shooting-73/
LOCATION:The Coon Club\, 2855 Coon Club Rd\, Hampstead\, MD\, 21074\, United States
CATEGORIES:Shooting Events,Trap Shooting
ATTACH;FMTTYPE=image/jpeg:https://thecoonclub.com/wp-content/uploads/2024/04/Trap-Shooting.jpg
END:VEVENT
BEGIN:VEVENT
DTSTART;TZID=America/New_York:20250926T160000
DTEND;TZID=America/New_York:20250926T210000
DTSTAMP:20260422T071955
CREATED:20250805T170428Z
LAST-MODIFIED:20250805T184212Z
UID:1261-1758902400-1758920400@thecoonclub.com
SUMMARY:Open Trap Shooting
DESCRIPTION:Open Trap Shooting\nEvery Friday Night – Year Round \nOpen to the Public \n4:00 PM – 9:00 PM Weather Permitting \n$6.00 for 25 Clay Birds \nBring your own Shells and Shotgun
URL:https://thecoonclub.com/event/open-trap-shooting-72/
LOCATION:The Coon Club\, 2855 Coon Club Rd\, Hampstead\, MD\, 21074\, United States
CATEGORIES:Shooting Events,Trap Shooting
ATTACH;FMTTYPE=image/jpeg:https://thecoonclub.com/wp-content/uploads/2024/04/Trap-Shooting.jpg
END:VEVENT
BEGIN:VEVENT
DTSTART;TZID=America/New_York:20250919T160000
DTEND;TZID=America/New_York:20250919T210000
DTSTAMP:20260422T071955
CREATED:20250805T170317Z
LAST-MODIFIED:20250805T184535Z
UID:1253-1758297600-1758315600@thecoonclub.com
SUMMARY:Open Trap Shooting
DESCRIPTION:Open Trap Shooting\nEvery Friday Night – Year Round \nOpen to the Public \n4:00 PM – 9:00 PM Weather Permitting \n$6.00 for 25 Clay Birds \nBring your own Shells and Shotgun
URL:https://thecoonclub.com/event/open-trap-shooting-71/
LOCATION:The Coon Club\, 2855 Coon Club Rd\, Hampstead\, MD\, 21074\, United States
CATEGORIES:Shooting Events,Trap Shooting
ATTACH;FMTTYPE=image/jpeg:https://thecoonclub.com/wp-content/uploads/2024/04/Trap-Shooting.jpg
END:VEVENT
BEGIN:VEVENT
DTSTART;TZID=America/New_York:20250914T080000
DTEND;TZID=America/New_York:20250914T140000
DTSTAMP:20260422T071955
CREATED:20250805T171405Z
LAST-MODIFIED:20250805T171405Z
UID:1276-1757836800-1757858400@thecoonclub.com
SUMMARY:Heart of Maryland Trapshooting
DESCRIPTION:Prices:\nTargets: $24.00 for Adults – $12.00 for Juniors\nLewis: $7.00\nHigh Gun: $2.00\nJackpot: $2.00 \nAll shoots begin at 9:00 a.m.\nSign up begins at 8:00 a.m. Entries close at 2:00 p.m. \nHeart of Maryland Website
URL:https://thecoonclub.com/event/heart-of-maryland-trapshooting-6/
LOCATION:The Coon Club\, 2855 Coon Club Rd\, Hampstead\, MD\, 21074\, United States
CATEGORIES:Shooting Events,Trap Shooting
ATTACH;FMTTYPE=image/png:https://thecoonclub.com/wp-content/uploads/2024/08/HOM_Logo_Small.png
END:VEVENT
BEGIN:VEVENT
DTSTART;TZID=America/New_York:20250912T160000
DTEND;TZID=America/New_York:20250912T210000
DTSTAMP:20260422T071955
CREATED:20250805T170259Z
LAST-MODIFIED:20250805T184956Z
UID:1254-1757692800-1757710800@thecoonclub.com
SUMMARY:Open Trap Shooting
DESCRIPTION:Open Trap Shooting\nEvery Friday Night – Year Round \nOpen to the Public \n4:00 PM – 9:00 PM Weather Permitting \n$6.00 for 25 Clay Birds \nBring your own Shells and Shotgun
URL:https://thecoonclub.com/event/open-trap-shooting-70/
LOCATION:The Coon Club\, 2855 Coon Club Rd\, Hampstead\, MD\, 21074\, United States
CATEGORIES:Shooting Events,Trap Shooting
ATTACH;FMTTYPE=image/jpeg:https://thecoonclub.com/wp-content/uploads/2024/04/Trap-Shooting.jpg
END:VEVENT
BEGIN:VEVENT
DTSTART;TZID=America/New_York:20250905T160000
DTEND;TZID=America/New_York:20250905T210000
DTSTAMP:20260422T071955
CREATED:20250805T170239Z
LAST-MODIFIED:20250805T184814Z
UID:1257-1757088000-1757106000@thecoonclub.com
SUMMARY:Open Trap Shooting
DESCRIPTION:Open Trap Shooting\nEvery Friday Night – Year Round \nOpen to the Public \n4:00 PM – 9:00 PM Weather Permitting \n$6.00 for 25 Clay Birds \nBring your own Shells and Shotgun
URL:https://thecoonclub.com/event/open-trap-shooting-69/
LOCATION:The Coon Club\, 2855 Coon Club Rd\, Hampstead\, MD\, 21074\, United States
CATEGORIES:Shooting Events,Trap Shooting
ATTACH;FMTTYPE=image/jpeg:https://thecoonclub.com/wp-content/uploads/2024/04/Trap-Shooting.jpg
END:VEVENT
BEGIN:VEVENT
DTSTART;TZID=America/New_York:20250829T160000
DTEND;TZID=America/New_York:20250829T210000
DTSTAMP:20260422T071955
CREATED:20250805T170034Z
LAST-MODIFIED:20250805T184703Z
UID:1248-1756483200-1756501200@thecoonclub.com
SUMMARY:Open Trap Shooting
DESCRIPTION:Open Trap Shooting\nEvery Friday Night – Year Round \nOpen to the Public \n4:00 PM – 9:00 PM Weather Permitting \n$6.00 for 25 Clay Birds \nBring your own Shells and Shotgun
URL:https://thecoonclub.com/event/open-trap-shooting-68/
LOCATION:The Coon Club\, 2855 Coon Club Rd\, Hampstead\, MD\, 21074\, United States
CATEGORIES:Shooting Events,Trap Shooting
ATTACH;FMTTYPE=image/jpeg:https://thecoonclub.com/wp-content/uploads/2024/04/Trap-Shooting.jpg
END:VEVENT
END:VCALENDAR