BEGIN:VCALENDAR
VERSION:2.0
PRODID:-//The Coon Club - ECPv6.15.20//NONSGML v1.0//EN
CALSCALE:GREGORIAN
METHOD:PUBLISH
X-WR-CALNAME:The Coon Club
X-ORIGINAL-URL:https://thecoonclub.com
X-WR-CALDESC:Events for The Coon Club
REFRESH-INTERVAL;VALUE=DURATION:PT1H
X-Robots-Tag:noindex
X-PUBLISHED-TTL:PT1H
BEGIN:VTIMEZONE
TZID:America/New_York
BEGIN:DAYLIGHT
TZOFFSETFROM:-0500
TZOFFSETTO:-0400
TZNAME:EDT
DTSTART:20240310T070000
END:DAYLIGHT
BEGIN:STANDARD
TZOFFSETFROM:-0400
TZOFFSETTO:-0500
TZNAME:EST
DTSTART:20241103T060000
END:STANDARD
BEGIN:DAYLIGHT
TZOFFSETFROM:-0500
TZOFFSETTO:-0400
TZNAME:EDT
DTSTART:20250309T070000
END:DAYLIGHT
BEGIN:STANDARD
TZOFFSETFROM:-0400
TZOFFSETTO:-0500
TZNAME:EST
DTSTART:20251102T060000
END:STANDARD
BEGIN:DAYLIGHT
TZOFFSETFROM:-0500
TZOFFSETTO:-0400
TZNAME:EDT
DTSTART:20260308T070000
END:DAYLIGHT
BEGIN:STANDARD
TZOFFSETFROM:-0400
TZOFFSETTO:-0500
TZNAME:EST
DTSTART:20261101T060000
END:STANDARD
END:VTIMEZONE
BEGIN:VEVENT
DTSTART;TZID=America/New_York:20250926T160000
DTEND;TZID=America/New_York:20250926T210000
DTSTAMP:20260420T070429
CREATED:20250805T170428Z
LAST-MODIFIED:20250805T184212Z
UID:1261-1758902400-1758920400@thecoonclub.com
SUMMARY:Open Trap Shooting
DESCRIPTION:Open Trap Shooting\nEvery Friday Night – Year Round \nOpen to the Public \n4:00 PM – 9:00 PM Weather Permitting \n$6.00 for 25 Clay Birds \nBring your own Shells and Shotgun
URL:https://thecoonclub.com/event/open-trap-shooting-72/
LOCATION:The Coon Club\, 2855 Coon Club Rd\, Hampstead\, MD\, 21074\, United States
CATEGORIES:Shooting Events,Trap Shooting
ATTACH;FMTTYPE=image/jpeg:https://thecoonclub.com/wp-content/uploads/2024/04/Trap-Shooting.jpg
END:VEVENT
BEGIN:VEVENT
DTSTART;TZID=America/New_York:20250919T160000
DTEND;TZID=America/New_York:20250919T210000
DTSTAMP:20260420T070429
CREATED:20250805T170317Z
LAST-MODIFIED:20250805T184535Z
UID:1253-1758297600-1758315600@thecoonclub.com
SUMMARY:Open Trap Shooting
DESCRIPTION:Open Trap Shooting\nEvery Friday Night – Year Round \nOpen to the Public \n4:00 PM – 9:00 PM Weather Permitting \n$6.00 for 25 Clay Birds \nBring your own Shells and Shotgun
URL:https://thecoonclub.com/event/open-trap-shooting-71/
LOCATION:The Coon Club\, 2855 Coon Club Rd\, Hampstead\, MD\, 21074\, United States
CATEGORIES:Shooting Events,Trap Shooting
ATTACH;FMTTYPE=image/jpeg:https://thecoonclub.com/wp-content/uploads/2024/04/Trap-Shooting.jpg
END:VEVENT
BEGIN:VEVENT
DTSTART;TZID=America/New_York:20250914T080000
DTEND;TZID=America/New_York:20250914T140000
DTSTAMP:20260420T070429
CREATED:20250805T171405Z
LAST-MODIFIED:20250805T171405Z
UID:1276-1757836800-1757858400@thecoonclub.com
SUMMARY:Heart of Maryland Trapshooting
DESCRIPTION:Prices:\nTargets: $24.00 for Adults – $12.00 for Juniors\nLewis: $7.00\nHigh Gun: $2.00\nJackpot: $2.00 \nAll shoots begin at 9:00 a.m.\nSign up begins at 8:00 a.m. Entries close at 2:00 p.m. \nHeart of Maryland Website
URL:https://thecoonclub.com/event/heart-of-maryland-trapshooting-6/
LOCATION:The Coon Club\, 2855 Coon Club Rd\, Hampstead\, MD\, 21074\, United States
CATEGORIES:Shooting Events,Trap Shooting
ATTACH;FMTTYPE=image/png:https://thecoonclub.com/wp-content/uploads/2024/08/HOM_Logo_Small.png
END:VEVENT
BEGIN:VEVENT
DTSTART;TZID=America/New_York:20250912T160000
DTEND;TZID=America/New_York:20250912T210000
DTSTAMP:20260420T070429
CREATED:20250805T170259Z
LAST-MODIFIED:20250805T184956Z
UID:1254-1757692800-1757710800@thecoonclub.com
SUMMARY:Open Trap Shooting
DESCRIPTION:Open Trap Shooting\nEvery Friday Night – Year Round \nOpen to the Public \n4:00 PM – 9:00 PM Weather Permitting \n$6.00 for 25 Clay Birds \nBring your own Shells and Shotgun
URL:https://thecoonclub.com/event/open-trap-shooting-70/
LOCATION:The Coon Club\, 2855 Coon Club Rd\, Hampstead\, MD\, 21074\, United States
CATEGORIES:Shooting Events,Trap Shooting
ATTACH;FMTTYPE=image/jpeg:https://thecoonclub.com/wp-content/uploads/2024/04/Trap-Shooting.jpg
END:VEVENT
BEGIN:VEVENT
DTSTART;TZID=America/New_York:20250905T160000
DTEND;TZID=America/New_York:20250905T210000
DTSTAMP:20260420T070429
CREATED:20250805T170239Z
LAST-MODIFIED:20250805T184814Z
UID:1257-1757088000-1757106000@thecoonclub.com
SUMMARY:Open Trap Shooting
DESCRIPTION:Open Trap Shooting\nEvery Friday Night – Year Round \nOpen to the Public \n4:00 PM – 9:00 PM Weather Permitting \n$6.00 for 25 Clay Birds \nBring your own Shells and Shotgun
URL:https://thecoonclub.com/event/open-trap-shooting-69/
LOCATION:The Coon Club\, 2855 Coon Club Rd\, Hampstead\, MD\, 21074\, United States
CATEGORIES:Shooting Events,Trap Shooting
ATTACH;FMTTYPE=image/jpeg:https://thecoonclub.com/wp-content/uploads/2024/04/Trap-Shooting.jpg
END:VEVENT
BEGIN:VEVENT
DTSTART;TZID=America/New_York:20250829T160000
DTEND;TZID=America/New_York:20250829T210000
DTSTAMP:20260420T070429
CREATED:20250805T170034Z
LAST-MODIFIED:20250805T184703Z
UID:1248-1756483200-1756501200@thecoonclub.com
SUMMARY:Open Trap Shooting
DESCRIPTION:Open Trap Shooting\nEvery Friday Night – Year Round \nOpen to the Public \n4:00 PM – 9:00 PM Weather Permitting \n$6.00 for 25 Clay Birds \nBring your own Shells and Shotgun
URL:https://thecoonclub.com/event/open-trap-shooting-68/
LOCATION:The Coon Club\, 2855 Coon Club Rd\, Hampstead\, MD\, 21074\, United States
CATEGORIES:Shooting Events,Trap Shooting
ATTACH;FMTTYPE=image/jpeg:https://thecoonclub.com/wp-content/uploads/2024/04/Trap-Shooting.jpg
END:VEVENT
BEGIN:VEVENT
DTSTART;TZID=America/New_York:20250822T160000
DTEND;TZID=America/New_York:20250822T210000
DTSTAMP:20260420T070429
CREATED:20250805T165935Z
LAST-MODIFIED:20250805T184619Z
UID:1250-1755878400-1755896400@thecoonclub.com
SUMMARY:Open Trap Shooting
DESCRIPTION:Open Trap Shooting\nEvery Friday Night – Year Round \nOpen to the Public \n4:00 PM – 9:00 PM Weather Permitting \n$6.00 for 25 Clay Birds \nBring your own Shells and Shotgun
URL:https://thecoonclub.com/event/open-trap-shooting-67/
LOCATION:The Coon Club\, 2855 Coon Club Rd\, Hampstead\, MD\, 21074\, United States
CATEGORIES:Shooting Events,Trap Shooting
ATTACH;FMTTYPE=image/jpeg:https://thecoonclub.com/wp-content/uploads/2024/04/Trap-Shooting.jpg
END:VEVENT
BEGIN:VEVENT
DTSTART;TZID=America/New_York:20250815T160000
DTEND;TZID=America/New_York:20250815T210000
DTSTAMP:20260420T070429
CREATED:20250805T165437Z
LAST-MODIFIED:20250805T182734Z
UID:1246-1755273600-1755291600@thecoonclub.com
SUMMARY:Open Trap Shooting
DESCRIPTION:Open Trap Shooting\nEvery Friday Night – Year Round \nOpen to the Public \n4:00 PM – 9:00 PM Weather Permitting \n$6.00 for 25 Clay Birds \nBring your own Shells and Shotgun
URL:https://thecoonclub.com/event/open-trap-shooting-66/
LOCATION:The Coon Club\, 2855 Coon Club Rd\, Hampstead\, MD\, 21074\, United States
CATEGORIES:Shooting Events,Trap Shooting
ATTACH;FMTTYPE=image/jpeg:https://thecoonclub.com/wp-content/uploads/2024/04/Trap-Shooting.jpg
END:VEVENT
BEGIN:VEVENT
DTSTART;TZID=America/New_York:20250808T160000
DTEND;TZID=America/New_York:20250808T210000
DTSTAMP:20260420T070429
CREATED:20250805T165407Z
LAST-MODIFIED:20250805T185130Z
UID:1244-1754668800-1754686800@thecoonclub.com
SUMMARY:Open Trap Shooting
DESCRIPTION:Open Trap Shooting\nEvery Friday Night – Year Round \nOpen to the Public \n4:00 PM – 9:00 PM Weather Permitting \n$6.00 for 25 Clay Birds \nBring your own Shells and Shotgun
URL:https://thecoonclub.com/event/open-trap-shooting-65/
LOCATION:The Coon Club\, 2855 Coon Club Rd\, Hampstead\, MD\, 21074\, United States
CATEGORIES:Shooting Events,Trap Shooting
ATTACH;FMTTYPE=image/jpeg:https://thecoonclub.com/wp-content/uploads/2024/04/Trap-Shooting.jpg
END:VEVENT
BEGIN:VEVENT
DTSTART;TZID=America/New_York:20250801T160000
DTEND;TZID=America/New_York:20250801T210000
DTSTAMP:20260420T070429
CREATED:20250426T163844Z
LAST-MODIFIED:20250805T185204Z
UID:1205-1754064000-1754082000@thecoonclub.com
SUMMARY:Open Trap Shooting
DESCRIPTION:Open Trap Shooting\nEvery Friday Night – Year Round \nOpen to the Public \n4:00 PM – 9:00 PM Weather Permitting \n$6.00 for 25 Clay Birds \nBring your own Shells and Shotgun
URL:https://thecoonclub.com/event/open-trap-shooting-64/
LOCATION:The Coon Club\, 2855 Coon Club Rd\, Hampstead\, MD\, 21074\, United States
CATEGORIES:Shooting Events,Trap Shooting
ATTACH;FMTTYPE=image/jpeg:https://thecoonclub.com/wp-content/uploads/2024/04/Trap-Shooting.jpg
END:VEVENT
BEGIN:VEVENT
DTSTART;TZID=America/New_York:20250725T160000
DTEND;TZID=America/New_York:20250725T210000
DTSTAMP:20260420T070429
CREATED:20250426T163809Z
LAST-MODIFIED:20250428T203025Z
UID:1203-1753459200-1753477200@thecoonclub.com
SUMMARY:Open Trap Shooting
DESCRIPTION:Open Trap Shooting\nEvery Friday Night – Year Round \nOpen to the Public \n4:00 PM – 9:00 PM Weather Permitting \n$6.00 for 25 Clay Birds \nBring your own Shells and Shotgun
URL:https://thecoonclub.com/event/open-trap-shooting-63/
LOCATION:The Coon Club\, 2855 Coon Club Rd\, Hampstead\, MD\, 21074\, United States
CATEGORIES:Shooting Events,Trap Shooting
ATTACH;FMTTYPE=image/jpeg:https://thecoonclub.com/wp-content/uploads/2024/04/Trap-Shooting-1.jpg
END:VEVENT
BEGIN:VEVENT
DTSTART;TZID=America/New_York:20250718T160000
DTEND;TZID=America/New_York:20250718T210000
DTSTAMP:20260420T070429
CREATED:20250426T163750Z
LAST-MODIFIED:20250428T203100Z
UID:1201-1752854400-1752872400@thecoonclub.com
SUMMARY:Open Trap Shooting
DESCRIPTION:Open Trap Shooting\nEvery Friday Night – Year Round \nOpen to the Public \n4:00 PM – 9:00 PM Weather Permitting \n$6.00 for 25 Clay Birds \nBring your own Shells and Shotgun
URL:https://thecoonclub.com/event/open-trap-shooting-62/
LOCATION:The Coon Club\, 2855 Coon Club Rd\, Hampstead\, MD\, 21074\, United States
CATEGORIES:Shooting Events,Trap Shooting
ATTACH;FMTTYPE=image/jpeg:https://thecoonclub.com/wp-content/uploads/2024/04/Trap-Shooting-1.jpg
END:VEVENT
BEGIN:VEVENT
DTSTART;TZID=America/New_York:20250711T160000
DTEND;TZID=America/New_York:20250711T210000
DTSTAMP:20260420T070429
CREATED:20250426T163735Z
LAST-MODIFIED:20250428T203127Z
UID:1199-1752249600-1752267600@thecoonclub.com
SUMMARY:Open Trap Shooting
DESCRIPTION:Open Trap Shooting\nEvery Friday Night – Year Round \nOpen to the Public \n4:00 PM – 9:00 PM Weather Permitting \n$6.00 for 25 Clay Birds \nBring your own Shells and Shotgun
URL:https://thecoonclub.com/event/open-trap-shooting-61/
LOCATION:The Coon Club\, 2855 Coon Club Rd\, Hampstead\, MD\, 21074\, United States
CATEGORIES:Shooting Events,Trap Shooting
ATTACH;FMTTYPE=image/jpeg:https://thecoonclub.com/wp-content/uploads/2024/04/Trap-Shooting-1.jpg
END:VEVENT
BEGIN:VEVENT
DTSTART;TZID=America/New_York:20250704T160000
DTEND;TZID=America/New_York:20250704T210000
DTSTAMP:20260420T070429
CREATED:20250426T163200Z
LAST-MODIFIED:20250428T203156Z
UID:1185-1751644800-1751662800@thecoonclub.com
SUMMARY:Open Trap Shooting
DESCRIPTION:Open Trap Shooting\nEvery Friday Night – Year Round \nOpen to the Public \n4:00 PM – 9:00 PM Weather Permitting \n$6.00 for 25 Clay Birds \nBring your own Shells and Shotgun
URL:https://thecoonclub.com/event/open-trap-shooting-60/
LOCATION:The Coon Club\, 2855 Coon Club Rd\, Hampstead\, MD\, 21074\, United States
CATEGORIES:Shooting Events,Trap Shooting
ATTACH;FMTTYPE=image/jpeg:https://thecoonclub.com/wp-content/uploads/2024/04/Trap-Shooting-1.jpg
END:VEVENT
BEGIN:VEVENT
DTSTART;TZID=America/New_York:20250627T160000
DTEND;TZID=America/New_York:20250627T210000
DTSTAMP:20260420T070429
CREATED:20250426T163121Z
LAST-MODIFIED:20250428T203952Z
UID:1183-1751040000-1751058000@thecoonclub.com
SUMMARY:Open Trap Shooting
DESCRIPTION:Open Trap Shooting\nEvery Friday Night – Year Round \nOpen to the Public \n4:00 PM – 9:00 PM Weather Permitting \n$6.00 for 25 Clay Birds \nBring your own Shells and Shotgun
URL:https://thecoonclub.com/event/open-trap-shooting-59/
LOCATION:The Coon Club\, 2855 Coon Club Rd\, Hampstead\, MD\, 21074\, United States
CATEGORIES:Shooting Events,Trap Shooting
ATTACH;FMTTYPE=image/jpeg:https://thecoonclub.com/wp-content/uploads/2024/04/Trap-Shooting-1.jpg
END:VEVENT
BEGIN:VEVENT
DTSTART;TZID=America/New_York:20250620T160000
DTEND;TZID=America/New_York:20250620T210000
DTSTAMP:20260420T070429
CREATED:20250426T163059Z
LAST-MODIFIED:20250428T203915Z
UID:1181-1750435200-1750453200@thecoonclub.com
SUMMARY:Open Trap Shooting
DESCRIPTION:Open Trap Shooting\nEvery Friday Night – Year Round \nOpen to the Public \n4:00 PM – 9:00 PM Weather Permitting \n$6.00 for 25 Clay Birds \nBring your own Shells and Shotgun
URL:https://thecoonclub.com/event/open-trap-shooting-58/
LOCATION:The Coon Club\, 2855 Coon Club Rd\, Hampstead\, MD\, 21074\, United States
CATEGORIES:Shooting Events,Trap Shooting
ATTACH;FMTTYPE=image/jpeg:https://thecoonclub.com/wp-content/uploads/2024/04/Trap-Shooting-1.jpg
END:VEVENT
BEGIN:VEVENT
DTSTART;TZID=America/New_York:20250613T160000
DTEND;TZID=America/New_York:20250613T210000
DTSTAMP:20260420T070429
CREATED:20250426T162958Z
LAST-MODIFIED:20250428T203823Z
UID:1179-1749830400-1749848400@thecoonclub.com
SUMMARY:Open Trap Shooting
DESCRIPTION:Open Trap Shooting\nEvery Friday Night – Year Round \nOpen to the Public \n4:00 PM – 9:00 PM Weather Permitting \n$6.00 for 25 Clay Birds \nBring your own Shells and Shotgun
URL:https://thecoonclub.com/event/open-trap-shooting-57/
LOCATION:The Coon Club\, 2855 Coon Club Rd\, Hampstead\, MD\, 21074\, United States
CATEGORIES:Shooting Events,Trap Shooting
ATTACH;FMTTYPE=image/jpeg:https://thecoonclub.com/wp-content/uploads/2024/04/Trap-Shooting-1.jpg
END:VEVENT
BEGIN:VEVENT
DTSTART;TZID=America/New_York:20250606T160000
DTEND;TZID=America/New_York:20250606T210000
DTSTAMP:20260420T070429
CREATED:20250426T162859Z
LAST-MODIFIED:20250428T203745Z
UID:1177-1749225600-1749243600@thecoonclub.com
SUMMARY:Open Trap Shooting
DESCRIPTION:Open Trap Shooting\nEvery Friday Night – Year Round \nOpen to the Public \n4:00 PM – 9:00 PM Weather Permitting \n$6.00 for 25 Clay Birds \nBring your own Shells and Shotgun
URL:https://thecoonclub.com/event/open-trap-shooting-56/
LOCATION:The Coon Club\, 2855 Coon Club Rd\, Hampstead\, MD\, 21074\, United States
CATEGORIES:Shooting Events,Trap Shooting
ATTACH;FMTTYPE=image/jpeg:https://thecoonclub.com/wp-content/uploads/2024/04/Trap-Shooting-1.jpg
END:VEVENT
BEGIN:VEVENT
DTSTART;TZID=America/New_York:20250530T160000
DTEND;TZID=America/New_York:20250530T210000
DTSTAMP:20260420T070429
CREATED:20250410T133628Z
LAST-MODIFIED:20250428T203715Z
UID:1128-1748620800-1748638800@thecoonclub.com
SUMMARY:Open Trap Shooting
DESCRIPTION:Open Trap Shooting\nEvery Friday Night – Year Round \nOpen to the Public \n4:00 PM – 9:00 PM Weather Permitting \n$6.00 for 25 Clay Birds \nBring your own Shells and Shotgun
URL:https://thecoonclub.com/event/open-trap-shooting-55/
LOCATION:The Coon Club\, 2855 Coon Club Rd\, Hampstead\, MD\, 21074\, United States
CATEGORIES:Shooting Events,Trap Shooting
ATTACH;FMTTYPE=image/jpeg:https://thecoonclub.com/wp-content/uploads/2024/04/Trap-Shooting-1.jpg
END:VEVENT
BEGIN:VEVENT
DTSTART;TZID=America/New_York:20250523T160000
DTEND;TZID=America/New_York:20250523T210000
DTSTAMP:20260420T070429
CREATED:20250410T133555Z
LAST-MODIFIED:20250428T203632Z
UID:1125-1748016000-1748034000@thecoonclub.com
SUMMARY:Open Trap Shooting
DESCRIPTION:Open Trap Shooting\nEvery Friday Night – Year Round \nOpen to the Public \n4:00 PM – 9:00 PM Weather Permitting \n$6.00 for 25 Clay Birds \nBring your own Shells and Shotgun
URL:https://thecoonclub.com/event/open-trap-shooting-54/
LOCATION:The Coon Club\, 2855 Coon Club Rd\, Hampstead\, MD\, 21074\, United States
CATEGORIES:Shooting Events,Trap Shooting
ATTACH;FMTTYPE=image/jpeg:https://thecoonclub.com/wp-content/uploads/2024/04/Trap-Shooting-1.jpg
END:VEVENT
BEGIN:VEVENT
DTSTART;TZID=America/New_York:20250516T160000
DTEND;TZID=America/New_York:20250516T210000
DTSTAMP:20260420T070429
CREATED:20250410T133536Z
LAST-MODIFIED:20250428T203605Z
UID:1124-1747411200-1747429200@thecoonclub.com
SUMMARY:Open Trap Shooting
DESCRIPTION:Open Trap Shooting\nEvery Friday Night – Year Round \nOpen to the Public \n4:00 PM – 9:00 PM Weather Permitting \n$6.00 for 25 Clay Birds \nBring your own Shells and Shotgun
URL:https://thecoonclub.com/event/open-trap-shooting-53/
LOCATION:The Coon Club\, 2855 Coon Club Rd\, Hampstead\, MD\, 21074\, United States
CATEGORIES:Shooting Events,Trap Shooting
ATTACH;FMTTYPE=image/jpeg:https://thecoonclub.com/wp-content/uploads/2024/04/Trap-Shooting-1.jpg
END:VEVENT
BEGIN:VEVENT
DTSTART;TZID=America/New_York:20250509T160000
DTEND;TZID=America/New_York:20250509T210000
DTSTAMP:20260420T070429
CREATED:20250410T133453Z
LAST-MODIFIED:20250428T203538Z
UID:1122-1746806400-1746824400@thecoonclub.com
SUMMARY:Open Trap Shooting
DESCRIPTION:Open Trap Shooting\nEvery Friday Night – Year Round \nOpen to the Public \n4:00 PM – 9:00 PM Weather Permitting \n$6.00 for 25 Clay Birds \nBring your own Shells and Shotgun
URL:https://thecoonclub.com/event/open-trap-shooting-52/
LOCATION:The Coon Club\, 2855 Coon Club Rd\, Hampstead\, MD\, 21074\, United States
CATEGORIES:Shooting Events,Trap Shooting
ATTACH;FMTTYPE=image/jpeg:https://thecoonclub.com/wp-content/uploads/2024/04/Trap-Shooting-1.jpg
END:VEVENT
BEGIN:VEVENT
DTSTART;TZID=America/New_York:20250502T160000
DTEND;TZID=America/New_York:20250502T210000
DTSTAMP:20260420T070429
CREATED:20250303T221525Z
LAST-MODIFIED:20250428T203506Z
UID:1062-1746201600-1746219600@thecoonclub.com
SUMMARY:Open Trap Shooting
DESCRIPTION:Open Trap Shooting\nEvery Friday Night – Year Round \nOpen to the Public \n4:00 PM – 9:00 PM Weather Permitting \n$6.00 for 25 Clay Birds \nBring your own Shells and Shotgun
URL:https://thecoonclub.com/event/open-trap-shooting-51/
LOCATION:The Coon Club\, 2855 Coon Club Rd\, Hampstead\, MD\, 21074\, United States
CATEGORIES:Shooting Events,Trap Shooting
ATTACH;FMTTYPE=image/jpeg:https://thecoonclub.com/wp-content/uploads/2024/04/Trap-Shooting-1.jpg
END:VEVENT
BEGIN:VEVENT
DTSTART;TZID=America/New_York:20250425T170000
DTEND;TZID=America/New_York:20250425T210000
DTSTAMP:20260420T070429
CREATED:20250303T221500Z
LAST-MODIFIED:20250303T221500Z
UID:1060-1745600400-1745614800@thecoonclub.com
SUMMARY:Open Trap Shooting
DESCRIPTION:Open Trap Shooting\nEvery Friday Night – Year Round \nOpen to the Public \n5:00 PM – 9:00 PM Weather Permitting \n$6.00 for 25 Clay Birds \nBring your own Shells and Shotgun
URL:https://thecoonclub.com/event/open-trap-shooting-50/
LOCATION:The Coon Club\, 2855 Coon Club Rd\, Hampstead\, MD\, 21074\, United States
CATEGORIES:Shooting Events,Trap Shooting
ATTACH;FMTTYPE=image/jpeg:https://thecoonclub.com/wp-content/uploads/2024/04/Trap-Shooting-1.jpg
END:VEVENT
BEGIN:VEVENT
DTSTART;TZID=America/New_York:20250418T170000
DTEND;TZID=America/New_York:20250418T210000
DTSTAMP:20260420T070429
CREATED:20250303T221435Z
LAST-MODIFIED:20250303T221435Z
UID:1058-1744995600-1745010000@thecoonclub.com
SUMMARY:Open Trap Shooting
DESCRIPTION:Open Trap Shooting\nEvery Friday Night – Year Round \nOpen to the Public \n5:00 PM – 9:00 PM Weather Permitting \n$6.00 for 25 Clay Birds \nBring your own Shells and Shotgun
URL:https://thecoonclub.com/event/open-trap-shooting-49/
LOCATION:The Coon Club\, 2855 Coon Club Rd\, Hampstead\, MD\, 21074\, United States
CATEGORIES:Shooting Events,Trap Shooting
ATTACH;FMTTYPE=image/jpeg:https://thecoonclub.com/wp-content/uploads/2024/04/Trap-Shooting-1.jpg
END:VEVENT
BEGIN:VEVENT
DTSTART;TZID=America/New_York:20250413T080000
DTEND;TZID=America/New_York:20250413T140000
DTSTAMP:20260420T070429
CREATED:20250305T220704Z
LAST-MODIFIED:20250305T220704Z
UID:1088-1744531200-1744552800@thecoonclub.com
SUMMARY:Heart of Maryland Trapshooting
DESCRIPTION:Prices:\nTargets: $24.00 for Adults – $12.00 for Juniors\nLewis: $7.00\nHigh Gun: $2.00\nJackpot: $2.00 \nAll shoots begin at 9:00 a.m.\nSign up begins at 8:00 a.m. Entries close at 2:00 p.m. \nHeart of Maryland Website
URL:https://thecoonclub.com/event/heart-of-maryland-trapshooting-5/
LOCATION:The Coon Club\, 2855 Coon Club Rd\, Hampstead\, MD\, 21074\, United States
CATEGORIES:Shooting Events,Trap Shooting
ATTACH;FMTTYPE=image/png:https://thecoonclub.com/wp-content/uploads/2024/08/HOM_Logo_Small.png
END:VEVENT
BEGIN:VEVENT
DTSTART;TZID=America/New_York:20250411T170000
DTEND;TZID=America/New_York:20250411T210000
DTSTAMP:20260420T070429
CREATED:20250303T221345Z
LAST-MODIFIED:20250303T221345Z
UID:1056-1744390800-1744405200@thecoonclub.com
SUMMARY:Open Trap Shooting
DESCRIPTION:Open Trap Shooting\nEvery Friday Night – Year Round \nOpen to the Public \n5:00 PM – 9:00 PM Weather Permitting \n$6.00 for 25 Clay Birds \nBring your own Shells and Shotgun
URL:https://thecoonclub.com/event/open-trap-shooting-48/
LOCATION:The Coon Club\, 2855 Coon Club Rd\, Hampstead\, MD\, 21074\, United States
CATEGORIES:Shooting Events,Trap Shooting
ATTACH;FMTTYPE=image/jpeg:https://thecoonclub.com/wp-content/uploads/2024/04/Trap-Shooting-1.jpg
END:VEVENT
BEGIN:VEVENT
DTSTART;TZID=America/New_York:20250404T170000
DTEND;TZID=America/New_York:20250404T210000
DTSTAMP:20260420T070429
CREATED:20250303T221318Z
LAST-MODIFIED:20250303T221318Z
UID:1054-1743786000-1743800400@thecoonclub.com
SUMMARY:Open Trap Shooting
DESCRIPTION:Open Trap Shooting\nEvery Friday Night – Year Round \nOpen to the Public \n5:00 PM – 9:00 PM Weather Permitting \n$6.00 for 25 Clay Birds \nBring your own Shells and Shotgun
URL:https://thecoonclub.com/event/open-trap-shooting-47/
LOCATION:The Coon Club\, 2855 Coon Club Rd\, Hampstead\, MD\, 21074\, United States
CATEGORIES:Shooting Events,Trap Shooting
ATTACH;FMTTYPE=image/jpeg:https://thecoonclub.com/wp-content/uploads/2024/04/Trap-Shooting-1.jpg
END:VEVENT
BEGIN:VEVENT
DTSTART;TZID=America/New_York:20250328T170000
DTEND;TZID=America/New_York:20250328T210000
DTSTAMP:20260420T070429
CREATED:20250303T221234Z
LAST-MODIFIED:20250303T221234Z
UID:1051-1743181200-1743195600@thecoonclub.com
SUMMARY:Open Trap Shooting
DESCRIPTION:Open Trap Shooting\nEvery Friday Night – Year Round \nOpen to the Public \n5:00 PM – 9:00 PM Weather Permitting \n$6.00 for 25 Clay Birds \nBring your own Shells and Shotgun
URL:https://thecoonclub.com/event/open-trap-shooting-46/
LOCATION:The Coon Club\, 2855 Coon Club Rd\, Hampstead\, MD\, 21074\, United States
CATEGORIES:Shooting Events,Trap Shooting
ATTACH;FMTTYPE=image/jpeg:https://thecoonclub.com/wp-content/uploads/2024/04/Trap-Shooting-1.jpg
END:VEVENT
BEGIN:VEVENT
DTSTART;TZID=America/New_York:20250323T080000
DTEND;TZID=America/New_York:20250323T140000
DTSTAMP:20260420T070429
CREATED:20250305T220605Z
LAST-MODIFIED:20250305T220605Z
UID:1086-1742716800-1742738400@thecoonclub.com
SUMMARY:Heart of Maryland Trapshooting
DESCRIPTION:Prices:\nTargets: $24.00 for Adults – $12.00 for Juniors\nLewis: $7.00\nHigh Gun: $2.00\nJackpot: $2.00 \nAll shoots begin at 9:00 a.m.\nSign up begins at 8:00 a.m. Entries close at 2:00 p.m. \nHeart of Maryland Website
URL:https://thecoonclub.com/event/heart-of-maryland-trapshooting-4/
LOCATION:The Coon Club\, 2855 Coon Club Rd\, Hampstead\, MD\, 21074\, United States
CATEGORIES:Shooting Events,Trap Shooting
ATTACH;FMTTYPE=image/png:https://thecoonclub.com/wp-content/uploads/2024/08/HOM_Logo_Small.png
END:VEVENT
END:VCALENDAR