BEGIN:VCALENDAR
VERSION:2.0
PRODID:-//The Coon Club - ECPv6.15.20//NONSGML v1.0//EN
CALSCALE:GREGORIAN
METHOD:PUBLISH
X-ORIGINAL-URL:https://thecoonclub.com
X-WR-CALDESC:Events for The Coon Club
REFRESH-INTERVAL;VALUE=DURATION:PT1H
X-Robots-Tag:noindex
X-PUBLISHED-TTL:PT1H
BEGIN:VTIMEZONE
TZID:America/New_York
BEGIN:DAYLIGHT
TZOFFSETFROM:-0500
TZOFFSETTO:-0400
TZNAME:EDT
DTSTART:20230312T070000
END:DAYLIGHT
BEGIN:STANDARD
TZOFFSETFROM:-0400
TZOFFSETTO:-0500
TZNAME:EST
DTSTART:20231105T060000
END:STANDARD
BEGIN:DAYLIGHT
TZOFFSETFROM:-0500
TZOFFSETTO:-0400
TZNAME:EDT
DTSTART:20240310T070000
END:DAYLIGHT
BEGIN:STANDARD
TZOFFSETFROM:-0400
TZOFFSETTO:-0500
TZNAME:EST
DTSTART:20241103T060000
END:STANDARD
BEGIN:DAYLIGHT
TZOFFSETFROM:-0500
TZOFFSETTO:-0400
TZNAME:EDT
DTSTART:20250309T070000
END:DAYLIGHT
BEGIN:STANDARD
TZOFFSETFROM:-0400
TZOFFSETTO:-0500
TZNAME:EST
DTSTART:20251102T060000
END:STANDARD
BEGIN:DAYLIGHT
TZOFFSETFROM:-0500
TZOFFSETTO:-0400
TZNAME:EDT
DTSTART:20260308T070000
END:DAYLIGHT
BEGIN:STANDARD
TZOFFSETFROM:-0400
TZOFFSETTO:-0500
TZNAME:EST
DTSTART:20261101T060000
END:STANDARD
END:VTIMEZONE
BEGIN:VEVENT
DTSTART;TZID=America/New_York:20250418T170000
DTEND;TZID=America/New_York:20250418T210000
DTSTAMP:20260420T094731
CREATED:20250303T221435Z
LAST-MODIFIED:20250303T221435Z
UID:1058-1744995600-1745010000@thecoonclub.com
SUMMARY:Open Trap Shooting
DESCRIPTION:Open Trap Shooting\nEvery Friday Night – Year Round \nOpen to the Public \n5:00 PM – 9:00 PM Weather Permitting \n$6.00 for 25 Clay Birds \nBring your own Shells and Shotgun
URL:https://thecoonclub.com/event/open-trap-shooting-49/
LOCATION:The Coon Club\, 2855 Coon Club Rd\, Hampstead\, MD\, 21074\, United States
CATEGORIES:Shooting Events,Trap Shooting
ATTACH;FMTTYPE=image/jpeg:https://thecoonclub.com/wp-content/uploads/2024/04/Trap-Shooting-1.jpg
END:VEVENT
BEGIN:VEVENT
DTSTART;TZID=America/New_York:20250413T080000
DTEND;TZID=America/New_York:20250413T140000
DTSTAMP:20260420T094731
CREATED:20250305T220704Z
LAST-MODIFIED:20250305T220704Z
UID:1088-1744531200-1744552800@thecoonclub.com
SUMMARY:Heart of Maryland Trapshooting
DESCRIPTION:Prices:\nTargets: $24.00 for Adults – $12.00 for Juniors\nLewis: $7.00\nHigh Gun: $2.00\nJackpot: $2.00 \nAll shoots begin at 9:00 a.m.\nSign up begins at 8:00 a.m. Entries close at 2:00 p.m. \nHeart of Maryland Website
URL:https://thecoonclub.com/event/heart-of-maryland-trapshooting-5/
LOCATION:The Coon Club\, 2855 Coon Club Rd\, Hampstead\, MD\, 21074\, United States
CATEGORIES:Shooting Events,Trap Shooting
ATTACH;FMTTYPE=image/png:https://thecoonclub.com/wp-content/uploads/2024/08/HOM_Logo_Small.png
END:VEVENT
BEGIN:VEVENT
DTSTART;TZID=America/New_York:20250411T170000
DTEND;TZID=America/New_York:20250411T210000
DTSTAMP:20260420T094731
CREATED:20250303T221345Z
LAST-MODIFIED:20250303T221345Z
UID:1056-1744390800-1744405200@thecoonclub.com
SUMMARY:Open Trap Shooting
DESCRIPTION:Open Trap Shooting\nEvery Friday Night – Year Round \nOpen to the Public \n5:00 PM – 9:00 PM Weather Permitting \n$6.00 for 25 Clay Birds \nBring your own Shells and Shotgun
URL:https://thecoonclub.com/event/open-trap-shooting-48/
LOCATION:The Coon Club\, 2855 Coon Club Rd\, Hampstead\, MD\, 21074\, United States
CATEGORIES:Shooting Events,Trap Shooting
ATTACH;FMTTYPE=image/jpeg:https://thecoonclub.com/wp-content/uploads/2024/04/Trap-Shooting-1.jpg
END:VEVENT
BEGIN:VEVENT
DTSTART;TZID=America/New_York:20250404T170000
DTEND;TZID=America/New_York:20250404T210000
DTSTAMP:20260420T094731
CREATED:20250303T221318Z
LAST-MODIFIED:20250303T221318Z
UID:1054-1743786000-1743800400@thecoonclub.com
SUMMARY:Open Trap Shooting
DESCRIPTION:Open Trap Shooting\nEvery Friday Night – Year Round \nOpen to the Public \n5:00 PM – 9:00 PM Weather Permitting \n$6.00 for 25 Clay Birds \nBring your own Shells and Shotgun
URL:https://thecoonclub.com/event/open-trap-shooting-47/
LOCATION:The Coon Club\, 2855 Coon Club Rd\, Hampstead\, MD\, 21074\, United States
CATEGORIES:Shooting Events,Trap Shooting
ATTACH;FMTTYPE=image/jpeg:https://thecoonclub.com/wp-content/uploads/2024/04/Trap-Shooting-1.jpg
END:VEVENT
BEGIN:VEVENT
DTSTART;TZID=America/New_York:20250328T170000
DTEND;TZID=America/New_York:20250328T210000
DTSTAMP:20260420T094731
CREATED:20250303T221234Z
LAST-MODIFIED:20250303T221234Z
UID:1051-1743181200-1743195600@thecoonclub.com
SUMMARY:Open Trap Shooting
DESCRIPTION:Open Trap Shooting\nEvery Friday Night – Year Round \nOpen to the Public \n5:00 PM – 9:00 PM Weather Permitting \n$6.00 for 25 Clay Birds \nBring your own Shells and Shotgun
URL:https://thecoonclub.com/event/open-trap-shooting-46/
LOCATION:The Coon Club\, 2855 Coon Club Rd\, Hampstead\, MD\, 21074\, United States
CATEGORIES:Shooting Events,Trap Shooting
ATTACH;FMTTYPE=image/jpeg:https://thecoonclub.com/wp-content/uploads/2024/04/Trap-Shooting-1.jpg
END:VEVENT
BEGIN:VEVENT
DTSTART;TZID=America/New_York:20250323T080000
DTEND;TZID=America/New_York:20250323T140000
DTSTAMP:20260420T094731
CREATED:20250305T220605Z
LAST-MODIFIED:20250305T220605Z
UID:1086-1742716800-1742738400@thecoonclub.com
SUMMARY:Heart of Maryland Trapshooting
DESCRIPTION:Prices:\nTargets: $24.00 for Adults – $12.00 for Juniors\nLewis: $7.00\nHigh Gun: $2.00\nJackpot: $2.00 \nAll shoots begin at 9:00 a.m.\nSign up begins at 8:00 a.m. Entries close at 2:00 p.m. \nHeart of Maryland Website
URL:https://thecoonclub.com/event/heart-of-maryland-trapshooting-4/
LOCATION:The Coon Club\, 2855 Coon Club Rd\, Hampstead\, MD\, 21074\, United States
CATEGORIES:Shooting Events,Trap Shooting
ATTACH;FMTTYPE=image/png:https://thecoonclub.com/wp-content/uploads/2024/08/HOM_Logo_Small.png
END:VEVENT
BEGIN:VEVENT
DTSTART;TZID=America/New_York:20250321T170000
DTEND;TZID=America/New_York:20250321T210000
DTSTAMP:20260420T094731
CREATED:20250303T221207Z
LAST-MODIFIED:20250303T221207Z
UID:1049-1742576400-1742590800@thecoonclub.com
SUMMARY:Open Trap Shooting
DESCRIPTION:Open Trap Shooting\nEvery Friday Night – Year Round \nOpen to the Public \n5:00 PM – 9:00 PM Weather Permitting \n$6.00 for 25 Clay Birds \nBring your own Shells and Shotgun
URL:https://thecoonclub.com/event/open-trap-shooting-45/
LOCATION:The Coon Club\, 2855 Coon Club Rd\, Hampstead\, MD\, 21074\, United States
CATEGORIES:Shooting Events,Trap Shooting
ATTACH;FMTTYPE=image/jpeg:https://thecoonclub.com/wp-content/uploads/2024/04/Trap-Shooting-1.jpg
END:VEVENT
BEGIN:VEVENT
DTSTART;TZID=America/New_York:20250314T170000
DTEND;TZID=America/New_York:20250314T210000
DTSTAMP:20260420T094731
CREATED:20250303T221137Z
LAST-MODIFIED:20250303T221137Z
UID:1047-1741971600-1741986000@thecoonclub.com
SUMMARY:Open Trap Shooting
DESCRIPTION:Open Trap Shooting\nEvery Friday Night – Year Round \nOpen to the Public \n5:00 PM – 9:00 PM Weather Permitting \n$6.00 for 25 Clay Birds \nBring your own Shells and Shotgun
URL:https://thecoonclub.com/event/open-trap-shooting-44/
LOCATION:The Coon Club\, 2855 Coon Club Rd\, Hampstead\, MD\, 21074\, United States
CATEGORIES:Shooting Events,Trap Shooting
ATTACH;FMTTYPE=image/jpeg:https://thecoonclub.com/wp-content/uploads/2024/04/Trap-Shooting-1.jpg
END:VEVENT
BEGIN:VEVENT
DTSTART;TZID=America/New_York:20250309T080000
DTEND;TZID=America/New_York:20250309T140000
DTSTAMP:20260420T094731
CREATED:20250305T220428Z
LAST-MODIFIED:20250305T220428Z
UID:1084-1741507200-1741528800@thecoonclub.com
SUMMARY:Heart of Maryland Trapshooting
DESCRIPTION:Prices:\nTargets: $24.00 for Adults – $12.00 for Juniors\nLewis: $7.00\nHigh Gun: $2.00\nJackpot: $2.00 \nAll shoots begin at 9:00 a.m.\nSign up begins at 8:00 a.m. Entries close at 2:00 p.m. \nHeart of Maryland Website
URL:https://thecoonclub.com/event/heart-of-maryland-trapshooting-3/
LOCATION:The Coon Club\, 2855 Coon Club Rd\, Hampstead\, MD\, 21074\, United States
CATEGORIES:Shooting Events,Trap Shooting
ATTACH;FMTTYPE=image/png:https://thecoonclub.com/wp-content/uploads/2024/08/HOM_Logo_Small.png
END:VEVENT
BEGIN:VEVENT
DTSTART;TZID=America/New_York:20250307T170000
DTEND;TZID=America/New_York:20250307T210000
DTSTAMP:20260420T094731
CREATED:20250303T221107Z
LAST-MODIFIED:20250303T221107Z
UID:1045-1741366800-1741381200@thecoonclub.com
SUMMARY:Open Trap Shooting
DESCRIPTION:Open Trap Shooting\nEvery Friday Night – Year Round \nOpen to the Public \n5:00 PM – 9:00 PM Weather Permitting \n$6.00 for 25 Clay Birds \nBring your own Shells and Shotgun
URL:https://thecoonclub.com/event/open-trap-shooting-43/
LOCATION:The Coon Club\, 2855 Coon Club Rd\, Hampstead\, MD\, 21074\, United States
CATEGORIES:Shooting Events,Trap Shooting
ATTACH;FMTTYPE=image/jpeg:https://thecoonclub.com/wp-content/uploads/2024/04/Trap-Shooting-1.jpg
END:VEVENT
BEGIN:VEVENT
DTSTART;TZID=America/New_York:20250228T170000
DTEND;TZID=America/New_York:20250228T210000
DTSTAMP:20260420T094731
CREATED:20241216T131145Z
LAST-MODIFIED:20241216T131145Z
UID:917-1740762000-1740776400@thecoonclub.com
SUMMARY:Open Trap Shooting
DESCRIPTION:Open Trap Shooting\nEvery Friday Night – Year Round \nOpen to the Public \n5:00 PM – 9:00 PM Weather Permitting \n$6.00 for 25 Clay Birds \nBring your own Shells and Shotgun
URL:https://thecoonclub.com/event/open-trap-shooting-41/
LOCATION:The Coon Club\, 2855 Coon Club Rd\, Hampstead\, MD\, 21074\, United States
CATEGORIES:Shooting Events,Trap Shooting
ATTACH;FMTTYPE=image/jpeg:https://thecoonclub.com/wp-content/uploads/2024/04/Trap-Shooting-1.jpg
END:VEVENT
BEGIN:VEVENT
DTSTART;TZID=America/New_York:20250221T170000
DTEND;TZID=America/New_York:20250221T210000
DTSTAMP:20260420T094731
CREATED:20241216T131223Z
LAST-MODIFIED:20241216T131223Z
UID:922-1740157200-1740171600@thecoonclub.com
SUMMARY:Open Trap Shooting
DESCRIPTION:Open Trap Shooting\nEvery Friday Night – Year Round \nOpen to the Public \n5:00 PM – 9:00 PM Weather Permitting \n$6.00 for 25 Clay Birds \nBring your own Shells and Shotgun
URL:https://thecoonclub.com/event/open-trap-shooting-42/
LOCATION:The Coon Club\, 2855 Coon Club Rd\, Hampstead\, MD\, 21074\, United States
CATEGORIES:Shooting Events,Trap Shooting
ATTACH;FMTTYPE=image/jpeg:https://thecoonclub.com/wp-content/uploads/2024/04/Trap-Shooting-1.jpg
END:VEVENT
BEGIN:VEVENT
DTSTART;TZID=America/New_York:20250214T170000
DTEND;TZID=America/New_York:20250214T210000
DTSTAMP:20260420T094731
CREATED:20241216T131121Z
LAST-MODIFIED:20241216T131121Z
UID:918-1739552400-1739566800@thecoonclub.com
SUMMARY:Open Trap Shooting
DESCRIPTION:Open Trap Shooting\nEvery Friday Night – Year Round \nOpen to the Public \n5:00 PM – 9:00 PM Weather Permitting \n$6.00 for 25 Clay Birds \nBring your own Shells and Shotgun
URL:https://thecoonclub.com/event/open-trap-shooting-40/
LOCATION:The Coon Club\, 2855 Coon Club Rd\, Hampstead\, MD\, 21074\, United States
CATEGORIES:Shooting Events,Trap Shooting
ATTACH;FMTTYPE=image/jpeg:https://thecoonclub.com/wp-content/uploads/2024/04/Trap-Shooting-1.jpg
END:VEVENT
BEGIN:VEVENT
DTSTART;TZID=America/New_York:20250207T170000
DTEND;TZID=America/New_York:20250207T210000
DTSTAMP:20260420T094731
CREATED:20241216T131103Z
LAST-MODIFIED:20241216T131103Z
UID:916-1738947600-1738962000@thecoonclub.com
SUMMARY:Open Trap Shooting
DESCRIPTION:Open Trap Shooting\nEvery Friday Night – Year Round \nOpen to the Public \n5:00 PM – 9:00 PM Weather Permitting \n$6.00 for 25 Clay Birds \nBring your own Shells and Shotgun
URL:https://thecoonclub.com/event/open-trap-shooting-39/
LOCATION:The Coon Club\, 2855 Coon Club Rd\, Hampstead\, MD\, 21074\, United States
CATEGORIES:Shooting Events,Trap Shooting
ATTACH;FMTTYPE=image/jpeg:https://thecoonclub.com/wp-content/uploads/2024/04/Trap-Shooting-1.jpg
END:VEVENT
BEGIN:VEVENT
DTSTART;TZID=America/New_York:20250131T170000
DTEND;TZID=America/New_York:20250131T210000
DTSTAMP:20260420T094731
CREATED:20241216T131005Z
LAST-MODIFIED:20241216T131005Z
UID:914-1738342800-1738357200@thecoonclub.com
SUMMARY:Open Trap Shooting
DESCRIPTION:Open Trap Shooting\nEvery Friday Night – Year Round \nOpen to the Public \n5:00 PM – 9:00 PM Weather Permitting \n$6.00 for 25 Clay Birds \nBring your own Shells and Shotgun
URL:https://thecoonclub.com/event/open-trap-shooting-38/
LOCATION:The Coon Club\, 2855 Coon Club Rd\, Hampstead\, MD\, 21074\, United States
CATEGORIES:Shooting Events,Trap Shooting
ATTACH;FMTTYPE=image/jpeg:https://thecoonclub.com/wp-content/uploads/2024/04/Trap-Shooting-1.jpg
END:VEVENT
BEGIN:VEVENT
DTSTART;TZID=America/New_York:20250124T170000
DTEND;TZID=America/New_York:20250124T210000
DTSTAMP:20260420T094731
CREATED:20241216T130941Z
LAST-MODIFIED:20241216T130941Z
UID:912-1737738000-1737752400@thecoonclub.com
SUMMARY:Open Trap Shooting
DESCRIPTION:Open Trap Shooting\nEvery Friday Night – Year Round \nOpen to the Public \n5:00 PM – 9:00 PM Weather Permitting \n$6.00 for 25 Clay Birds \nBring your own Shells and Shotgun
URL:https://thecoonclub.com/event/open-trap-shooting-37/
LOCATION:The Coon Club\, 2855 Coon Club Rd\, Hampstead\, MD\, 21074\, United States
CATEGORIES:Shooting Events,Trap Shooting
ATTACH;FMTTYPE=image/jpeg:https://thecoonclub.com/wp-content/uploads/2024/04/Trap-Shooting-1.jpg
END:VEVENT
BEGIN:VEVENT
DTSTART;TZID=America/New_York:20250117T170000
DTEND;TZID=America/New_York:20250117T210000
DTSTAMP:20260420T094731
CREATED:20241216T130915Z
LAST-MODIFIED:20241216T130915Z
UID:908-1737133200-1737147600@thecoonclub.com
SUMMARY:Open Trap Shooting
DESCRIPTION:Open Trap Shooting\nEvery Friday Night – Year Round \nOpen to the Public \n5:00 PM – 9:00 PM Weather Permitting \n$6.00 for 25 Clay Birds \nBring your own Shells and Shotgun
URL:https://thecoonclub.com/event/open-trap-shooting-36/
LOCATION:The Coon Club\, 2855 Coon Club Rd\, Hampstead\, MD\, 21074\, United States
CATEGORIES:Shooting Events,Trap Shooting
ATTACH;FMTTYPE=image/jpeg:https://thecoonclub.com/wp-content/uploads/2024/04/Trap-Shooting-1.jpg
END:VEVENT
BEGIN:VEVENT
DTSTART;TZID=America/New_York:20250110T170000
DTEND;TZID=America/New_York:20250110T210000
DTSTAMP:20260420T094731
CREATED:20241216T130848Z
LAST-MODIFIED:20241216T130848Z
UID:909-1736528400-1736542800@thecoonclub.com
SUMMARY:Open Trap Shooting
DESCRIPTION:Open Trap Shooting\nEvery Friday Night – Year Round \nOpen to the Public \n5:00 PM – 9:00 PM Weather Permitting \n$6.00 for 25 Clay Birds \nBring your own Shells and Shotgun
URL:https://thecoonclub.com/event/open-trap-shooting-35/
LOCATION:The Coon Club\, 2855 Coon Club Rd\, Hampstead\, MD\, 21074\, United States
CATEGORIES:Shooting Events,Trap Shooting
ATTACH;FMTTYPE=image/jpeg:https://thecoonclub.com/wp-content/uploads/2024/04/Trap-Shooting-1.jpg
END:VEVENT
BEGIN:VEVENT
DTSTART;TZID=America/New_York:20250103T170000
DTEND;TZID=America/New_York:20250103T210000
DTSTAMP:20260420T094731
CREATED:20241105T161457Z
LAST-MODIFIED:20241105T161457Z
UID:871-1735923600-1735938000@thecoonclub.com
SUMMARY:Open Trap Shooting
DESCRIPTION:Open Trap Shooting\nEvery Friday Night – Year Round \nOpen to the Public \n5:00 PM – 9:00 PM Weather Permitting \n$6.00 for 25 Clay Birds \nBring your own Shells and Shotgun
URL:https://thecoonclub.com/event/open-trap-shooting-34/
LOCATION:The Coon Club\, 2855 Coon Club Rd\, Hampstead\, MD\, 21074\, United States
CATEGORIES:Shooting Events,Trap Shooting
ATTACH;FMTTYPE=image/jpeg:https://thecoonclub.com/wp-content/uploads/2024/04/Trap-Shooting-1.jpg
END:VEVENT
BEGIN:VEVENT
DTSTART;TZID=America/New_York:20241227T170000
DTEND;TZID=America/New_York:20241227T210000
DTSTAMP:20260420T094731
CREATED:20241008T211732Z
LAST-MODIFIED:20241008T211732Z
UID:856-1735318800-1735333200@thecoonclub.com
SUMMARY:Open Trap Shooting
DESCRIPTION:Open Trap Shooting\nEvery Friday Night – Year Round \nOpen to the Public \n5:00 PM – 9:00 PM Weather Permitting \n$6.00 for 25 Clay Birds \nBring your own Shells and Shotgun
URL:https://thecoonclub.com/event/open-trap-shooting-33/
LOCATION:The Coon Club\, 2855 Coon Club Rd\, Hampstead\, MD\, 21074\, United States
CATEGORIES:Shooting Events,Trap Shooting
ATTACH;FMTTYPE=image/jpeg:https://thecoonclub.com/wp-content/uploads/2024/04/Trap-Shooting-1.jpg
END:VEVENT
BEGIN:VEVENT
DTSTART;TZID=America/New_York:20241220T170000
DTEND;TZID=America/New_York:20241220T210000
DTSTAMP:20260420T094731
CREATED:20241008T211708Z
LAST-MODIFIED:20241008T211708Z
UID:854-1734714000-1734728400@thecoonclub.com
SUMMARY:Open Trap Shooting
DESCRIPTION:Open Trap Shooting\nEvery Friday Night – Year Round \nOpen to the Public \n5:00 PM – 9:00 PM Weather Permitting \n$6.00 for 25 Clay Birds \nBring your own Shells and Shotgun
URL:https://thecoonclub.com/event/open-trap-shooting-32/
LOCATION:The Coon Club\, 2855 Coon Club Rd\, Hampstead\, MD\, 21074\, United States
CATEGORIES:Shooting Events,Trap Shooting
ATTACH;FMTTYPE=image/jpeg:https://thecoonclub.com/wp-content/uploads/2024/04/Trap-Shooting-1.jpg
END:VEVENT
BEGIN:VEVENT
DTSTART;TZID=America/New_York:20241206T170000
DTEND;TZID=America/New_York:20241206T210000
DTSTAMP:20260420T094731
CREATED:20241008T211638Z
LAST-MODIFIED:20241008T211638Z
UID:852-1733504400-1733518800@thecoonclub.com
SUMMARY:Open Trap Shooting
DESCRIPTION:Open Trap Shooting\nEvery Friday Night – Year Round \nOpen to the Public \n5:00 PM – 9:00 PM Weather Permitting \n$6.00 for 25 Clay Birds \nBring your own Shells and Shotgun
URL:https://thecoonclub.com/event/open-trap-shooting-31/
LOCATION:The Coon Club\, 2855 Coon Club Rd\, Hampstead\, MD\, 21074\, United States
CATEGORIES:Shooting Events,Trap Shooting
ATTACH;FMTTYPE=image/jpeg:https://thecoonclub.com/wp-content/uploads/2024/04/Trap-Shooting-1.jpg
END:VEVENT
BEGIN:VEVENT
DTSTART;TZID=America/New_York:20241129T170000
DTEND;TZID=America/New_York:20241129T210000
DTSTAMP:20260420T094731
CREATED:20241008T211508Z
LAST-MODIFIED:20241008T211508Z
UID:850-1732899600-1732914000@thecoonclub.com
SUMMARY:Open Trap Shooting
DESCRIPTION:Open Trap Shooting\nEvery Friday Night – Year Round \nOpen to the Public \n5:00 PM – 9:00 PM Weather Permitting \n$6.00 for 25 Clay Birds \nBring your own Shells and Shotgun
URL:https://thecoonclub.com/event/open-trap-shooting-30/
LOCATION:The Coon Club\, 2855 Coon Club Rd\, Hampstead\, MD\, 21074\, United States
CATEGORIES:Shooting Events,Trap Shooting
ATTACH;FMTTYPE=image/jpeg:https://thecoonclub.com/wp-content/uploads/2024/04/Trap-Shooting-1.jpg
END:VEVENT
BEGIN:VEVENT
DTSTART;TZID=America/New_York:20241122T170000
DTEND;TZID=America/New_York:20241122T210000
DTSTAMP:20260420T094731
CREATED:20241008T211439Z
LAST-MODIFIED:20241008T211439Z
UID:848-1732294800-1732309200@thecoonclub.com
SUMMARY:Open Trap Shooting
DESCRIPTION:Open Trap Shooting\nEvery Friday Night – Year Round \nOpen to the Public \n5:00 PM – 9:00 PM Weather Permitting \n$6.00 for 25 Clay Birds \nBring your own Shells and Shotgun
URL:https://thecoonclub.com/event/open-trap-shooting-29/
LOCATION:The Coon Club\, 2855 Coon Club Rd\, Hampstead\, MD\, 21074\, United States
CATEGORIES:Shooting Events,Trap Shooting
ATTACH;FMTTYPE=image/jpeg:https://thecoonclub.com/wp-content/uploads/2024/04/Trap-Shooting-1.jpg
END:VEVENT
BEGIN:VEVENT
DTSTART;TZID=America/New_York:20241115T170000
DTEND;TZID=America/New_York:20241115T210000
DTSTAMP:20260420T094731
CREATED:20241008T211414Z
LAST-MODIFIED:20241008T211414Z
UID:846-1731690000-1731704400@thecoonclub.com
SUMMARY:Open Trap Shooting
DESCRIPTION:Open Trap Shooting\nEvery Friday Night – Year Round \nOpen to the Public \n5:00 PM – 9:00 PM Weather Permitting \n$6.00 for 25 Clay Birds \nBring your own Shells and Shotgun
URL:https://thecoonclub.com/event/open-trap-shooting-28/
LOCATION:The Coon Club\, 2855 Coon Club Rd\, Hampstead\, MD\, 21074\, United States
CATEGORIES:Shooting Events,Trap Shooting
ATTACH;FMTTYPE=image/jpeg:https://thecoonclub.com/wp-content/uploads/2024/04/Trap-Shooting-1.jpg
END:VEVENT
BEGIN:VEVENT
DTSTART;TZID=America/New_York:20241108T170000
DTEND;TZID=America/New_York:20241108T210000
DTSTAMP:20260420T094731
CREATED:20241008T211330Z
LAST-MODIFIED:20241008T211330Z
UID:843-1731085200-1731099600@thecoonclub.com
SUMMARY:Open Trap Shooting
DESCRIPTION:Open Trap Shooting\nEvery Friday Night – Year Round \nOpen to the Public \n5:00 PM – 9:00 PM Weather Permitting \n$6.00 for 25 Clay Birds \nBring your own Shells and Shotgun
URL:https://thecoonclub.com/event/open-trap-shooting-27/
LOCATION:The Coon Club\, 2855 Coon Club Rd\, Hampstead\, MD\, 21074\, United States
CATEGORIES:Shooting Events,Trap Shooting
ATTACH;FMTTYPE=image/jpeg:https://thecoonclub.com/wp-content/uploads/2024/04/Trap-Shooting-1.jpg
END:VEVENT
BEGIN:VEVENT
DTSTART;TZID=America/New_York:20241101T170000
DTEND;TZID=America/New_York:20241101T210000
DTSTAMP:20260420T094731
CREATED:20241008T211301Z
LAST-MODIFIED:20241008T211301Z
UID:842-1730480400-1730494800@thecoonclub.com
SUMMARY:Open Trap Shooting
DESCRIPTION:Open Trap Shooting\nEvery Friday Night – Year Round \nOpen to the Public \n5:00 PM – 9:00 PM Weather Permitting \n$6.00 for 25 Clay Birds \nBring your own Shells and Shotgun
URL:https://thecoonclub.com/event/open-trap-shooting-26/
LOCATION:The Coon Club\, 2855 Coon Club Rd\, Hampstead\, MD\, 21074\, United States
CATEGORIES:Shooting Events,Trap Shooting
ATTACH;FMTTYPE=image/jpeg:https://thecoonclub.com/wp-content/uploads/2024/04/Trap-Shooting-1.jpg
END:VEVENT
BEGIN:VEVENT
DTSTART;TZID=America/New_York:20241025T170000
DTEND;TZID=America/New_York:20241025T210000
DTSTAMP:20260420T094731
CREATED:20240903T154746Z
LAST-MODIFIED:20240903T154746Z
UID:771-1729875600-1729890000@thecoonclub.com
SUMMARY:Open Trap Shooting
DESCRIPTION:Open Trap Shooting\nEvery Friday Night – Year Round \nOpen to the Public \n5:00 PM – 9:00 PM Weather Permitting \n$6.00 for 25 Clay Birds \nBring your own Shells and Shotgun
URL:https://thecoonclub.com/event/open-trap-shooting-25/
LOCATION:The Coon Club\, 2855 Coon Club Rd\, Hampstead\, MD\, 21074\, United States
CATEGORIES:Shooting Events,Trap Shooting
ATTACH;FMTTYPE=image/jpeg:https://thecoonclub.com/wp-content/uploads/2024/04/Trap-Shooting-1.jpg
END:VEVENT
BEGIN:VEVENT
DTSTART;TZID=America/New_York:20241020T080000
DTEND;TZID=America/New_York:20241020T140000
DTSTAMP:20260420T094731
CREATED:20240829T143509Z
LAST-MODIFIED:20240829T143509Z
UID:759-1729411200-1729432800@thecoonclub.com
SUMMARY:Heart of Maryland Trapshooting
DESCRIPTION:Prices:\nTargets: $24.00 for Adults – $12.00 for Juniors\nLewis: $7.00\nHigh Gun: $2.00\nJackpot: $2.00 \nAll shoots begin at 9:00 a.m.\nSign up begins at 8:00 a.m. Entries close at 2:00 p.m. \nHeart of Maryland Website
URL:https://thecoonclub.com/event/heart-of-maryland-trapshooting-2/
LOCATION:The Coon Club\, 2855 Coon Club Rd\, Hampstead\, MD\, 21074\, United States
CATEGORIES:Shooting Events,Trap Shooting
ATTACH;FMTTYPE=image/png:https://thecoonclub.com/wp-content/uploads/2024/08/HOM_Logo_Small.png
END:VEVENT
BEGIN:VEVENT
DTSTART;TZID=America/New_York:20241018T170000
DTEND;TZID=America/New_York:20241018T210000
DTSTAMP:20260420T094731
CREATED:20240903T154704Z
LAST-MODIFIED:20240903T154704Z
UID:769-1729270800-1729285200@thecoonclub.com
SUMMARY:Open Trap Shooting
DESCRIPTION:Open Trap Shooting\nEvery Friday Night – Year Round \nOpen to the Public \n5:00 PM – 9:00 PM Weather Permitting \n$6.00 for 25 Clay Birds \nBring your own Shells and Shotgun
URL:https://thecoonclub.com/event/open-trap-shooting-24/
LOCATION:The Coon Club\, 2855 Coon Club Rd\, Hampstead\, MD\, 21074\, United States
CATEGORIES:Shooting Events,Trap Shooting
ATTACH;FMTTYPE=image/jpeg:https://thecoonclub.com/wp-content/uploads/2024/04/Trap-Shooting-1.jpg
END:VEVENT
END:VCALENDAR