BEGIN:VCALENDAR
VERSION:2.0
PRODID:-//The Coon Club - ECPv6.15.20//NONSGML v1.0//EN
CALSCALE:GREGORIAN
METHOD:PUBLISH
X-ORIGINAL-URL:https://thecoonclub.com
X-WR-CALDESC:Events for The Coon Club
REFRESH-INTERVAL;VALUE=DURATION:PT1H
X-Robots-Tag:noindex
X-PUBLISHED-TTL:PT1H
BEGIN:VTIMEZONE
TZID:America/New_York
BEGIN:DAYLIGHT
TZOFFSETFROM:-0500
TZOFFSETTO:-0400
TZNAME:EDT
DTSTART:20250309T070000
END:DAYLIGHT
BEGIN:STANDARD
TZOFFSETFROM:-0400
TZOFFSETTO:-0500
TZNAME:EST
DTSTART:20251102T060000
END:STANDARD
BEGIN:DAYLIGHT
TZOFFSETFROM:-0500
TZOFFSETTO:-0400
TZNAME:EDT
DTSTART:20260308T070000
END:DAYLIGHT
BEGIN:STANDARD
TZOFFSETFROM:-0400
TZOFFSETTO:-0500
TZNAME:EST
DTSTART:20261101T060000
END:STANDARD
BEGIN:DAYLIGHT
TZOFFSETFROM:-0500
TZOFFSETTO:-0400
TZNAME:EDT
DTSTART:20270314T070000
END:DAYLIGHT
BEGIN:STANDARD
TZOFFSETFROM:-0400
TZOFFSETTO:-0500
TZNAME:EST
DTSTART:20271107T060000
END:STANDARD
END:VTIMEZONE
BEGIN:VEVENT
DTSTART;TZID=America/New_York:20260102T160000
DTEND;TZID=America/New_York:20260102T210000
DTSTAMP:20260419T133751
CREATED:20251121T204009Z
LAST-MODIFIED:20251121T204009Z
UID:1510-1767369600-1767387600@thecoonclub.com
SUMMARY:Open Trap Shooting
DESCRIPTION:Open Trap Shooting\nEvery Friday Night – Year Round \nOpen to the Public \n4:00 PM – 9:00 PM Weather Permitting \n$6.00 for 25 Clay Birds \nBring your own Shells and Shotgun
URL:https://thecoonclub.com/event/open-trap-shooting-86/
LOCATION:The Coon Club\, 2855 Coon Club Rd\, Hampstead\, MD\, 21074\, United States
CATEGORIES:Shooting Events,Trap Shooting
ATTACH;FMTTYPE=image/jpeg:https://thecoonclub.com/wp-content/uploads/2024/04/Trap-Shooting.jpg
END:VEVENT
BEGIN:VEVENT
DTSTART;TZID=America/New_York:20260105T190000
DTEND;TZID=America/New_York:20260105T210000
DTSTAMP:20260419T133751
CREATED:20251121T203743Z
LAST-MODIFIED:20251121T203743Z
UID:1506-1767639600-1767646800@thecoonclub.com
SUMMARY:General Club Meeting
DESCRIPTION:Monthly Club Meeting \nStarting at 7:00 PM
URL:https://thecoonclub.com/event/general-club-meeting-15/
LOCATION:The Coon Club\, 2855 Coon Club Rd\, Hampstead\, MD\, 21074\, United States
CATEGORIES:Club Meeting
ATTACH;FMTTYPE=image/png:https://thecoonclub.com/wp-content/uploads/2024/04/The-Coon-Club-Logo-sm.png
END:VEVENT
BEGIN:VEVENT
DTSTART;TZID=America/New_York:20260108T170000
DTEND;TZID=America/New_York:20260108T200000
DTSTAMP:20260419T133751
CREATED:20251124T150212Z
LAST-MODIFIED:20251124T150212Z
UID:1520-1767891600-1767902400@thecoonclub.com
SUMMARY:Trap In The Dark
DESCRIPTION:Trap in the Dark\nA unique night trap shoot with glow in the dark targets \nOpen to the Public \n5:00 PM – 8:00 PM Weather Permitting \n$7.00 \nBring your own Shells and Shotgun \nhttps://thecoonclub.com/wp-content/uploads/2025/11/IMG_5751.MOV.mp4
URL:https://thecoonclub.com/event/trap-in-the-dark-3/
LOCATION:The Coon Club\, 2855 Coon Club Rd\, Hampstead\, MD\, 21074\, United States
CATEGORIES:Shooting Events,Trap Shooting
ATTACH;FMTTYPE=image/jpeg:https://thecoonclub.com/wp-content/uploads/2025/11/Glow-in-the-Dark.jpg
END:VEVENT
BEGIN:VEVENT
DTSTART;TZID=America/New_York:20260109T160000
DTEND;TZID=America/New_York:20260109T210000
DTSTAMP:20260419T133751
CREATED:20251121T204033Z
LAST-MODIFIED:20251121T204718Z
UID:1512-1767974400-1767992400@thecoonclub.com
SUMMARY:Open Trap Shooting
DESCRIPTION:Open Trap Shooting\nEvery Friday Night – Year Round \nOpen to the Public \n4:00 PM – 9:00 PM Weather Permitting \n$6.00 for 25 Clay Birds \nBring your own Shells and Shotgun
URL:https://thecoonclub.com/event/open-trap-shooting-87/
LOCATION:The Coon Club\, 2855 Coon Club Rd\, Hampstead\, MD\, 21074\, United States
CATEGORIES:Shooting Events,Trap Shooting
ATTACH;FMTTYPE=image/jpeg:https://thecoonclub.com/wp-content/uploads/2024/04/Trap-Shooting.jpg
END:VEVENT
BEGIN:VEVENT
DTSTART;TZID=America/New_York:20260112T190000
DTEND;TZID=America/New_York:20260112T210000
DTSTAMP:20260419T133751
CREATED:20251121T203415Z
LAST-MODIFIED:20251201T140301Z
UID:1498-1768244400-1768251600@thecoonclub.com
SUMMARY:Line Dancing
DESCRIPTION:Line Dancing at The Coon Club\n 
URL:https://thecoonclub.com/event/line-dancing-59/
LOCATION:The Coon Club\, 2855 Coon Club Rd\, Hampstead\, MD\, 21074\, United States
CATEGORIES:Line Dancing
ATTACH;FMTTYPE=image/jpeg:https://thecoonclub.com/wp-content/uploads/2024/05/LineDance-2.jpg
END:VEVENT
BEGIN:VEVENT
DTSTART;TZID=America/New_York:20260116T160000
DTEND;TZID=America/New_York:20260116T210000
DTSTAMP:20260419T133751
CREATED:20251121T204827Z
LAST-MODIFIED:20251121T204827Z
UID:1514-1768579200-1768597200@thecoonclub.com
SUMMARY:Open Trap Shooting
DESCRIPTION:Open Trap Shooting\nEvery Friday Night – Year Round \nOpen to the Public \n4:00 PM – 9:00 PM Weather Permitting \n$6.00 for 25 Clay Birds \nBring your own Shells and Shotgun
URL:https://thecoonclub.com/event/open-trap-shooting-88/
LOCATION:The Coon Club\, 2855 Coon Club Rd\, Hampstead\, MD\, 21074\, United States
CATEGORIES:Shooting Events,Trap Shooting
ATTACH;FMTTYPE=image/jpeg:https://thecoonclub.com/wp-content/uploads/2024/04/Trap-Shooting.jpg
END:VEVENT
BEGIN:VEVENT
DTSTART;TZID=America/New_York:20260117T170000
DTEND;TZID=America/New_York:20260117T220000
DTSTAMP:20260419T133751
CREATED:20250805T174749Z
LAST-MODIFIED:20251105T181816Z
UID:1300-1768669200-1768687200@thecoonclub.com
SUMMARY:Salem Bottom Boys "Bluegrass"
DESCRIPTION:**BLUEGRASS MUSIC FANS**\nJanuary 17 2026\, Salem Bottom Boys & Dinner Buffet at the Coon Club.  Only $25.  Great music\, Delicious food and a foot stomp’n\, toe tapp’n fun evening.  Always open to the public.  21+ Only. \nTheir Website \n \nContacts for Tickets:\nBrad – 410- 984-5289\nBernie – 410-277-0772\nTony – 443-821-9040
URL:https://thecoonclub.com/event/salem-bottom-boys-bluegrass-2/
LOCATION:The Coon Club\, 2855 Coon Club Rd\, Hampstead\, MD\, 21074\, United States
CATEGORIES:Entertainment
ATTACH;FMTTYPE=image/jpeg:https://thecoonclub.com/wp-content/uploads/2024/09/SalemBottomBoys.jpg
END:VEVENT
BEGIN:VEVENT
DTSTART;TZID=America/New_York:20260119T190000
DTEND;TZID=America/New_York:20260119T210000
DTSTAMP:20260419T133751
CREATED:20251121T203517Z
LAST-MODIFIED:20251121T203517Z
UID:1502-1768849200-1768856400@thecoonclub.com
SUMMARY:Line Dancing
DESCRIPTION:Line Dancing at The Coon Club\n 
URL:https://thecoonclub.com/event/line-dancing-61/
LOCATION:The Coon Club\, 2855 Coon Club Rd\, Hampstead\, MD\, 21074\, United States
CATEGORIES:Line Dancing
ATTACH;FMTTYPE=image/jpeg:https://thecoonclub.com/wp-content/uploads/2024/05/LineDance-2.jpg
END:VEVENT
BEGIN:VEVENT
DTSTART;TZID=America/New_York:20260123T160000
DTEND;TZID=America/New_York:20260123T210000
DTSTAMP:20260419T133751
CREATED:20251121T204956Z
LAST-MODIFIED:20251121T204956Z
UID:1516-1769184000-1769202000@thecoonclub.com
SUMMARY:Open Trap Shooting
DESCRIPTION:Open Trap Shooting\nEvery Friday Night – Year Round \nOpen to the Public \n4:00 PM – 9:00 PM Weather Permitting \n$6.00 for 25 Clay Birds \nBring your own Shells and Shotgun
URL:https://thecoonclub.com/event/open-trap-shooting-89/
LOCATION:The Coon Club\, 2855 Coon Club Rd\, Hampstead\, MD\, 21074\, United States
CATEGORIES:Shooting Events,Trap Shooting
ATTACH;FMTTYPE=image/jpeg:https://thecoonclub.com/wp-content/uploads/2024/04/Trap-Shooting.jpg
END:VEVENT
BEGIN:VEVENT
DTSTART;TZID=America/New_York:20260126T190000
DTEND;TZID=America/New_York:20260126T210000
DTSTAMP:20260419T133751
CREATED:20251121T203544Z
LAST-MODIFIED:20251121T203544Z
UID:1504-1769454000-1769461200@thecoonclub.com
SUMMARY:Line Dancing
DESCRIPTION:Line Dancing at The Coon Club\n 
URL:https://thecoonclub.com/event/line-dancing-62/
LOCATION:The Coon Club\, 2855 Coon Club Rd\, Hampstead\, MD\, 21074\, United States
CATEGORIES:Line Dancing
ATTACH;FMTTYPE=image/jpeg:https://thecoonclub.com/wp-content/uploads/2024/05/LineDance-2.jpg
END:VEVENT
BEGIN:VEVENT
DTSTART;TZID=America/New_York:20260130T160000
DTEND;TZID=America/New_York:20260130T210000
DTSTAMP:20260419T133751
CREATED:20251121T205024Z
LAST-MODIFIED:20251121T205024Z
UID:1518-1769788800-1769806800@thecoonclub.com
SUMMARY:Open Trap Shooting
DESCRIPTION:Open Trap Shooting\nEvery Friday Night – Year Round \nOpen to the Public \n4:00 PM – 9:00 PM Weather Permitting \n$6.00 for 25 Clay Birds \nBring your own Shells and Shotgun
URL:https://thecoonclub.com/event/open-trap-shooting-90/
LOCATION:The Coon Club\, 2855 Coon Club Rd\, Hampstead\, MD\, 21074\, United States
CATEGORIES:Shooting Events,Trap Shooting
ATTACH;FMTTYPE=image/jpeg:https://thecoonclub.com/wp-content/uploads/2024/04/Trap-Shooting.jpg
END:VEVENT
BEGIN:VEVENT
DTSTART;TZID=America/New_York:20260131T190000
DTEND;TZID=America/New_York:20260201T003000
DTSTAMP:20260419T133751
CREATED:20251224T133110Z
LAST-MODIFIED:20251224T153548Z
UID:1559-1769886000-1769905800@thecoonclub.com
SUMMARY:11th Annual "Shrimp Dance" w/ Smokin Crow
DESCRIPTION:11th Annual Shrimp Dance w/ Smokin Crow\nJanuary\, 31\, 2026\, Smokin’ Crow “Southern Rock\, Outlaw Country\, Classic Hard Rock” at The Coon Club.   Delicious Steamed Shrimp\, Shrimp Salad\, Sandwiches and More. Large Selection of Cold BEER\, WINE COOLERS & SELTZERS.   Doors open at 7:00 pm\, music 8:30-12:30 pm. \nAlways open to the public.  21+ Only. \nSmokin’ Crow Facebook Page
URL:https://thecoonclub.com/event/11th-annual-shrimp-dance/
LOCATION:The Coon Club\, 2855 Coon Club Rd\, Hampstead\, MD\, 21074\, United States
CATEGORIES:Entertainment
ATTACH;FMTTYPE=image/jpeg:https://thecoonclub.com/wp-content/uploads/2024/08/Smokin-Crow.jpg
END:VEVENT
END:VCALENDAR